Workbook

Sheet 2026.7
A1: 46204
A2: R | B2: Z | C2: クラブ名 | D2: 7月 | S2: 会員移動（期首～） | AB2: LCIF寄付 | AD2: 献血（当月） | AI2: 献血（累計） | AN2: 献眼（当月） | AP2: 献眼（累計） | AT2: 薬物乱用防止（当月） | AX2: 例会出席率
D3: 当月 | F3: 当月末 | G3: 内訳 | S3: (2026.6.30) | T3: 入会 | W3: 退会 | Z3: 当月末 | AA3: 増減 | AI3: 件数 | AJ3: 200CC（人） | AK3: 400CC（人） | AL3: 成分（人） | AM3: 数量（CC）
D4: 入会数 | E4: 退会数 | G4: 正会員 | H4: 左記「正会員」数には下記の会員種別人数を含む | N4: 特典会員 | P4: （内）女性会員 | S4: 前期末 | AB4: 当月 | AD4: 件数 | AE4: 200CC | AF4: 数量（CC） | AG4: 400CC | AH4: 数量（CC） | AN4: 登録 | AO4: 提供 | AP4: 登録 | AR4: 提供 | AT4: 回数 | AU4: 活動時間 | AV4: 対象人数 | AW4: メンバー 参加人数
H5: 不在 | I5: 名誉 | J5: 終身 | K5: 優待 | L5: 賛助 | M5: 支部 | N5: 家族会員 | O5: 学生会員 | P5: 正会員 | Q5: 家族会員 | R5: 学生会員 | T5: 転入 | U5: 再入 | V5: 新入 | W5: 転出 | X5: 死亡 | Y5: 退会 | AB5: 金額（円） | AC5: 金額（ドル） | AE5: （人） | AF5: 200 | AG5: （人） | AH5: 400 | AK5: 200 | AM5: 400 | AP5: 会員 | AQ5: 一般 | AR5: 会員 | AS5: 一般 | AU5: （分）
A6: 1 | B6: 1 | C6: 日立 | D6: 0 | E6: 0 | F6: 22 | G6: 15 | H6: 0 | I6: 0 | J6: 1 | K6: 0 | L6: 2 | M6: 0 | N6: 7 | O6: 0 | P6: 3 | Q6: 6 | R6: 0 | S6: 22 | T6: 0 | U6: 0 | V6: 0 | W6: 0 | X6: 0 | Y6: 0 | Z6: 22 | AA6: 0 | AB6: 455890 | AC6: 2818.2119 | AD6: 0 | AE6: 0 | AF6: =AE6*$AF$5 -> 0 | AG6: 0 | AH6: =AG6*$AH$5 -> 0 | AI6: 0 | AJ6: 0 | AK6: 0 | AL6: 0 | AM6: 0 | AN6: 0 | AO6: 0 | AT6: 0 | AU6: 0 | AV6: 0 | AW6: 0 | AX6: 0
C7: 高萩 | D7: 0 | E7: 0 | F7: 25 | G7: 24 | H7: 0 | I7: 0 | J7: 0 | K7: 0 | L7: 0 | M7: 0 | N7: 1 | O7: 0 | P7: 2 | Q7: 1 | R7: 0 | S7: 25 | T7: 0 | U7: 0 | V7: 0 | W7: 0 | X7: 0 | Y7: 0 | Z7: 25 | AA7: 0 | AB7: 0 | AC7: 0 | AD7: 1 | AE7: 3 | AF7: =AE7*$AF$5 -> 600 | AG7: 11 | AH7: =AG7*$AH$5 -> 4400 | AI7: 0 | AJ7: 0 | AK7: 0 | AL7: 0 | AM7: 0 | AN7: 0 | AO7: 0 | AT7: 0 | AU7: 0 | AV7: 0 | AW7: 0 | AX7: 0
C8: 日立中央 | D8: 2 | E8: 0 | F8: 33 | G8: 23 | H8: 0 | I8: 0 | J8: 0 | K8: 0 | L8: 0 | M8: 0 | N8: 10 | O8: 0 | P8: 1 | Q8: 8 | R8: 0 | S8: 31 | T8: 0 | U8: 1 | V8: 1 | W8: 0 | X8: 0 | Y8: 0 | Z8: 33 | AA8: 2 | AB8: 1132362 | AC8: 7000.0133 | AD8: 1 | AE8: 1 | AF8: =AE8*$AF$5 -> 200 | AG8: 61 | AH8: =AG8*$AH$5 -> 24400 | AI8: 0 | AJ8: 0 | AK8: 0 | AL8: 0 | AM8: 0 | AN8: 0 | AO8: 0 | AT8: 1 | AU8: 120 | AV8: 37 | AW8: 2 | AX8: 0
C9: 日立桜 | D9: 1 | E9: 0 | F9: 36 | G9: 27 | H9: 0 | I9: 0 | J9: 1 | K9: 0 | L9: 0 | M9: 0 | N9: 9 | O9: 0 | P9: 0 | Q9: 8 | R9: 0 | S9: 35 | T9: 0 | U9: 0 | V9: 1 | W9: 0 | X9: 0 | Y9: 0 | Z9: 36 | AA9: 1 | AB9: 0 | AC9: 0 | AD9: 1 | AE9: 1 | AF9: =AE9*$AF$5 -> 200 | AG9: 53 | AH9: =AG9*$AH$5 -> 21200 | AI9: 0 | AJ9: 0 | AK9: 0 | AL9: 0 | AM9: 0 | AN9: 0 | AO9: 0 | AT9: 0 | AU9: 0 | AV9: 0 | AW9: 0 | AX9: 0
C10: 日立きらら | D10: 0 | E10: 0 | F10: 33 | G10: 21 | H10: 0 | I10: 0 | J10: 0 | K10: 0 | L10: 0 | M10: 0 | N10: 12 | O10: 0 | P10: 5 | Q10: 10 | R10: 0 | S10: 33 | T10: 0 | U10: 0 | V10: 0 | W10: 0 | X10: 0 | Y10: 0 | Z10: 33 | AA10: 0 | AB10: 0 | AC10: 0 | AD10: 2 | AE10: 0 | AF10: =AE10*$AF$5 -> 0 | AG10: 87 | AH10: =AG10*$AH$5 -> 34800 | AI10: 0 | AJ10: 0 | AK10: 0 | AL10: 0 | AM10: 0 | AN10: 0 | AO10: 0 | AT10: 0 | AU10: 0 | AV10: 0 | AW10: 0 | AX10: 0
C11: 北茨城桜 | D11: 0 | E11: 0 | F11: 19 | G11: 17 | H11: 0 | I11: 0 | J11: 0 | K11: 0 | L11: 0 | M11: 0 | N11: 2 | O11: 0 | P11: 3 | Q11: 2 | R11: 0 | S11: 19 | T11: 0 | U11: 0 | V11: 0 | W11: 0 | X11: 0 | Y11: 0 | Z11: 19 | AA11: 0 | AB11: 0 | AC11: 0 | AD11: 0 | AE11: 0 | AF11: =AE11*$AF$5 -> 0 | AG11: 0 | AH11: =AG11*$AH$5 -> 0 | AI11: 0 | AJ11: 0 | AK11: 0 | AL11: 0 | AM11: 0 | AN11: 0 | AO11: 0 | AT11: 0 | AU11: 0 | AV11: 0 | AW11: 0 | AX11: 0
B12: 2 | C12: 勝田 | D12: 1 | E12: 0 | F12: 57 | G12: 53 | H12: 0 | I12: 0 | J12: 2 | K12: 0 | L12: 1 | M12: 0 | N12: 4 | O12: 0 | P12: 6 | Q12: 3 | R12: 0 | S12: 56 | T12: 0 | U12: 0 | V12: 1 | W12: 0 | X12: 0 | Y12: 0 | Z12: 57 | AA12: 1 | AB12: 0 | AC12: 0 | AD12: 0 | AE12: 0 | AF12: =AE12*$AF$5 -> 0 | AG12: 0 | AH12: =AG12*$AH$5 -> 0 | AI12: 0 | AJ12: 0 | AK12: 0 | AL12: 0 | AM12: 0 | AN12: 0 | AO12: 0 | AT12: 0 | AU12: 0 | AV12: 0 | AW12: 0 | AX12: 0
C13: 那珂湊 | D13: 0 | E13: 0 | F13: 17 | G13: 13 | H13: 0 | I13: 0 | J13: 0 | K13: 0 | L13: 0 | M13: 0 | N13: 4 | O13: 0 | P13: 0 | Q13: 4 | R13: 0 | S13: 17 | T13: 0 | U13: 0 | V13: 0 | W13: 0 | X13: 0 | Y13: 0 | Z13: 17 | AA13: 0 | AB13: 0 | AC13: 0 | AD13: 0 | AE13: 0 | AF13: =AE13*$AF$5 -> 0 | AG13: 0 | AH13: =AG13*$AH$5 -> 0 | AI13: 0 | AJ13: 0 | AK13: 0 | AL13: 0 | AM13: 0 | AN13: 0 | AO13: 0 | AT13: 0 | AU13: 0 | AV13: 0 | AW13: 0 | AX13: 0
C14: 東海 | D14: 2 | E14: 0 | F14: 59 | G14: 59 | H14: 0 | I14: 0 | J14: 2 | K14: 0 | L14: 1 | M14: 0 | N14: 0 | O14: 0 | P14: 9 | Q14: 0 | R14: 0 | S14: 57 | T14: 0 | U14: 0 | V14: 2 | W14: 0 | X14: 0 | Y14: 0 | Z14: 59 | AA14: 2 | AB14: 0 | AC14: 0 | AD14: 1 | AE14: 2 | AF14: =AE14*$AF$5 -> 400 | AG14: 37 | AH14: =AG14*$AH$5 -> 14800 | AI14: 0 | AJ14: 0 | AK14: 0 | AL14: 0 | AM14: 0 | AN14: 0 | AO14: 0 | AT14: 0 | AU14: 0 | AV14: 0 | AW14: 0 | AX14: 0
C15: 勝田グリーン | D15: 0 | E15: 0 | F15: 18 | G15: 17 | H15: 0 | I15: 0 | J15: 0 | K15: 1 | L15: 0 | M15: 0 | N15: 1 | O15: 0 | P15: 1 | Q15: 1 | R15: 0 | S15: 18 | T15: 0 | U15: 0 | V15: 0 | W15: 0 | X15: 0 | Y15: 0 | Z15: 18 | AA15: 0 | AB15: 0 | AC15: 0 | AD15: 1 | AE15: 0 | AF15: =AE15*$AF$5 -> 0 | AG15: 22 | AH15: =AG15*$AH$5 -> 8800 | AI15: 0 | AJ15: 0 | AK15: 0 | AL15: 0 | AM15: 0 | AN15: 0 | AO15: 0 | AT15: 0 | AU15: 0 | AV15: 0 | AW15: 0 | AX15: 0
C16: ひたちなかベスト | D16: 1 | E16: 0 | F16: 43 | G16: 43 | H16: 0 | I16: 0 | J16: 0 | K16: 0 | L16: 0 | M16: 0 | N16: 0 | O16: 0 | P16: 7 | Q16: 0 | R16: 0 | S16: 42 | T16: 0 | U16: 0 | V16: 1 | W16: 0 | X16: 0 | Y16: 0 | Z16: 43 | AA16: 1 | AB16: 0 | AC16: 0 | AD16: 0 | AE16: 0 | AF16: =AE16*$AF$5 -> 0 | AH16: =AG16*$AH$5 -> 0 | AI16: 0 | AJ16: 0 | AK16: 0 | AL16: 0 | AM16: 0 | AN16: 0 | AO16: 0 | AT16: 0 | AU16: 0 | AV16: 0 | AW16: 0 | AX16: 0
B17: 3 | C17: 常陸太田 | D17: 1 | E17: 0 | F17: 46 | G17: 39 | H17: 0 | I17: 0 | J17: 0 | K17: 1 | L17: 6 | M17: 0 | N17: 7 | O17: 0 | P17: 3 | Q17: 4 | R17: 0 | S17: 45 | T17: 0 | U17: 0 | V17: 1 | W17: 0 | X17: 0 | Y17: 0 | Z17: 46 | AA17: 1 | AB17: 0 | AC17: 0 | AD17: 0 | AE17: 0 | AF17: =AE17*$AF$5 -> 0 | AG17: 0 | AH17: =AG17*$AH$5 -> 0 | AI17: 0 | AJ17: 0 | AK17: 0 | AL17: 0 | AM17: 0 | AN17: 0 | AO17: 0 | AT17: 0 | AU17: 0 | AV17: 0 | AW17: 0 | AX17: 0
C18: 常陸大宮 | D18: 0 | E18: 0 | F18: 27 | G18: 26 | H18: 0 | I18: 0 | J18: 0 | K18: 0 | L18: 0 | M18: 0 | N18: 1 | O18: 0 | P18: 2 | Q18: 0 | R18: 0 | S18: 27 | T18: 0 | U18: 0 | V18: 0 | W18: 0 | X18: 0 | Y18: 0 | Z18: 27 | AA18: 0 | AB18: 0 | AC18: 0 | AD18: 2 | AE18: 0 | AF18: =AE18*$AF$5 -> 0 | AG18: 77 | AH18: =AG18*$AH$5 -> 30800 | AI18: 0 | AJ18: 0 | AK18: 0 | AL18: 0 | AM18: 0 | AN18: 0 | AO18: 0 | AT18: 0 | AU18: 0 | AV18: 0 | AW18: 0 | AX18: 0
C19: 那珂 | D19: 0 | E19: 0 | F19: 27 | G19: 23 | H19: 0 | I19: 0 | J19: 0 | K19: 0 | L19: 1 | M19: 5 | N19: 4 | O19: 0 | P19: 4 | Q19: 3 | R19: 0 | S19: 27 | T19: 0 | U19: 0 | V19: 0 | W19: 0 | X19: 0 | Y19: 0 | Z19: 27 | AA19: 0 | AB19: 48530 | AC19: 300.00181 | AD19: 3 | AE19: 1 | AF19: =AE19*$AF$5 -> 200 | AG19: 96 | AH19: =AG19*$AH$5 -> 38400 | AI19: 0 | AJ19: 0 | AK19: 0 | AL19: 0 | AM19: 0 | AN19: 0 | AO19: 0 | AT19: 0 | AU19: 0 | AV19: 0 | AW19: 0 | AX19: 0
C20: 常陸大子 | D20: 0 | E20: 1 | F20: 33 | G20: 31 | H20: 0 | I20: 0 | J20: 0 | K20: 2 | L20: 0 | M20: 0 | N20: 2 | O20: 0 | P20: 0 | Q20: 1 | R20: 0 | S20: 34 | T20: 0 | U20: 0 | V20: 0 | W20: 0 | X20: 0 | Y20: 1 | Z20: 33 | AA20: -1 | AB20: 0 | AC20: 0 | AD20: 0 | AE20: 0 | AF20: =AE20*$AF$5 -> 0 | AG20: 0 | AH20: =AG20*$AH$5 -> 0 | AI20: 0 | AJ20: 0 | AK20: 0 | AL20: 0 | AM20: 0 | AN20: 0 | AO20: 0 | AT20: 0 | AU20: 0 | AV20: 0 | AW20: 0 | AX20: 0
A21: R合計 | D21: =SUM(D6:D20) -> 8 | E21: =SUM(E6:E20) -> 1 | F21: =SUM(F6:F20) -> 495 | G21: =SUM(G6:G20) -> 431 | H21: =SUM(H6:H20) -> 0 | I21: =SUM(I6:I20) -> 0 | J21: =SUM(J6:J20) -> 6 | K21: =SUM(K6:K20) -> 4 | ... AX21: =SUM(AX6:AX20) -> 0
A22: 2 | B22: 1 | C22: 水戸 | D22: 0 | E22: 0 | F22: 59 | G22: 56 | H22: 4 | I22: 0 | J22: 3 | K22: 0 | L22: 0 | M22: 0 | N22: 3 | O22: 0 | P22: 1 | Q22: 2 | R22: 0 | S22: 59 | T22: 0 | U22: 0 | V22: 0 | W22: 0 | X22: 0 | Y22: 0 | Z22: 59 | AA22: 0 | AB22: 647064 | AC22: 4000.0076 | AD22: 1 | AE22: 3 | AF22: =AE22*$AF$5 -> 600 | AG22: 35 | AH22: =AG22*$AH$5 -> 14000 | AI22: 0 | AJ22: 0 | AK22: 0 | AL22: 0 | AM22: 0 | AN22: 0 | AO22: 0 | AT22: 1 | AU22: 50 | AV22: 149 | AW22: 6 | AX22: 0
C23: 水戸葵 | D23: 0 | E23: 0 | F23: 93 | G23: 85 | H23: 0 | I23: 0 | J23: 0 | K23: 0 | L23: 4 | M23: 16 | N23: 8 | O23: 0 | P23: 7 | Q23: 7 | R23: 0 | S23: 93 | T23: 0 | U23: 0 | V23: 0 | W23: 0 | X23: 0 | Y23: 0 | Z23: 93 | AA23: 0 | AB23: 0 | AC23: 0 | AD23: 0 | AE23: 0 | AF23: =AE23*$AF$5 -> 0 | AG23: 0 | AH23: =AG23*$AH$5 -> 0 | AI23: 0 | AJ23: 0 | AK23: 0 | AL23: 0 | AM23: 0 | AN23: 0 | AO23: 0 | AT23: 0 | AU23: 0 | AV23: 0 | AW23: 0 | AX23: 0
C24: 水戸西 | D24: 0 | E24: 0 | F24: 62 | G24: 62 | H24: 0 | I24: 0 | J24: 3 | K24: 0 | L24: 0 | M24: 0 | N24: 0 | O24: 0 | P24: 0 | Q24: 0 | R24: 0 | S24: 62 | T24: 0 | U24: 0 | V24: 0 | W24: 0 | X24: 0 | Y24: 0 | Z24: 62 | AA24: 0 | AB24: 0 | AC24: 0 | AD24: 0 | AE24: 0 | AF24: =AE24*$AF$5 -> 0 | AG24: 0 | AH24: =AG24*$AH$5 -> 0 | AI24: 0 | AJ24: 0 | AK24: 0 | AL24: 0 | AM24: 0 | AN24: 0 | AO24: 0 | AT24: 0 | AU24: 0 | AV24: 0 | AW24: 0 | AX24: 0
C25: 水戸東 | D25: 0 | E25: 1 | F25: 29 | G25: 28 | H25: 1 | I25: 1 | J25: 0 | K25: 4 | L25: 3 | M25: 0 | N25: 1 | O25: 0 | P25: 1 | Q25: 1 | R25: 0 | S25: 30 | T25: 0 | U25: 0 | V25: 0 | W25: 0 | X25: 0 | Y25: 1 | Z25: 29 | AA25: -1 | AB25: 0 | AC25: 0 | AD25: 1 | AE25: 10 | AF25: =AE25*$AF$5 -> 2000 | AG25: 29 | AH25: =AG25*$AH$5 -> 11600 | AI25: 0 | AJ25: 0 | AK25: 0 | AL25: 0 | AM25: 0 | AN25: 0 | AO25: 0 | AT25: 0 | AU25: 0 | AV25: 0 | AW25: 0 | AX25: 0
C26: 水戸南 | D26: 0 | E26: 0 | F26: 23 | G26: 18 | H26: 0 | I26: 0 | J26: 0 | K26: 0 | L26: 0 | M26: 0 | N26: 5 | O26: 0 | P26: 0 | Q26: 4 | R26: 0 | S26: 23 | T26: 0 | U26: 0 | V26: 0 | W26: 0 | X26: 0 | Y26: 0 | Z26: 23 | AA26: 0 | AB26: 0 | AC26: 0 | AD26: 0 | AE26: 0 | AF26: =AE26*$AF$5 -> 0 | AG26: 0 | AH26: =AG26*$AH$5 -> 0 | AI26: 0 | AJ26: 0 | AK26: 0 | AL26: 0 | AM26: 0 | AN26: 0 | AO26: 0 | AT26: 1 | AU26: 60 | AV26: 45 | AW26: 2 | AX26: 0
C27: 水戸北 | D27: 0 | E27: 0 | F27: 19 | G27: 19 | H27: 2 | I27: 0 | J27: 0 | K27: 0 | L27: 4 | M27: 0 | N27: 0 | O27: 0 | P27: 2 | Q27: 0 | R27: 0 | S27: 19 | T27: 0 | U27: 0 | V27: 0 | W27: 0 | X27: 0 | Y27: 0 | Z27: 19 | AA27: 0 | AB27: 0 | AC27: 0 | AD27: 1 | AE27: 21 | AF27: =AE27*$AF$5 -> 4200 | AG27: 21 | AH27: =AG27*$AH$5 -> 8400 | AI27: 0 | AJ27: 0 | AK27: 0 | AL27: 0 | AM27: 0 | AN27: 0 | AO27: 0 | AT27: 0 | AU27: 0 | AV27: 0 | AW27: 0 | AX27: 0
C28: 水戸チアフル | D28: 0 | E28: 0 | F28: 24 | G28: 24 | H28: 0 | I28: 0 | J28: 0 | K28: 0 | L28: 1 | M28: 5 | N28: 0 | O28: 0 | P28: 24 | Q28: 0 | R28: 0 | S28: 24 | T28: 0 | U28: 0 | V28: 0 | W28: 0 | X28: 0 | Y28: 0 | Z28: 24 | AA28: 0 | AB28: 0 | AC28: 0 | AD28: 0 | AE28: 0 | AF28: =AE28*$AF$5 -> 0 | AG28: 0 | AH28: =AG28*$AH$5 -> 0 | AI28: 0 | AJ28: 0 | AK28: 0 | AL28: 0 | AM28: 0 | AN28: 0 | AO28: 0 | AT28: 1 | AU28: 50 | AV28: 252 | AW28: 3 | AX28: 0
B29: 2 | C29: 大洗 | D29: 0 | E29: 0 | F29: 16 | G29: 16 | H29: 0 | I29: 0 | J29: 1 | K29: 0 | L29: 3 | M29: 0 | N29: 0 | O29: 0 | P29: 0 | Q29: 0 | R29: 0 | S29: 16 | T29: 0 | U29: 0 | V29: 0 | W29: 0 | X29: 0 | Y29: 0 | Z29: 16 | AA29: 0 | AB29: 0 | AC29: 0 | AD29: 1 | AE29: 3 | AF29: =AE29*$AF$5 -> 600 | AG29: 20 | AH29: =AG29*$AH$5 -> 8000 | AI29: 0 | AJ29: 0 | AK29: 0 | AL29: 0 | AM29: 0 | AN29: 0 | AO29: 0 | AT29: 0 | AU29: 0 | AV29: 0 | AW29: 0 | AX29: 0
C30: 鹿島 | D30: 2 | E30: 0 | F30: 130 | G30: 82 | H30: 0 | I30: 1 | J30: 0 | K30: 0 | L30: 0 | M30: 0 | N30: 48 | O30: 0 | P30: 9 | Q30: 32 | R30: 0 | S30: 128 | T30: 0 | U30: 0 | V30: 2 | W30: 0 | X30: 0 | Y30: 0 | Z30: 130 | AA30: 2 | AB30: 647064 | AC30: 4000.0076 | AD30: 2 | AE30: 2 | AF30: =AE30*$AF$5 -> 400 | AG30: 89 | AH30: =AG30*$AH$5 -> 35600 | AI30: 0 | AJ30: 0 | AK30: 0 | AL30: 0 | AM30: 0 | AN30: 0 | AO30: 0 | AT30: 0 | AU30: 0 | AV30: 0 | AW30: 0 | AX30: 0
C31: 鉾田 | D31: 0 | E31: 0 | F31: 58 | G31: 47 | H31: 0 | I31: 0 | J31: 3 | K31: 0 | L31: 0 | M31: 0 | N31: 11 | O31: 0 | P31: 8 | Q31: 8 | R31: 0 | S31: 58 | T31: 0 | U31: 0 | V31: 0 | W31: 0 | X31: 0 | Y31: 0 | Z31: 58 | AA31: 0 | AB31: 1132361 | AC31: 7000.0071 | AD31: 1 | AE31: 1 | AF31: =AE31*$AF$5 -> 200 | AG31: 16 | AH31: =AG31*$AH$5 -> 6400 | AI31: 0 | AJ31: 0 | AK31: 0 | AL31: 0 | AM31: 0 | AN31: 0 | AO31: 0 | AT31: 1 | AU31: 60 | AV31: 70 | AW31: 10 | AX31: 0
C32: 潮来 | D32: 1 | E32: 0 | F32: 102 | G32: 85 | H32: 0 | I32: 0 | J32: 0 | K32: 0 | L32: 0 | M32: 0 | N32: 17 | O32: 0 | P32: 8 | Q32: 15 | R32: 0 | S32: 101 | T32: 0 | U32: 0 | V32: 1 | W32: 0 | X32: 0 | Y32: 0 | Z32: 102 | AA32: 1 | AB32: 0 | AC32: 0 | AD32: 1 | AE32: 2 | AF32: =AE32*$AF$5 -> 400 | AG32: 24 | AH32: =AG32*$AH$5 -> 9600 | AI32: 0 | AJ32: 0 | AK32: 0 | AL32: 0 | AM32: 0 | AN32: 0 | AO32: 0 | AT32: 0 | AU32: 0 | AV32: 0 | AW32: 0 | AX32: 0
C33: 神栖 | D33: 2 | E33: 0 | F33: 111 | G33: 95 | H33: 0 | I33: 0 | J33: 0 | K33: 0 | L33: 0 | M33: 0 | N33: 16 | O33: 0 | P33: 11 | Q33: 8 | R33: 0 | S33: 109 | T33: 0 | U33: 0 | V33: 2 | W33: 0 | X33: 0 | Y33: 0 | Z33: 111 | AA33: 2 | AB33: 161766 | AC33: 1000.0019 | AD33: 0 | AE33: 0 | AF33: =AE33*$AF$5 -> 0 | AG33: 0 | AH33: =AG33*$AH$5 -> 0 | AI33: 0 | AJ33: 0 | AK33: 0 | AL33: 0 | AM33: 0 | AN33: 0 | AO33: 0 | AT33: 1 | AU33: 50 | AV33: 54 | AW33: 10 | AX33: 0
C34: 行方 | D34: 1 | E34: 0 | F34: 67 | G34: 55 | H34: 0 | I34: 0 | J34: 0 | K34: 0 | L34: 0 | M34: 0 | N34: 12 | O34: 0 | P34: 0 | Q34: 12 | R34: 0 | S34: 66 | T34: 0 | U34: 0 | V34: 1 | W34: 0 | X34: 0 | Y34: 0 | Z34: 67 | AA34: 1 | AB34: 0 | AC34: 0 | AD34: 0 | AE34: 0 | AF34: =AE34*$AF$5 -> 0 | AG34: 0 | AH34: =AG34*$AH$5 -> 0 | AI34: 0 | AJ34: 0 | AK34: 0 | AL34: 0 | AM34: 0 | AN34: 1 | AO34: 0 | AT34: 0 | AU34: 0 | AV34: 0 | AW34: 0 | AX34: 0
A35: R合計 | D35: =SUM(D22:D34) -> 6 | E35: =SUM(E22:E34) -> 1 | F35: =SUM(F22:F34) -> 793 | G35: =SUM(G22:G34) -> 672 | H35: =SUM(H22:H34) -> 7 | I35: =SUM(I22:I34) -> 2 | J35: =SUM(J22:J34) -> 10 | K35: =SUM(K22:K34) -> 4 | ... AW35: =SUM(AW22:AW34) -> 31
A36: 3 | B36: 1 | C36: 石岡 | D36: 5 | E36: 0 | F36: 42 | G36: 41 | H36: 0 | I36: 0 | J36: 0 | K36: 0 | L36: 0 | M36: 0 | N36: 1 | O36: 0 | P36: 6 | Q36: 1 | R36: 0 | S36: 37 | T36: 0 | U36: 0 | V36: 5 | W36: 0 | X36: 0 | Y36: 0 | Z36: 42 | AA36: 5 | AB36: 0 | AC36: 0 | AD36: 1 | AE36: 4 | AF36: =AE36*$AF$5 -> 800 | AG36: 59 | AH36: =AG36*$AH$5 -> 23600 | AI36: 0 | AJ36: 0 | AK36: 0 | AL36: 0 | AM36: 0 | AN36: 0 | AO36: 0 | AT36: 1 | AU36: 40 | AV36: 93 | AW36: 10 | AX36: 0
C37: 八郷 | D37: 0 | E37: 0 | F37: 16 | G37: 12 | H37: 0 | I37: 0 | J37: 0 | K37: 0 | L37: 0 | M37: 0 | N37: 4 | O37: 0 | P37: 0 | Q37: 4 | R37: 0 | S37: 16 | T37: 0 | U37: 0 | V37: 0 | W37: 0 | X37: 0 | Y37: 0 | Z37: 16 | AA37: 0 | AB37: 0 | AC37: 0 | AD37: 0 | AE37: 0 | AF37: =AE37*$AF$5 -> 0 | AG37: 0 | AH37: =AG37*$AH$5 -> 0 | AI37: 0 | AJ37: 0 | AK37: 0 | AL37: 0 | AM37: 0 | AN37: 0 | AO37: 0 | AT37: 1 | AU37: 60 | AV37: 42 | AW37: 5 | AX37: 0
C38: 岩間 | D38: 0 | E38: 0 | F38: 16 | G38: 16 | H38: 0 | I38: 0 | J38: 0 | K38: 0 | L38: 0 | M38: 0 | N38: 0 | O38: 0 | P38: 0 | Q38: 0 | R38: 0 | S38: 16 | T38: 0 | U38: 0 | V38: 0 | W38: 0 | X38: 0 | Y38: 0 | Z38: 16 | AA38: 0 | AB38: 0 | AC38: 0 | AD38: 0 | AE38: 0 | AF38: =AE38*$AF$5 -> 0 | AG38: 0 | AH38: =AG38*$AH$5 -> 0 | AI38: 0 | AJ38: 0 | AK38: 0 | AL38: 0 | AM38: 0 | AN38: 0 | AO38: 0 | AT38: 0 | AU38: 0 | AV38: 0 | AW38: 0 | AX38: 0
C39: 笠間 | D39: 1 | E39: 0 | F39: 33 | G39: 23 | H39: 0 | I39: 0 | J39: 0 | K39: 0 | L39: 0 | M39: 0 | N39: 10 | O39: 0 | P39: 1 | Q39: 10 | R39: 0 | S39: 32 | T39: 0 | U39: 0 | V39: 1 | W39: 0 | X39: 0 | Y39: 0 | Z39: 33 | AA39: 1 | AB39: 0 | AC39: 0 | AD39: 0 | AE39: 0 | AF39: =AE39*$AF$5 -> 0 | AG39: 0 | AH39: =AG39*$AH$5 -> 0 | AI39: 0 | AJ39: 0 | AK39: 0 | AL39: 0 | AM39: 0 | AN39: 0 | AO39: 0 | AT39: 0 | AU39: 0 | AV39: 0 | AW39: 0 | AX39: 0
C40: 美野里 | D40: 0 | E40: 0 | F40: 17 | G40: 14 | H40: 0 | I40: 0 | J40: 0 | K40: 0 | L40: 0 | M40: 0 | N40: 3 | O40: 0 | P40: 3 | Q40: 3 | R40: 0 | S40: 17 | T40: 0 | U40: 0 | V40: 0 | W40: 0 | X40: 0 | Y40: 0 | Z40: 17 | AA40: 0 | AB40: 0 | AC40: 0 | AD40: 0 | AE40: 0 | AF40: =AE40*$AF$5 -> 0 | AG40: 0 | AH40: =AG40*$AH$5 -> 0 | AI40: 0 | AJ40: 0 | AK40: 0 | AL40: 0 | AM40: 0 | AN40: 0 | AO40: 0 | AT40: 0 | AU40: 0 | AV40: 0 | AW40: 0 | AX40: 0
C41: 常陸小川 | D41: 0 | E41: 0 | F41: 19 | G41: 13 | H41: 0 | I41: 0 | J41: 0 | K41: 0 | L41: 0 | M41: 0 | N41: 6 | O41: 0 | P41: 0 | Q41: 0 | R41: 0 | S41: 19 | T41: 0 | U41: 0 | V41: 0 | W41: 0 | X41: 0 | Y41: 0 | Z41: 19 | AA41: 0 | AB41: 0 | AC41: 0 | AD41: 1 | AE41: 0 | AF41: =AE41*$AF$5 -> 0 | AG41: 32 | AH41: =AG41*$AH$5 -> 12800 | AI41: 0 | AJ41: 0 | AK41: 0 | AL41: 0 | AM41: 0 | AN41: 0 | AO41: 0 | AT41: 0 | AU41: 0 | AV41: 0 | AW41: 0 | AX41: 0
C42: 内原 | D42: 0 | E42: 0 | F42: 4 | G42: 4 | H42: 0 | I42: 0 | J42: 0 | K42: 0 | L42: 0 | M42: 0 | N42: 0 | O42: 0 | P42: 1 | Q42: 0 | R42: 0 | S42: 4 | T42: 0 | U42: 0 | V42: 0 | W42: 0 | X42: 0 | Y42: 0 | Z42: 4 | AA42: 0 | AB42: 0 | AC42: 0 | AD42: 0 | AE42: 0 | AF42: =AE42*$AF$5 -> 0 | AG42: 0 | AH42: =AG42*$AH$5 -> 0 | AI42: 0 | AJ42: 0 | AK42: 0 | AL42: 0 | AM42: 0 | AN42: 0 | AO42: 0 | AT42: 0 | AU42: 0 | AV42: 0 | AW42: 0 | AX42: 0
C43: 茨城ひぬま | D43: 0 | E43: 0 | F43: 41 | G43: 22 | H43: 0 | I43: 0 | J43: 0 | K43: 0 | L43: 0 | M43: 0 | N43: 19 | O43: 0 | P43: 2 | Q43: 13 | R43: 0 | S43: 41 | T43: 0 | U43: 0 | V43: 0 | W43: 0 | X43: 0 | Y43: 0 | Z43: 41 | AA43: 0 | AB43: 0 | AC43: 0 | AD43: 0 | AE43: 0 | AF43: =AE43*$AF$5 -> 0 | AG43: 0 | AH43: =AG43*$AH$5 -> 0 | AI43: 0 | AJ43: 0 | AK43: 0 | AL43: 0 | AM43: 0 | AN43: 0 | AO43: 0 | AT43: 1 | AU43: 50 | AV43: 104 | AW43: 2 | AX43: 0
B44: 2 | C44: 岩瀬 | D44: 0 | E44: 0 | F44: 32 | G44: 32 | H44: 0 | I44: 0 | J44: 0 | K44: 0 | L44: 0 | M44: 0 | N44: 0 | O44: 0 | P44: 4 | Q44: 0 | R44: 0 | S44: 32 | T44: 0 | U44: 0 | V44: 0 | W44: 0 | X44: 0 | Y44: 0 | Z44: 32 | AA44: 0 | AB44: 0 | AC44: 0 | AD44: 0 | AE44: 0 | AF44: =AE44*$AF$5 -> 0 | AG44: 0 | AH44: =AG44*$AH$5 -> 0 | AI44: 0 | AJ44: 0 | AK44: 0 | AL44: 0 | AM44: 0 | AN44: 0 | AO44: 0 | AT44: 0 | AU44: 0 | AV44: 0 | AW44: 0 | AX44: 0
C45: 真壁 | D45: 1 | E45: 0 | F45: 26 | G45: 26 | H45: 0 | I45: 0 | J45: 0 | K45: 0 | L45: 1 | M45: 0 | N45: 0 | O45: 0 | P45: 4 | Q45: 0 | R45: 0 | S45: 25 | T45: 0 | U45: 0 | V45: 1 | W45: 0 | X45: 0 | Y45: 0 | Z45: 26 | AA45: 1 | AB45: 0 | AC45: 0 | AD45: 0 | AE45: 0 | AF45: =AE45*$AF$5 -> 0 | AG45: 0 | AH45: =AG45*$AH$5 -> 0 | AI45: 0 | AJ45: 0 | AK45: 0 | AL45: 0 | AM45: 0 | AN45: 0 | AO45: 0 | AT45: 0 | AU45: 0 | AV45: 0 | AW45: 0 | AX45: 0
C46: 常陸大和 | D46: 0 | E46: 0 | F46: 25 | G46: 18 | H46: 0 | I46: 0 | J46: 1 | K46: 0 | L46: 2 | M46: 0 | N46: 7 | O46: 0 | P46: 0 | Q46: 7 | R46: 0 | S46: 25 | T46: 0 | U46: 0 | V46: 0 | W46: 0 | X46: 0 | Y46: 0 | Z46: 25 | AA46: 0 | AB46: 0 | AC46: 0 | AD46: 0 | AE46: 0 | AF46: =AE46*$AF$5 -> 0 | AG46: 0 | AH46: =AG46*$AH$5 -> 0 | AI46: 0 | AJ46: 0 | AK46: 0 | AL46: 0 | AM46: 0 | AN46: 0 | AO46: 0 | AT46: 0 | AU46: 0 | AV46: 0 | AW46: 0 | AX46: 0
C47: 茨城八千代 | D47: 2 | E47: 0 | F47: 42 | G47: 31 | H47: 0 | I47: 0 | J47: 0 | K47: 0 | L47: 0 | M47: 0 | N47: 11 | O47: 0 | P47: 0 | Q47: 8 | R47: 0 | S47: 40 | T47: 0 | U47: 0 | V47: 2 | W47: 0 | X47: 0 | Y47: 0 | Z47: 42 | AA47: 2 | AB47: 0 | AC47: 0 | AD47: 0 | AE47: 0 | AF47: =AE47*$AF$5 -> 0 | AG47: 0 | AH47: =AG47*$AH$5 -> 0 | AI47: 0 | AJ47: 0 | AK47: 0 | AL47: 0 | AM47: 0 | AN47: 0 | AO47: 0 | AT47: 0 | AU47: 0 | AV47: 0 | AW47: 0 | AX47: 0
C48: 下館巴 | D48: 0 | E48: 0 | F48: 48 | G48: 48 | H48: 0 | I48: 0 | J48: 0 | K48: 0 | L48: 0 | M48: 0 | N48: 0 | O48: 0 | P48: 4 | Q48: 0 | R48: 0 | S48: 48 | T48: 0 | U48: 0 | V48: 0 | W48: 0 | X48: 0 | Y48: 0 | Z48: 48 | AA48: 0 | AB48: 0 | AC48: 0 | AD48: 0 | AE48: 0 | AF48: =AE48*$AF$5 -> 0 | AG48: 0 | AH48: =AG48*$AH$5 -> 0 | AI48: 0 | AJ48: 0 | AK48: 0 | AL48: 0 | AM48: 0 | AN48: 0 | AO48: 0 | AT48: 0 | AU48: 0 | AV48: 0 | AW48: 0 | AX48: 0
C49: しもつま | D49: 4 | E49: 0 | F49: 47 | G49: 43 | H49: 0 | I49: 0 | J49: 1 | K49: 0 | L49: 0 | M49: 0 | N49: 4 | O49: 0 | P49: 5 | Q49: 4 | R49: 0 | S49: 43 | T49: 0 | U49: 0 | V49: 4 | W49: 0 | X49: 0 | Y49: 0 | Z49: 47 | AA49: 4 | AB49: 0 | AC49: 0 | AD49: 1 | AE49: 4 | AF49: =AE49*$AF$5 -> 800 | AG49: 53 | AH49: =AG49*$AH$5 -> 21200 | AI49: 0 | AJ49: 0 | AK49: 0 | AL49: 0 | AM49: 0 | AN49: 0 | AO49: 0 | AT49: 0 | AU49: 0 | AV49: 0 | AW49: 0 | AX49: 0
C50: 下館シニア | D50: 0 | E50: 0 | F50: 10 | G50: 10 | H50: 0 | I50: 0 | J50: 0 | K50: 1 | L50: 0 | M50: 0 | N50: 0 | O50: 0 | P50: 0 | Q50: 0 | R50: 0 | S50: 10 | T50: 0 | U50: 0 | V50: 0 | W50: 0 | X50: 0 | Y50: 0 | Z50: 10 | AA50: 0 | AB50: 0 | AC50: 0 | AD50: 0 | AE50: 0 | AF50: =AE50*$AF$5 -> 0 | AG50: 0 | AH50: =AG50*$AH$5 -> 0 | AI50: 0 | AJ50: 0 | AK50: 0 | AL50: 0 | AM50: 0 | AN50: 0 | AO50: 0 | AT50: 0 | AU50: 0 | AV50: 0 | AW50: 0 | AX50: 0
C51: 筑西 | D51: 1 | E51: 0 | F51: 51 | G51: 35 | H51: 0 | I51: 0 | J51: 0 | K51: 0 | L51: 3 | M51: 0 | N51: 16 | O51: 0 | P51: 7 | Q51: 11 | R51: 0 | S51: 50 | T51: 0 | U51: 0 | V51: 1 | W51: 0 | X51: 0 | Y51: 0 | Z51: 51 | AA51: 1 | AB51: 0 | AC51: 0 | AD51: 1 | AE51: 2 | AF51: =AE51*$AF$5 -> 400 | AG51: 39 | AH51: =AG51*$AH$5 -> 15600 | AI51: 0 | AJ51: 0 | AK51: 0 | AL51: 0 | AM51: 0 | AN51: 0 | AO51: 0 | AT51: 0 | AU51: 0 | AV51: 0 | AW51: 0 | AX51: 0
A52: R合計 | D52: =SUM(D36:D51) -> 14 | E52: =SUM(E36:E51) -> 0 | F52: =SUM(F36:F51) -> 469 | G52: =SUM(G36:G51) -> 388 | H52: =SUM(H36:H51) -> 0 | I52: =SUM(I36:I51) -> 0 | J52: =SUM(J36:J51) -> 2 | K52: =SUM(K36:K51) -> 1 | ... AX52: =SUM(AX36:AX51) -> 0
A53: 4 | B53: 1 | C53: 土浦 | D53: 1 | E53: 0 | F53: 77 | G53: 77 | H53: 1 | I53: 0 | J53: 0 | K53: 3 | L53: 0 | M53: 0 | N53: 0 | O53: 0 | P53: 6 | Q53: 0 | R53: 0 | S53: 76 | T53: 0 | U53: 0 | V53: 1 | W53: 0 | X53: 0 | Y53: 0 | Z53: 77 | AA53: 1 | AB53: 0 | AC53: 0 | AD53: 0 | AE53: 0 | AF53: =AE53*$AF$5 -> 0 | AG53: 0 | AH53: =AG53*$AH$5 -> 0 | AI53: 0 | AJ53: 0 | AK53: 0 | AL53: 0 | AM53: 0 | AN53: 1 | AO53: 0 | AT53: 1 | AU53: 45 | AV53: 107 | AW53: 8 | AX53: 0
C54: 土浦亀城 | D54: 0 | E54: 0 | F54: 25 | G54: 25 | H54: 1 | I54: 0 | J54: 0 | K54: 0 | L54: 0 | M54: 0 | N54: 0 | O54: 0 | P54: 4 | Q54: 0 | R54: 0 | S54: 25 | T54: 0 | U54: 0 | V54: 0 | W54: 0 | X54: 0 | Y54: 0 | Z54: 25 | AA54: 0 | AB54: 161766 | AC54: 1000.0019 | AD54: 1 | AE54: 13 | AF54: =AE54*$AF$5 -> 2600 | AG54: 44 | AH54: =AG54*$AH$5 -> 17600 | AI54: 0 | AJ54: 0 | AK54: 0 | AL54: 0 | AM54: 0 | AN54: 0 | AO54: 0 | AT54: 0 | AU54: 0 | AV54: 0 | AW54: 0 | AX54: 0
C55: 阿見 | D55: 0 | E55: 0 | F55: 20 | G55: 18 | H55: 0 | I55: 0 | J55: 0 | K55: 0 | L55: 0 | M55: 0 | N55: 2 | O55: 0 | P55: 5 | Q55: 0 | R55: 0 | S55: 20 | T55: 0 | U55: 0 | V55: 0 | W55: 0 | X55: 0 | Y55: 0 | Z55: 20 | AA55: 0 | AB55: 323532 | AC55: 2000.0038 | AD55: 0 | AE55: 0 | AF55: =AE55*$AF$5 -> 0 | AG55: 0 | AH55: =AG55*$AH$5 -> 0 | AI55: 0 | AJ55: 0 | AK55: 0 | AL55: 0 | AM55: 0 | AN55: 0 | AO55: 0 | AT55: 0 | AU55: 0 | AV55: 0 | AW55: 0 | AX55: 0
C56: 土浦環 | D56: 0 | E56: 0 | F56: 87 | G56: 58 | H56: 8 | I56: 0 | J56: 0 | K56: 0 | L56: 0 | M56: 0 | N56: 29 | O56: 0 | P56: 11 | Q56: 20 | R56: 0 | S56: 87 | T56: 0 | U56: 0 | V56: 0 | W56: 0 | X56: 0 | Y56: 0 | Z56: 87 | AA56: 0 | AB56: 0 | AC56: 0 | AD56: 1 | AE56: 0 | AF56: =AE56*$AF$5 -> 0 | AG56: 105 | AH56: =AG56*$AH$5 -> 42000 | AI56: 0 | AJ56: 0 | AK56: 0 | AL56: 0 | AM56: 0 | AN56: 0 | AO56: 0 | AT56: 1 | AU56: 50 | AV56: 236 | AW56: 10 | AX56: 0
C57: 土浦北 | D57: 3 | E57: 1 | F57: 76 | G57: 42 | H57: 0 | I57: 0 | J57: 5 | K57: 0 | L57: 0 | M57: 7 | N57: 34 | O57: 0 | P57: 6 | Q57: 21 | R57: 0 | S57: 74 | T57: 0 | U57: 0 | V57: 3 | W57: 0 | X57: 0 | Y57: 1 | Z57: 76 | AA57: 2 | AB57: 0 | AC57: 0 | AD57: 0 | AE57: 0 | AF57: =AE57*$AF$5 -> 0 | AG57: 0 | AH57: =AG57*$AH$5 -> 0 | AI57: 0 | AJ57: 0 | AK57: 0 | AL57: 0 | AM57: 0 | AN57: 0 | AO57: 0 | AT57: 0 | AU57: 0 | AV57: 0 | AW57: 0 | AX57: 0
C58: 美浦 | D58: 0 | E58: 0 | F58: 21 | G58: 21 | H58: 0 | I58: 0 | J58: 0 | K58: 0 | L58: 0 | M58: 0 | N58: 0 | O58: 0 | P58: 0 | Q58: 0 | R58: 0 | S58: 21 | T58: 0 | U58: 0 | V58: 0 | W58: 0 | X58: 0 | Y58: 0 | Z58: 21 | AA58: 0 | AB58: 0 | AC58: 0 | AD58: 1 | AE58: 0 | AF58: =AE58*$AF$5 -> 0 | AG58: 38 | AH58: =AG58*$AH$5 -> 15200 | AI58: 0 | AJ58: 0 | AK58: 0 | AL58: 0 | AM58: 0 | AN58: 0 | AO58: 0 | AT58: 0 | AU58: 0 | AV58: 0 | AW58: 0 | AX58: 0
C59: 霞ヶ浦 | D59: 2 | E59: 0 | F59: 44 | G59: 44 | H59: 0 | I59: 0 | J59: 0 | K59: 0 | L59: 0 | M59: 15 | N59: 0 | O59: 0 | P59: 11 | Q59: 0 | R59: 0 | S59: 42 | T59: 0 | U59: 0 | V59: 2 | W59: 0 | X59: 0 | Y59: 0 | Z59: 44 | AA59: 2 | AB59: 0 | AC59: 0 | AD59: 0 | AE59: 0 | AF59: =AE59*$AF$5 -> 0 | AG59: 0 | AH59: =AG59*$AH$5 -> 0 | AI59: 0 | AJ59: 0 | AK59: 0 | AL59: 0 | AM59: 0 | AN59: 0 | AO59: 0 | AT59: 0 | AU59: 0 | AV59: 0 | AW59: 0 | AX59: 0
C60: 土浦SORA | D60: 0 | E60: 0 | F60: 28 | G60: 22 | H60: 0 | I60: 0 | J60: 0 | K60: 0 | L60: 0 | M60: 9 | N60: 3 | O60: 3 | P60: 8 | Q60: 2 | R60: 3 | S60: 28 | T60: 0 | U60: 0 | V60: 0 | W60: 0 | X60: 0 | Y60: 0 | Z60: 28 | AA60: 0 | AB60: 0 | AC60: 0 | AD60: 0 | AE60: 0 | AF60: =AE60*$AF$5 -> 0 | AG60: 0 | AH60: =AG60*$AH$5 -> 0 | AI60: 0 | AJ60: 0 | AK60: 0 | AL60: 0 | AM60: 0 | AN60: 0 | AO60: 0 | AT60: 0 | AU60: 0 | AV60: 0 | AW60: 0 | AX60: 0
B61: 2 | C61: 筑波 | D61: 0 | E61: 0 | F61: 98 | G61: 50 | H61: 0 | I61: 0 | J61: 2 | K61: 0 | L61: 0 | M61: 0 | N61: 48 | O61: 0 | P61: 9 | Q61: 32 | R61: 0 | S61: 98 | T61: 0 | U61: 0 | V61: 0 | W61: 0 | X61: 0 | Y61: 0 | Z61: 98 | AA61: 0 | AB61: 0 | AC61: 0 | AD61: 1 | AE61: 1 | AF61: =AE61*$AF$5 -> 200 | AG61: 4 | AH61: =AG61*$AH$5 -> 1600 | AI61: 0 | AJ61: 0 | AK61: 0 | AL61: 0 | AM61: 0 | AN61: 0 | AO61: 0 | AT61: 0 | AU61: 0 | AV61: 0 | AW61: 0 | AX61: 0
C62: つくば中央 | D62: 3 | E62: 0 | F62: 71 | G62: 53 | H62: 0 | I62: 0 | J62: 0 | K62: 0 | L62: 0 | M62: 13 | N62: 18 | O62: 0 | P62: 17 | Q62: 12 | R62: 0 | S62: 68 | T62: 0 | U62: 0 | V62: 3 | W62: 0 | X62: 0 | Y62: 0 | Z62: 71 | AA62: 3 | AB62: 0 | AC62: 0 | AD62: 1 | AE62: 1 | AF62: =AE62*$AF$5 -> 200 | AG62: 4 | AH62: =AG62*$AH$5 -> 1600 | AI62: 0 | AJ62: 0 | AK62: 0 | AL62: 0 | AM62: 0 | AN62: 0 | AO62: 0 | AT62: 0 | AU62: 0 | AV62: 0 | AW62: 0 | AX62: 0
C63: つくば西 | D63: 0 | E63: 0 | F63: 29 | G63: 28 | H63: 0 | I63: 0 | J63: 0 | K63: 0 | L63: 0 | M63: 10 | N63: 1 | O63: 0 | P63: 9 | Q63: 1 | R63: 0 | S63: 29 | T63: 0 | U63: 0 | V63: 0 | W63: 0 | X63: 0 | Y63: 0 | Z63: 29 | AA63: 0 | AB63: 16177 | AC63: 100.00266 | AD63: 1 | AE63: 0 | AF63: =AE63*$AF$5 -> 0 | AG63: 4 | AH63: =AG63*$AH$5 -> 1600 | AI63: 0 | AJ63: 0 | AK63: 0 | AL63: 0 | AM63: 0 | AN63: 0 | AO63: 0 | AT63: 0 | AU63: 0 | AV63: 0 | AW63: 0 | AX63: 0
C64: つくばＯＡＫ | D64: 2 | E64: 0 | F64: 74 | G64: 74 | H64: 0 | I64: 0 | J64: 0 | K64: 0 | L64: 1 | M64: 12 | N64: 0 | O64: 0 | P64: 21 | Q64: 0 | R64: 0 | S64: 72 | T64: 0 | U64: 0 | V64: 2 | W64: 0 | X64: 0 | Y64: 0 | Z64: 74 | AA64: 2 | AB64: 517652 | AC64: 3200.011 | AD64: 1 | AE64: 1 | AF64: =AE64*$AF$5 -> 200 | AG64: 4 | AH64: =AG64*$AH$5 -> 1600 | AI64: 0 | AJ64: 0 | AK64: 0 | AL64: 0 | AM64: 0 | AN64: 0 | AO64: 0 | AT64: 0 | AU64: 0 | AV64: 0 | AW64: 0 | AX64: 0
C65: つくばアウル | D65: 0 | E65: 0 | F65: 86 | G65: 62 | H65: 0 | I65: 0 | J65: 0 | K65: 0 | L65: 1 | M65: 0 | N65: 24 | O65: 0 | P65: 15 | Q65: 20 | R65: 0 | S65: 86 | T65: 0 | U65: 0 | V65: 0 | W65: 0 | X65: 0 | Y65: 0 | Z65: 86 | AA65: 0 | AB65: 0 | AC65: 0 | AD65: 1 | AE65: 1 | AF65: =AE65*$AF$5 -> 200 | AG65: 4 | AH65: =AG65*$AH$5 -> 1600 | AI65: 0 | AJ65: 0 | AK65: 0 | AL65: 0 | AM65: 0 | AN65: 0 | AO65: 0 | AT65: 0 | AU65: 0 | AV65: 0 | AW65: 0 | AX65: 0
C66: つくば紫峰 | D66: 0 | E66: 0 | F66: 23 | G66: 23 | H66: 0 | I66: 0 | J66: 0 | K66: 0 | L66: 0 | M66: 0 | N66: 0 | O66: 0 | P66: 3 | Q66: 0 | R66: 0 | S66: 23 | T66: 0 | U66: 0 | V66: 0 | W66: 0 | X66: 0 | Y66: 0 | Z66: 23 | AA66: 0 | AB66: 0 | AC66: 0 | AD66: 1 | AE66: 0 | AF66: =AE66*$AF$5 -> 0 | AG66: 4 | AH66: =AG66*$AH$5 -> 1600 | AI66: 0 | AJ66: 0 | AK66: 0 | AL66: 0 | AM66: 0 | AN66: 0 | AO66: 0 | AT66: 0 | AU66: 0 | AV66: 0 | AW66: 0 | AX66: 0
C67: つくばHOPE | D67: 0 | E67: 1 | F67: 21 | G67: 21 | H67: 0 | I67: 0 | J67: 0 | K67: 0 | L67: 0 | M67: 0 | N67: 0 | O67: 0 | P67: 6 | Q67: 0 | R67: 0 | S67: 22 | T67: 0 | U67: 0 | V67: 0 | W67: 0 | X67: 0 | Y67: 1 | Z67: 21 | AA67: -1 | AB67: 0 | AC67: 0 | AD67: 1 | AE67: 0 | AF67: =AE67*$AF$5 -> 0 | AG67: 4 | AH67: =AG67*$AH$5 -> 1600 | AI67: 0 | AJ67: 0 | AK67: 0 | AL67: 0 | AM67: 0 | AN67: 0 | AO67: 0 | AT67: 0 | AU67: 0 | AV67: 0 | AW67: 0 | AX67: 0
C68: 筑波ヤング | D68: 0 | E68: 0 | F68: 42 | G68: 30 | H68: 0 | I68: 0 | J68: 0 | K68: 0 | L68: 0 | M68: 0 | N68: 12 | O68: 0 | P68: 4 | Q68: 8 | R68: 0 | S68: 42 | T68: 0 | U68: 0 | V68: 0 | W68: 0 | X68: 0 | Y68: 0 | Z68: 42 | AA68: 0 | AB68: 647076 | AC68: 4000.0818 | AD68: 1 | AE68: 1 | AF68: =AE68*$AF$5 -> 200 | AG68: 4 | AH68: =AG68*$AH$5 -> 1600 | AI68: 0 | AJ68: 0 | AK68: 0 | AL68: 0 | AM68: 0 | AN68: 0 | AO68: 0 | AT68: 0 | AU68: 0 | AV68: 0 | AW68: 0 | AX68: 0
C69: 筑波グローバルガンズ | D69: 0 | E69: 0 | F69: 16 | G69: 16 | H69: 0 | I69: 0 | J69: 0 | K69: 0 | L69: 0 | M69: 0 | N69: 0 | O69: 0 | P69: 3 | Q69: 0 | R69: 0 | S69: 16 | T69: 0 | U69: 0 | V69: 0 | W69: 0 | X69: 0 | Y69: 0 | Z69: 16 | AA69: 0 | AB69: 0 | AC69: 0 | AD69: 1 | AE69: 0 | AF69: =AE69*$AF$5 -> 0 | AG69: 3 | AH69: =AG69*$AH$5 -> 1200 | AN69: 0 | AO69: 0 | AT69: 0 | AU69: 0 | AV69: 0 | AW69: 0
A70: R合計 | D70: =SUM(D53:D69) -> 11 | E70: =SUM(E53:E69) -> 2 | F70: =SUM(F53:F69) -> 838 | G70: =SUM(G53:G69) -> 664 | H70: =SUM(H53:H69) -> 10 | I70: =SUM(I53:I69) -> 0 | J70: =SUM(J53:J69) -> 7 | K70: =SUM(K53:K69) -> 3 | ... AA70: =SUM(AA53:AA69) -> 9 | AB70: =SUM(AB36:AB69) -> 1666203 | AC70: =SUM(AC36:AC69) -> 10300.101 | AD70: =SUM(AD53:AD69) -> 12 | AE70: =SUM(AE53:AE69) -> 18 | AF70: =SUM(AF53:AF69) -> 3600 | AG70: =SUM(AG53:AG69) -> 222 | AH70: =SUM(AH53:AH69) -> 88800 | AI70: =SUM(AI53:AI69) -> 0 | AJ70: =SUM(AJ53:AJ69) -> 0 | AK70: =SUM(AK53:AK69) -> 0 | ... AW70: =SUM(AW53:AW69) -> 18 | AX70: =SUM(AX53:AX68) -> 0
A71: 5 | B71: 1 | C71: 龍ケ崎 | D71: 0 | E71: 0 | F71: 69 | G71: 42 | H71: 0 | I71: 0 | J71: 0 | K71: 0 | L71: 0 | M71: 0 | N71: 27 | O71: 0 | P71: 2 | Q71: 22 | R71: 0 | S71: 69 | T71: 0 | U71: 0 | V71: 0 | W71: 0 | X71: 0 | Y71: 0 | Z71: 69 | AA71: 0 | AB71: 0 | AC71: 0 | AD71: 1 | AE71: 0 | AF71: =AE71*$AF$5 -> 0 | AG71: 34 | AH71: =AG71*$AH$5 -> 13600 | AI71: 0 | AJ71: 0 | AK71: 0 | AL71: 0 | AM71: 0 | AN71: 0 | AO71: 0 | AT71: 0 | AU71: 0 | AV71: 0 | AW71: 0 | AX71: 0
C72: 取手 | D72: 1 | E72: 2 | F72: 82 | G72: 82 | H72: 0 | I72: 0 | J72: 0 | K72: 0 | L72: 0 | M72: 0 | N72: 0 | O72: 0 | P72: 10 | Q72: 0 | R72: 0 | S72: 83 | T72: 0 | U72: 0 | V72: 1 | W72: 0 | X72: 0 | Y72: 2 | Z72: 82 | AA72: -1 | AB72: 0 | AC72: 0 | AD72: 0 | AE72: 0 | AF72: =AE72*$AF$5 -> 0 | AG72: 0 | AH72: =AG72*$AH$5 -> 0 | AI72: 0 | AJ72: 0 | AK72: 0 | AL72: 0 | AM72: 0 | AN72: 0 | AO72: 0 | AT72: 4 | AU72: 185 | AV72: 224 | AW72: 13 | AX72: 0
C73: 江戸崎 | D73: 2 | E73: 0 | F73: 26 | G73: 25 | H73: 0 | I73: 0 | J73: 0 | K73: 0 | L73: 0 | M73: 0 | N73: 1 | O73: 0 | P73: 6 | Q73: 0 | R73: 0 | S73: 24 | T73: 0 | U73: 0 | V73: 2 | W73: 0 | X73: 0 | Y73: 0 | Z73: 26 | AA73: 2 | AB73: 0 | AC73: 0 | AD73: 1 | AE73: 2 | AF73: =AE73*$AF$5 -> 400 | AG73: 65 | AH73: =AG73*$AH$5 -> 26000 | AI73: 0 | AJ73: 0 | AK73: 0 | AL73: 0 | AM73: 0 | AN73: 0 | AO73: 0 | AT73: 0 | AU73: 0 | AV73: 0 | AW73: 0 | AX73: 0
C74: 牛久茎崎 | D74: 2 | E74: 0 | F74: 91 | G74: 58 | H74: 0 | I74: 0 | J74: 1 | K74: 0 | L74: 0 | M74: 5 | N74: 33 | O74: 0 | P74: 8 | Q74: 26 | R74: 0 | S74: 89 | T74: 0 | U74: 0 | V74: 2 | W74: 0 | X74: 0 | Y74: 0 | Z74: 91 | AA74: 2 | AB74: 485298 | AC74: 3000.0057 | AD74: 0 | AE74: 0 | AF74: =AE74*$AF$5 -> 0 | AG74: 0 | AH74: =AG74*$AH$5 -> 0 | AI74: 0 | AJ74: 0 | AK74: 0 | AL74: 0 | AM74: 0 | AN74: 0 | AO74: 0 | AT74: 0 | AU74: 0 | AV74: 0 | AW74: 0 | AX74: 0
C75: 守谷 | D75: 4 | E75: 1 | F75: 68 | G75: 59 | H75: 0 | I75: 0 | J75: 3 | K75: 0 | L75: 0 | M75: 0 | N75: 9 | O75: 0 | P75: 7 | Q75: 8 | R75: 0 | S75: 65 | T75: 0 | U75: 0 | V75: 4 | W75: 0 | X75: 0 | Y75: 1 | Z75: 68 | AA75: 3 | AB75: 0 | AC75: 0 | AD75: 1 | AE75: 3 | AF75: =AE75*$AF$5 -> 600 | AG75: 98 | AH75: =AG75*$AH$5 -> 39200 | AI75: 0 | AJ75: 0 | AK75: 0 | AL75: 0 | AM75: 0 | AN75: 0 | AO75: 0 | AT75: 0 | AU75: 0 | AV75: 0 | AW75: 0 | AX75: 0
C76: 取手大利根 | D76: 0 | E76: 0 | F76: 22 | G76: 22 | H76: 0 | I76: 0 | J76: 0 | K76: 0 | L76: 0 | M76: 0 | N76: 0 | O76: 0 | P76: 1 | Q76: 0 | R76: 0 | S76: 22 | T76: 0 | U76: 0 | V76: 0 | W76: 0 | X76: 0 | Y76: 0 | Z76: 22 | AA76: 0 | AB76: 0 | AC76: 0 | AD76: 1 | AE76: 2 | AF76: =AE76*$AF$5 -> 400 | AG76: 36 | AH76: =AG76*$AH$5 -> 14400 | AI76: 0 | AJ76: 0 | AK76: 0 | AL76: 0 | AM76: 0 | AN76: 0 | AO76: 0 | AT76: 0 | AU76: 0 | AV76: 0 | AW76: 0 | AX76: 0
C77: 竜ケ崎ききょう | D77: 3 | E77: 1 | F77: 27 | G77: 27 | H77: 0 | I77: 0 | J77: 0 | K77: 0 | L77: 0 | M77: 0 | N77: 0 | O77: 0 | P77: 0 | Q77: 0 | R77: 0 | S77: 25 | T77: 0 | U77: 0 | V77: 3 | W77: 0 | X77: 0 | Y77: 1 | Z77: 27 | AA77: 2 | AB77: 0 | AC77: 0 | AD77: 0 | AE77: 0 | AF77: =AE77*$AF$5 -> 0 | AG77: 0 | AH77: =AG77*$AH$5 -> 0 | AI77: 0 | AJ77: 0 | AK77: 0 | AL77: 0 | AM77: 0 | AN77: 0 | AO77: 0 | AT77: 0 | AU77: 0 | AV77: 0 | AW77: 0 | AX77: 0
C78: 取手中央 | D78: 0 | E78: 1 | F78: 71 | G78: 63 | H78: 0 | I78: 0 | J78: 0 | K78: 0 | L78: 0 | M78: 0 | N78: 8 | O78: 0 | P78: 5 | Q78: 5 | R78: 0 | S78: 72 | T78: 0 | U78: 0 | V78: 0 | W78: 0 | X78: 0 | Y78: 1 | Z78: 71 | AA78: -1 | AB78: 0 | AC78: 0 | AD78: 0 | AE78: 0 | AF78: =AE78*$AF$5 -> 0 | AG78: 0 | AH78: =AG78*$AH$5 -> 0 | AI78: 0 | AJ78: 0 | AK78: 0 | AL78: 0 | AM78: 0 | AN78: 0 | AO78: 0 | AT78: 0 | AU78: 0 | AV78: 0 | AW78: 0 | AX78: 0
B79: 2 | C79: 古河 | D79: 0 | E79: 0 | F79: 27 | G79: 27 | H79: 0 | I79: 0 | J79: 0 | K79: 1 | L79: 0 | M79: 0 | N79: 0 | O79: 0 | P79: 1 | Q79: 0 | R79: 0 | S79: 27 | T79: 0 | U79: 0 | V79: 0 | W79: 0 | X79: 0 | Y79: 0 | Z79: 27 | AA79: 0 | AB79: 0 | AC79: 0 | AD79: 0 | AE79: 0 | AF79: =AE79*$AF$5 -> 0 | AG79: 0 | AH79: =AG79*$AH$5 -> 0 | AI79: 0 | AJ79: 0 | AK79: 0 | AL79: 0 | AM79: 0 | AN79: 0 | AO79: 0 | AT79: 0 | AU79: 0 | AV79: 0 | AW79: 0 | AX79: 0
C80: 岩井 | D80: 0 | E80: 0 | F80: 47 | G80: 39 | H80: 0 | I80: 0 | J80: 0 | K80: 0 | L80: 0 | M80: 6 | N80: 8 | O80: 0 | P80: 9 | Q80: 5 | R80: 0 | S80: 47 | T80: 0 | U80: 0 | V80: 0 | W80: 0 | X80: 0 | Y80: 0 | Z80: 47 | AA80: 0 | AB80: 0 | AC80: 0 | AD80: 0 | AE80: 0 | AF80: =AE80*$AF$5 -> 0 | AG80: 0 | AH80: =AG80*$AH$5 -> 0 | AI80: 0 | AJ80: 0 | AK80: 0 | AL80: 0 | AM80: 0 | AN80: 0 | AO80: 0 | AT80: 0 | AU80: 0 | AV80: 0 | AW80: 0 | AX80: 0
C81: 石下 | D81: 0 | E81: 0 | F81: 21 | G81: 11 | H81: 0 | I81: 0 | J81: 0 | K81: 0 | L81: 0 | M81: 0 | N81: 10 | O81: 0 | P81: 0 | Q81: 8 | R81: 0 | S81: 21 | T81: 0 | U81: 0 | V81: 0 | W81: 0 | X81: 0 | Y81: 0 | Z81: 21 | AA81: 0 | AB81: 0 | AC81: 0 | AD81: 0 | AE81: 0 | AF81: =AE81*$AF$5 -> 0 | AG81: 0 | AH81: =AG81*$AH$5 -> 0 | AI81: 0 | AJ81: 0 | AK81: 0 | AL81: 0 | AM81: 0 | AN81: 0 | AO81: 0 | AT81: 0 | AU81: 0 | AV81: 0 | AW81: 0
C82: 水海道 | D82: 0 | E82: 0 | F82: 15 | G82: 15 | H82: 0 | I82: 0 | J82: 0 | K82: 0 | L82: 0 | M82: 0 | N82: 0 | O82: 0 | P82: 1 | Q82: 0 | R82: 0 | S82: 15 | T82: 0 | U82: 0 | V82: 0 | W82: 0 | X82: 0 | Y82: 0 | Z82: 15 | AA82: 0 | AB82: 0 | AC82: 0 | AD82: 0 | AE82: 0 | AF82: =AE82*$AF$5 -> 0 | AG82: 0 | AH82: =AG82*$AH$5 -> 0 | AI82: 0 | AJ82: 0 | AK82: 0 | AL82: 0 | AM82: 0 | AN82: 0 | AO82: 0 | AT82: 0 | AU82: 0 | AV82: 0 | AW82: 0 | AX82: 0
C83: 総和 | D83: 0 | E83: 0 | F83: 26 | G83: 26 | H83: 0 | I83: 0 | J83: 0 | K83: 0 | L83: 0 | M83: 0 | N83: 0 | O83: 0 | P83: 0 | Q83: 0 | R83: 0 | S83: 26 | T83: 0 | U83: 0 | V83: 0 | W83: 0 | X83: 0 | Y83: 0 | Z83: 26 | AA83: 0 | AB83: 0 | AC83: 0 | AD83: 0 | AE83: 0 | AF83: =AE83*$AF$5 -> 0 | AG83: 0 | AH83: =AG83*$AH$5 -> 0 | AI83: 0 | AJ83: 0 | AK83: 0 | AL83: 0 | AM83: 0 | AN83: 0 | AO83: 0 | AT83: 0 | AU83: 0 | AV83: 0 | AW83: 0 | AX83: 0
C84: 茨城三和 | D84: 0 | E84: 0 | F84: 38 | G84: 38 | H84: 0 | I84: 0 | J84: 0 | K84: 0 | L84: 0 | M84: 0 | N84: 0 | O84: 0 | P84: 0 | Q84: 0 | R84: 0 | S84: 38 | T84: 0 | U84: 0 | V84: 0 | W84: 0 | X84: 0 | Y84: 0 | Z84: 38 | AA84: 0 | AB84: 0 | AC84: 0 | AD84: 0 | AE84: 0 | AF84: =AE84*$AF$5 -> 0 | AG84: 0 | AH84: =AG84*$AH$5 -> 0 | AI84: 0 | AJ84: 0 | AK84: 0 | AL84: 0 | AM84: 0 | AN84: 0 | AO84: 0 | AT84: 0 | AU84: 0 | AV84: 0 | AW84: 0 | AX84: 0
C85: 茨城境 | D85: 0 | E85: 1 | F85: 44 | G85: 44 | H85: 0 | I85: 0 | J85: 0 | K85: 0 | L85: 2 | M85: 6 | N85: 0 | O85: 0 | P85: 3 | Q85: 0 | R85: 0 | S85: 45 | T85: 0 | U85: 0 | V85: 0 | W85: 1 | X85: 0 | Y85: 0 | Z85: 44 | AA85: -1 | AB85: 0 | AC85: 0 | AD85: 0 | AE85: 0 | AF85: =AE85*$AF$5 -> 0 | AG85: 0 | AH85: =AG85*$AH$5 -> 0 | AI85: 0 | AJ85: 0 | AK85: 0 | AL85: 0 | AM85: 0 | AN85: 0 | AO85: 0 | AT85: 0 | AU85: 0 | AV85: 0 | AW85: 0 | AX85: 0
C86: つくばみらい | D86: 2 | E86: 0 | F86: 44 | G86: 26 | H86: 0 | I86: 0 | J86: 0 | K86: 0 | L86: 0 | M86: 0 | N86: 18 | O86: 0 | P86: 0 | Q86: 14 | R86: 0 | S86: 42 | T86: 0 | U86: 0 | V86: 2 | W86: 0 | X86: 0 | Y86: 0 | Z86: 44 | AA86: 2 | AB86: 0 | AC86: 0 | AD86: 0 | AE86: 0 | AF86: =AE86*$AF$5 -> 0 | AG86: 0 | AH86: =AG86*$AH$5 -> 0 | AI86: 0 | AJ86: 0 | AK86: 0 | AL86: 0 | AM86: 0 | AN86: 0 | AO86: 0 | AT86: 0 | AU86: 0 | AV86: 0 | AW86: 0 | AX86: 0
C87: ごか | D87: 3 | E87: 1 | F87: 13 | G87: 11 | H87: 0 | I87: 0 | J87: 0 | K87: 0 | L87: 0 | M87: 0 | N87: 2 | O87: 0 | P87: 1 | Q87: 2 | R87: 0 | S87: 11 | T87: 0 | U87: 2 | V87: 1 | W87: 0 | X87: 0 | Y87: 1 | Z87: 13 | AA87: 2 | AB87: 0 | AC87: 0 | AD87: 1 | AE87: 3 | AF87: =AE87*$AF$5 -> 600 | AG87: 15 | AH87: =AG87*$AH$5 -> 6000 | AI87: 0 | AJ87: 0 | AK87: 0 | AL87: 0 | AM87: 0 | AN87: 0 | AO87: 0 | AT87: 2 | AU87: 90 | AV87: 93 | AW87: 10 | AX87: 0
A88: R合計 | D88: =SUM(D71:D87) -> 17 | E88: =SUM(E71:E87) -> 7 | F88: =SUM(F71:F87) -> 731 | G88: =SUM(G71:G87) -> 615 | H88: =SUM(H71:H87) -> 0 | I88: =SUM(I71:I87) -> 0 | J88: =SUM(J71:J87) -> 4 | K88: =SUM(K71:K87) -> 1 | ... AX88: =SUM(AX71:AX87) -> 0
A89: 総合計 | D89: =SUM(D21,D35,D52,D70,D88) -> 56 | E89: =SUM(E21,E35,E52,E70,E88) -> 11 | F89: =SUM(F21,F35,F52,F70,F88) -> 3326 | G89: =SUM(G21,G35,G52,G70,G88) -> 2770 | H89: =SUM(H21,H35,H52,H70,H88) -> 17 | I89: =SUM(I21,I35,I52,I70,I88) -> 2 | J89: =SUM(J21,J35,J52,J70,J88) -> 29 | K89: =SUM(K21,K35,K52,K70,K88) -> 13 | ... AW89: =SUM(AW21,AW35,AW52,AW70,AW88) -> 91 | AX89: =AX21+AX35+AX52+AX70+AX88 -> 0
AF91: 当月 人数 計 （人） | AH91: =AE89+AG89 -> 1419
AF92: 当月 数量 計 （CC） | AH92: =AF89+AH89 -> 550000

Sheet 2026.8
A1: 46235
A2: R | B2: Z | C2: クラブ名 | D2: 8月 | S2: 会員移動（期首～） | AB2: LCIF寄付 | AD2: LCIF寄付 | AF2: 献血（当月） | AK2: 献血（累計） | AP2: 献眼（当月） | AR2: 献眼（累計） | AT2: 薬物乱用防止（当月） | AX2: 薬物乱用防止（累計）
D3: 当月 | F3: 当月末 | G3: 内訳 | S3: (2026.6.30) | T3: 入会 | W3: 退会 | Z3: 当月末 | AA3: 増減
D4: 入会数 | E4: 退会数 | G4: 正会員 | H4: 左記「正会員」数には下記の会員種別人数を含む | N4: 特典会員 | P4: （内）女性会員 | S4: 前期末 | AB4: 当月 | AD4: 累計 | AF4: 件数 | AG4: 200CC | AH4: 数量（CC） | AI4: 400CC | AJ4: 数量（CC） | AK4: 件数 | AL4: 200CC | AM4: 数量（CC） | AN4: 400CC | AO4: 数量（CC） | AP4: 登録 | AQ4: 提供 | AR4: 登録 | AS4: 提供 | AT4: 回数 | AU4: 活動時間 | AV4: 対象人数 | AW4: メンバー 参加人数 | AX4: 回数 | AY4: 活動時間 | AZ4: 対象人数 | BA4: メンバー 参加人数
H5: 不在 | I5: 名誉 | J5: 終身 | K5: 優待 | L5: 賛助 | M5: 支部 | N5: 家族会員 | O5: 学生会員 | P5: 正会員 | Q5: 家族会員 | R5: 学生会員 | T5: 転入 | U5: 再入 | V5: 新入 | W5: 転出 | X5: 死亡 | Y5: 退会 | AB5: 金額（円） | AC5: 金額（ドル） | AD5: 金額（円） | AE5: 金額（ドル） | AG5: （人） | AH5: 200 | AI5: （人） | AJ5: 400 | AL5: （人） | AM5: 200 | AN5: （人） | AO5: 400 | AU5: （分） | AY5: （分）
A6: 1 | B6: 1 | C6: 日立 | D6: 0 | E6: 0 | F6: 22 | G6: 15 | H6: 0 | I6: 0 | J6: 1 | K6: 0 | L6: 2 | M6: 0 | N6: 7 | O6: 0 | P6: 3 | Q6: 6 | R6: 0 | S6: 22 | T6: 0 | U6: 0 | V6: 0 | W6: 0 | X6: 0 | Y6: 0 | Z6: 22 | AA6: 0 | AB6: 491262 | AC6: 3000.0002 | AD6: =AB6+'2026.7'!AB6 -> 947152 | AE6: =AC6+'2026.7'!AC6 -> 5818.2121 | AF6: 1 | AG6: 0 | AH6: =AG6*$AH$5 -> 0 | AI6: 56 | AJ6: =AI6*$AJ$5 -> 22400 | AK6: =AF6+'2026.7'!AD6 -> 1 | AL6: =AG6+'2026.7'!AE6 -> 0 | AM6: =AH6+'2026.7'!AF6 -> 0 | AN6: =AI6+'2026.7'!AG6 -> 56 | AO6: =AJ6+'2026.7'!AH6 -> 22400 | AP6: 0 | AQ6: 0 | AR6: =AP6+'2026.7'!AN6 -> 0 | AS6: =AQ6+'2026.7'!AO6 -> 0 | AT6: 0 | AU6: 0 | AV6: 0 | AW6: 0 | AX6: =AT6+'2026.7'!AT6 -> 0 | AY6: =AU6+'2026.7'!AU6 -> 0 | AZ6: =AV6+'2026.7'!AV6 -> 0 | BA6: =AW6+'2026.7'!AW6 -> 0
C7: 高萩 | D7: 0 | E7: 0 | F7: 25 | G7: 24 | H7: 0 | I7: 0 | J7: 0 | K7: 0 | L7: 0 | M7: 0 | N7: 1 | O7: 0 | P7: 2 | Q7: 1 | R7: 0 | S7: 25 | T7: 0 | U7: 0 | V7: 0 | W7: 0 | X7: 0 | Y7: 0 | Z7: 25 | AA7: 0 | AB7: 0 | AC7: 0 | AD7: =AB7+'2026.7'!AB7 -> 0 | AE7: =AC7+'2026.7'!AC7 -> 0 | AF7: 0 | AG7: 0 | AH7: =AG7*$AH$5 -> 0 | AI7: 0 | AJ7: =AI7*$AJ$5 -> 0 | AK7: =AF7+'2026.7'!AD7 -> 1 | AL7: =AG7+'2026.7'!AE7 -> 3 | AM7: =AH7+'2026.7'!AF7 -> 600 | AN7: =AI7+'2026.7'!AG7 -> 11 | AO7: =AJ7+'2026.7'!AH7 -> 4400 | AP7: 0 | AQ7: 0 | AR7: =AP7+'2026.7'!AN7 -> 0 | AS7: =AQ7+'2026.7'!AO7 -> 0 | AT7: 0 | AU7: 0 | AV7: 0 | AW7: 0 | AX7: =AT7+'2026.7'!AT7 -> 0 | AY7: =AU7+'2026.7'!AU7 -> 0 | AZ7: =AV7+'2026.7'!AV7 -> 0 | BA7: =AW7+'2026.7'!AW7 -> 0
C8: 日立中央 | D8: 1 | E8: 0 | F8: 34 | G8: 24 | H8: 0 | I8: 0 | J8: 0 | K8: 0 | L8: 0 | M8: 0 | N8: 10 | O8: 0 | P8: 1 | Q8: 8 | R8: 0 | S8: 31 | T8: 0 | U8: 1 | V8: 2 | W8: 0 | X8: 0 | Y8: 0 | Z8: 34 | AA8: 3 | AB8: 393024 | AC8: 2400.0881 | AD8: =AB8+'2026.7'!AB8 -> 1525386 | AE8: =AC8+'2026.7'!AC8 -> 9400.1014 | AF8: 0 | AG8: 0 | AH8: =AG8*$AH$5 -> 0 | AI8: 0 | AJ8: =AI8*$AJ$5 -> 0 | AK8: =AF8+'2026.7'!AD8 -> 1 | AL8: =AG8+'2026.7'!AE8 -> 1 | AM8: =AH8+'2026.7'!AF8 -> 200 | AN8: =AI8+'2026.7'!AG8 -> 61 | AO8: =AJ8+'2026.7'!AH8 -> 24400 | AP8: 0 | AQ8: 0 | AR8: =AP8+'2026.7'!AN8 -> 0 | AS8: =AQ8+'2026.7'!AO8 -> 0 | AT8: 0 | AU8: 0 | AV8: 0 | AW8: 0 | AX8: =AT8+'2026.7'!AT8 -> 1 | AY8: =AU8+'2026.7'!AU8 -> 120 | AZ8: =AV8+'2026.7'!AV8 -> 37 | BA8: =AW8+'2026.7'!AW8 -> 2
C9: 日立桜 | D9: 0 | E9: 0 | F9: 36 | G9: 27 | H9: 0 | I9: 0 | J9: 1 | K9: 0 | L9: 0 | M9: 0 | N9: 9 | O9: 0 | P9: 0 | Q9: 8 | R9: 0 | S9: 35 | T9: 0 | U9: 0 | V9: 1 | W9: 0 | X9: 0 | Y9: 0 | Z9: 36 | AA9: 1 | AB9: 0 | AC9: 0 | AD9: =AB9+'2026.7'!AB9 -> 0 | AE9: =AC9+'2026.7'!AC9 -> 0 | AF9: 1 | AG9: 0 | AH9: =AG9*$AH$5 -> 0 | AI9: 47 | AJ9: =AI9*$AJ$5 -> 18800 | AK9: =AF9+'2026.7'!AD9 -> 2 | AL9: =AG9+'2026.7'!AE9 -> 1 | AM9: =AH9+'2026.7'!AF9 -> 200 | AN9: =AI9+'2026.7'!AG9 -> 100 | AO9: =AJ9+'2026.7'!AH9 -> 40000 | AP9: 0 | AQ9: 0 | AR9: =AP9+'2026.7'!AN9 -> 0 | AS9: =AQ9+'2026.7'!AO9 -> 0 | AT9: 0 | AU9: 0 | AV9: 0 | AW9: 0 | AX9: =AT9+'2026.7'!AT9 -> 0 | AY9: =AU9+'2026.7'!AU9 -> 0 | AZ9: =AV9+'2026.7'!AV9 -> 0 | BA9: =AW9+'2026.7'!AW9 -> 0
C10: 日立きらら | D10: 0 | E10: 0 | F10: 33 | G10: 21 | H10: 0 | I10: 0 | J10: 0 | K10: 0 | L10: 0 | M10: 0 | N10: 12 | O10: 0 | P10: 5 | Q10: 10 | R10: 0 | S10: 33 | T10: 0 | U10: 0 | V10: 0 | W10: 0 | X10: 0 | Y10: 0 | Z10: 33 | AA10: 0 | AB10: 0 | AC10: 0 | AD10: =AB10+'2026.7'!AB10 -> 0 | AE10: =AC10+'2026.7'!AC10 -> 0 | AF10: 1 | AG10: 0 | AH10: =AG10*$AH$5 -> 0 | AI10: 33 | AJ10: =AI10*$AJ$5 -> 13200 | AK10: =AF10+'2026.7'!AD10 -> 3 | AL10: =AG10+'2026.7'!AE10 -> 0 | AM10: =AH10+'2026.7'!AF10 -> 0 | AN10: =AI10+'2026.7'!AG10 -> 120 | AO10: =AJ10+'2026.7'!AH10 -> 48000 | AP10: 0 | AQ10: 0 | AR10: =AP10+'2026.7'!AN10 -> 0 | AS10: =AQ10+'2026.7'!AO10 -> 0 | AT10: 0 | AU10: 0 | AV10: 0 | AW10: 0 | AX10: =AT10+'2026.7'!AT10 -> 0 | AY10: =AU10+'2026.7'!AU10 -> 0 | AZ10: =AV10+'2026.7'!AV10 -> 0 | BA10: =AW10+'2026.7'!AW10 -> 0
C11: 北茨城桜 | D11: 0 | E11: 0 | F11: 19 | G11: 17 | H11: 0 | I11: 0 | J11: 0 | K11: 0 | L11: 0 | M11: 0 | N11: 2 | O11: 0 | P11: 3 | Q11: 2 | R11: 0 | S11: 19 | T11: 0 | U11: 0 | V11: 0 | W11: 0 | X11: 0 | Y11: 0 | Z11: 19 | AA11: 0 | AB11: 0 | AC11: 0 | AD11: =AB11+'2026.7'!AB11 -> 0 | AE11: =AC11+'2026.7'!AC11 -> 0 | AF11: 1 | AG11: 1 | AH11: =AG11*$AH$5 -> 200 | AI11: 46 | AJ11: =AI11*$AJ$5 -> 18400 | AK11: =AF11+'2026.7'!AD11 -> 1 | AL11: =AG11+'2026.7'!AE11 -> 1 | AM11: =AH11+'2026.7'!AF11 -> 200 | AN11: =AI11+'2026.7'!AG11 -> 46 | AO11: =AJ11+'2026.7'!AH11 -> 18400 | AP11: 0 | AQ11: 0 | AR11: =AP11+'2026.7'!AN11 -> 0 | AS11: =AQ11+'2026.7'!AO11 -> 0 | AT11: 0 | AU11: 0 | AV11: 0 | AW11: 0 | AX11: =AT11+'2026.7'!AT11 -> 0 | AY11: =AU11+'2026.7'!AU11 -> 0 | AZ11: =AV11+'2026.7'!AV11 -> 0 | BA11: =AW11+'2026.7'!AW11 -> 0
B12: 2 | C12: 勝田 | D12: 0 | E12: 0 | F12: 57 | G12: 53 | H12: 0 | I12: 0 | J12: 2 | K12: 0 | L12: 1 | M12: 0 | N12: 4 | O12: 0 | P12: 6 | Q12: 3 | R12: 0 | S12: 56 | T12: 0 | U12: 0 | V12: 1 | W12: 0 | X12: 0 | Y12: 0 | Z12: 57 | AA12: 1 | AB12: 0 | AC12: 0 | AD12: =AB12+'2026.7'!AB12 -> 0 | AE12: =AC12+'2026.7'!AC12 -> 0 | AF12: 1 | AG12: 2 | AH12: =AG12*$AH$5 -> 400 | AI12: 56 | AJ12: =AI12*$AJ$5 -> 22400 | AK12: =AF12+'2026.7'!AD12 -> 1 | AL12: =AG12+'2026.7'!AE12 -> 2 | AM12: =AH12+'2026.7'!AF12 -> 400 | AN12: =AI12+'2026.7'!AG12 -> 56 | AO12: =AJ12+'2026.7'!AH12 -> 22400 | AP12: 0 | AQ12: 0 | AR12: =AP12+'2026.7'!AN12 -> 0 | AS12: =AQ12+'2026.7'!AO12 -> 0 | AT12: 0 | AU12: 0 | AV12: 0 | AW12: 0 | AX12: =AT12+'2026.7'!AT12 -> 0 | AY12: =AU12+'2026.7'!AU12 -> 0 | AZ12: =AV12+'2026.7'!AV12 -> 0 | BA12: =AW12+'2026.7'!AW12 -> 0
C13: 那珂湊 | D13: 0 | E13: 0 | F13: 17 | G13: 13 | H13: 0 | I13: 0 | J13: 0 | K13: 0 | L13: 0 | M13: 0 | N13: 4 | O13: 0 | P13: 0 | Q13: 4 | R13: 0 | S13: 17 | T13: 0 | U13: 0 | V13: 0 | W13: 0 | X13: 0 | Y13: 0 | Z13: 17 | AA13: 0 | AB13: 0 | AC13: 0 | AD13: =AB13+'2026.7'!AB13 -> 0 | AE13: =AC13+'2026.7'!AC13 -> 0 | AF13: 1 | AG13: 1 | AH13: =AG13*$AH$5 -> 200 | AI13: 32 | AJ13: =AI13*$AJ$5 -> 12800 | AK13: =AF13+'2026.7'!AD13 -> 1 | AL13: =AG13+'2026.7'!AE13 -> 1 | AM13: =AH13+'2026.7'!AF13 -> 200 | AN13: =AI13+'2026.7'!AG13 -> 32 | AO13: =AJ13+'2026.7'!AH13 -> 12800 | AP13: 0 | AQ13: 0 | AR13: =AP13+'2026.7'!AN13 -> 0 | AS13: =AQ13+'2026.7'!AO13 -> 0 | AT13: 0 | AU13: 0 | AV13: 0 | AW13: 0 | AX13: =AT13+'2026.7'!AT13 -> 0 | AY13: =AU13+'2026.7'!AU13 -> 0 | AZ13: =AV13+'2026.7'!AV13 -> 0 | BA13: =AW13+'2026.7'!AW13 -> 0
C14: 東海 | D14: 2 | E14: 1 | F14: 60 | G14: 60 | H14: 0 | I14: 0 | J14: 2 | K14: 0 | L14: 1 | M14: 0 | N14: 0 | O14: 0 | P14: 10 | Q14: 0 | R14: 0 | S14: 57 | T14: 0 | U14: 0 | V14: 4 | W14: 0 | X14: 0 | Y14: 1 | Z14: 60 | AA14: 3 | AB14: 0 | AC14: 0 | AD14: =AB14+'2026.7'!AB14 -> 0 | AE14: =AC14+'2026.7'!AC14 -> 0 | AF14: 0 | AG14: 0 | AH14: =AG14*$AH$5 -> 0 | AI14: 0 | AJ14: =AI14*$AJ$5 -> 0 | AK14: =AF14+'2026.7'!AD14 -> 1 | AL14: =AG14+'2026.7'!AE14 -> 2 | AM14: =AH14+'2026.7'!AF14 -> 400 | AN14: =AI14+'2026.7'!AG14 -> 37 | AO14: =AJ14+'2026.7'!AH14 -> 14800 | AP14: 0 | AQ14: 0 | AR14: =AP14+'2026.7'!AN14 -> 0 | AS14: =AQ14+'2026.7'!AO14 -> 0 | AT14: 0 | AU14: 0 | AV14: 0 | AW14: 0 | AX14: =AT14+'2026.7'!AT14 -> 0 | AY14: =AU14+'2026.7'!AU14 -> 0 | AZ14: =AV14+'2026.7'!AV14 -> 0 | BA14: =AW14+'2026.7'!AW14 -> 0
C15: 勝田グリーン | D15: 0 | E15: 0 | F15: 18 | G15: 17 | H15: 0 | I15: 0 | J15: 0 | K15: 1 | L15: 0 | M15: 0 | N15: 1 | O15: 0 | P15: 1 | Q15: 1 | R15: 0 | S15: 18 | T15: 0 | U15: 0 | V15: 0 | W15: 0 | X15: 0 | Y15: 0 | Z15: 18 | AA15: 0 | AB15: 0 | AC15: 0 | AD15: =AB15+'2026.7'!AB15 -> 0 | AE15: =AC15+'2026.7'!AC15 -> 0 | AF15: 1 | AG15: 0 | AH15: =AG15*$AH$5 -> 0 | AI15: 49 | AJ15: =AI15*$AJ$5 -> 19600 | AK15: =AF15+'2026.7'!AD15 -> 2 | AL15: =AG15+'2026.7'!AE15 -> 0 | AM15: =AH15+'2026.7'!AF15 -> 0 | AN15: =AI15+'2026.7'!AG15 -> 71 | AO15: =AJ15+'2026.7'!AH15 -> 28400 | AP15: 0 | AQ15: 0 | AR15: =AP15+'2026.7'!AN15 -> 0 | AS15: =AQ15+'2026.7'!AO15 -> 0 | AT15: 0 | AU15: 0 | AV15: 0 | AW15: 0 | AX15: =AT15+'2026.7'!AT15 -> 0 | AY15: =AU15+'2026.7'!AU15 -> 0 | AZ15: =AV15+'2026.7'!AV15 -> 0 | BA15: =AW15+'2026.7'!AW15 -> 0
C16: ひたちなかベスト | D16: 0 | E16: 0 | F16: 43 | G16: 43 | H16: 0 | I16: 0 | J16: 0 | K16: 0 | L16: 0 | M16: 0 | N16: 0 | O16: 0 | P16: 7 | Q16: 0 | R16: 0 | S16: 42 | T16: 0 | U16: 0 | V16: 1 | W16: 0 | X16: 0 | Y16: 0 | Z16: 43 | AA16: 1 | AB16: 0 | AC16: 0 | AD16: =AB16+'2026.7'!AB16 -> 0 | AE16: =AC16+'2026.7'!AC16 -> 0 | AF16: 0 | AG16: 0 | AH16: =AG16*$AH$5 -> 0 | AI16: 0 | AJ16: =AI16*$AJ$5 -> 0 | AK16: =AF16+'2026.7'!AD16 -> 0 | AL16: =AG16+'2026.7'!AE16 -> 0 | AM16: =AH16+'2026.7'!AF16 -> 0 | AN16: =AI16+'2026.7'!AG16 -> 0 | AO16: =AJ16+'2026.7'!AH16 -> 0 | AP16: 0 | AQ16: 0 | AR16: =AP16+'2026.7'!AN16 -> 0 | AS16: =AQ16+'2026.7'!AO16 -> 0 | AT16: 0 | AU16: 0 | AV16: 0 | AW16: 0 | AX16: =AT16+'2026.7'!AT16 -> 0 | AY16: =AU16+'2026.7'!AU16 -> 0 | AZ16: =AV16+'2026.7'!AV16 -> 0 | BA16: =AW16+'2026.7'!AW16 -> 0
B17: 3 | C17: 常陸太田 | D17: 0 | E17: 0 | F17: 46 | G17: 39 | H17: 0 | I17: 0 | J17: 0 | K17: 1 | L17: 6 | M17: 0 | N17: 7 | O17: 0 | P17: 3 | Q17: 4 | R17: 0 | S17: 45 | T17: 0 | U17: 0 | V17: 1 | W17: 0 | X17: 0 | Y17: 0 | Z17: 46 | AA17: 1 | AB17: 0 | AC17: 0 | AD17: =AB17+'2026.7'!AB17 -> 0 | AE17: =AC17+'2026.7'!AC17 -> 0 | AF17: 0 | AG17: 0 | AH17: =AG17*$AH$5 -> 0 | AI17: 0 | AJ17: =AI17*$AJ$5 -> 0 | AK17: =AF17+'2026.7'!AD17 -> 0 | AL17: =AG17+'2026.7'!AE17 -> 0 | AM17: =AH17+'2026.7'!AF17 -> 0 | AN17: =AI17+'2026.7'!AG17 -> 0 | AO17: =AJ17+'2026.7'!AH17 -> 0 | AP17: 0 | AQ17: 0 | AR17: =AP17+'2026.7'!AN17 -> 0 | AS17: =AQ17+'2026.7'!AO17 -> 0 | AT17: 0 | AU17: 0 | AV17: 0 | AW17: 0 | AX17: =AT17+'2026.7'!AT17 -> 0 | AY17: =AU17+'2026.7'!AU17 -> 0 | AZ17: =AV17+'2026.7'!AV17 -> 0 | BA17: =AW17+'2026.7'!AW17 -> 0
C18: 常陸大宮 | D18: 0 | E18: 1 | F18: 26 | G18: 25 | H18: 0 | I18: 0 | J18: 0 | K18: 0 | L18: 0 | M18: 0 | N18: 1 | O18: 0 | P18: 2 | Q18: 0 | R18: 0 | S18: 27 | T18: 0 | U18: 0 | V18: 0 | W18: 0 | X18: 0 | Y18: 1 | Z18: 26 | AA18: -1 | AB18: 0 | AC18: 0 | AD18: =AB18+'2026.7'!AB18 -> 0 | AE18: =AC18+'2026.7'!AC18 -> 0 | AF18: 1 | AG18: 1 | AH18: =AG18*$AH$5 -> 200 | AI18: 44 | AJ18: =AI18*$AJ$5 -> 17600 | AK18: =AF18+'2026.7'!AD18 -> 3 | AL18: =AG18+'2026.7'!AE18 -> 1 | AM18: =AH18+'2026.7'!AF18 -> 200 | AN18: =AI18+'2026.7'!AG18 -> 121 | AO18: =AJ18+'2026.7'!AH18 -> 48400 | AP18: 0 | AQ18: 0 | AR18: =AP18+'2026.7'!AN18 -> 0 | AS18: =AQ18+'2026.7'!AO18 -> 0 | AT18: 0 | AU18: 0 | AV18: 0 | AW18: 0 | AX18: =AT18+'2026.7'!AT18 -> 0 | AY18: =AU18+'2026.7'!AU18 -> 0 | AZ18: =AV18+'2026.7'!AV18 -> 0 | BA18: =AW18+'2026.7'!AW18 -> 0
C19: 那珂 | D19: 0 | E19: 0 | F19: 27 | G19: 23 | H19: 0 | I19: 0 | J19: 0 | K19: 0 | L19: 1 | M19: 5 | N19: 4 | O19: 0 | P19: 4 | Q19: 3 | R19: 0 | S19: 27 | T19: 0 | U19: 0 | V19: 0 | W19: 0 | X19: 0 | Y19: 0 | Z19: 27 | AA19: 0 | AB19: 0 | AC19: 0 | AD19: =AB19+'2026.7'!AB19 -> 48530 | AE19: =AC19+'2026.7'!AC19 -> 300.00181 | AF19: 2 | AG19: 2 | AH19: =AG19*$AH$5 -> 400 | AI19: 46 | AJ19: =AI19*$AJ$5 -> 18400 | AK19: =AF19+'2026.7'!AD19 -> 5 | AL19: =AG19+'2026.7'!AE19 -> 3 | AM19: =AH19+'2026.7'!AF19 -> 600 | AN19: =AI19+'2026.7'!AG19 -> 142 | AO19: =AJ19+'2026.7'!AH19 -> 56800 | AP19: 0 | AQ19: 0 | AR19: =AP19+'2026.7'!AN19 -> 0 | AS19: =AQ19+'2026.7'!AO19 -> 0 | AT19: 0 | AU19: 0 | AV19: 0 | AW19: 0 | AX19: =AT19+'2026.7'!AT19 -> 0 | AY19: =AU19+'2026.7'!AU19 -> 0 | AZ19: =AV19+'2026.7'!AV19 -> 0 | BA19: =AW19+'2026.7'!AW19 -> 0
C20: 常陸大子 | D20: 0 | E20: 0 | F20: 33 | G20: 31 | H20: 0 | I20: 0 | J20: 0 | K20: 2 | L20: 0 | M20: 0 | N20: 2 | O20: 0 | P20: 0 | Q20: 1 | R20: 0 | S20: 34 | T20: 0 | U20: 0 | V20: 0 | W20: 0 | X20: 0 | Y20: 1 | Z20: 33 | AA20: -1 | AB20: 0 | AC20: 0 | AD20: =AB20+'2026.7'!AB20 -> 0 | AE20: =AC20+'2026.7'!AC20 -> 0 | AF20: 0 | AG20: 0 | AH20: =AG20*$AH$5 -> 0 | AI20: 0 | AJ20: =AI20*$AJ$5 -> 0 | AK20: =AF20+'2026.7'!AD20 -> 0 | AL20: =AG20+'2026.7'!AE20 -> 0 | AM20: =AH20+'2026.7'!AF20 -> 0 | AN20: =AI20+'2026.7'!AG20 -> 0 | AO20: =AJ20+'2026.7'!AH20 -> 0 | AP20: 0 | AQ20: 0 | AR20: =AP20+'2026.7'!AN20 -> 0 | AS20: =AQ20+'2026.7'!AO20 -> 0 | AT20: 0 | AU20: 0 | AV20: 0 | AW20: 0 | AX20: =AT20+'2026.7'!AT20 -> 0 | AY20: =AU20+'2026.7'!AU20 -> 0 | AZ20: =AV20+'2026.7'!AV20 -> 0 | BA20: =AW20+'2026.7'!AW20 -> 0
A21: R合計 | D21: =SUM(D6:D20) -> 3 | E21: =SUM(E6:E20) -> 2 | F21: =SUM(F6:F20) -> 496 | G21: =SUM(G6:G20) -> 432 | H21: =SUM(H6:H20) -> 0 | I21: =SUM(I6:I20) -> 0 | J21: =SUM(J6:J20) -> 6 | K21: =SUM(K6:K20) -> 4 | ... BA21: =SUM(BA6:BA20) -> 2
A22: 2 | B22: 1 | C22: 水戸 | D22: 0 | E22: 0 | F22: 59 | G22: 56 | H22: 4 | I22: 0 | J22: 3 | K22: 0 | L22: 0 | M22: 0 | N22: 3 | O22: 0 | P22: 1 | Q22: 2 | R22: 0 | S22: 59 | T22: 0 | U22: 0 | V22: 0 | W22: 0 | X22: 0 | Y22: 0 | Z22: 59 | AA22: 0 | AB22: 0 | AC22: 0 | AD22: =AB22+'2026.7'!AB22 -> 647064 | AE22: =AC22+'2026.7'!AC22 -> 4000.0076 | AF22: 0 | AG22: 0 | AH22: =AG22*$AH$5 -> 0 | AI22: 0 | AJ22: =AI22*$AJ$5 -> 0 | AK22: =AF22+'2026.7'!AD22 -> 1 | AL22: =AG22+'2026.7'!AE22 -> 3 | AM22: =AH22+'2026.7'!AF22 -> 600 | AN22: =AI22+'2026.7'!AG22 -> 35 | AO22: =AJ22+'2026.7'!AH22 -> 14000 | AP22: 0 | AQ22: 0 | AR22: =AP22+'2026.7'!AN22 -> 0 | AS22: =AQ22+'2026.7'!AO22 -> 0 | AT22: 1 | AU22: 420 | AV22: 25 | AW22: 4 | AX22: =AT22+'2026.7'!AT22 -> 2 | AY22: =AU22+'2026.7'!AU22 -> 470 | AZ22: =AV22+'2026.7'!AV22 -> 174 | BA22: =AW22+'2026.7'!AW22 -> 10
C23: 水戸葵 | D23: 0 | E23: 0 | F23: 93 | G23: 85 | H23: 0 | I23: 0 | J23: 0 | K23: 0 | L23: 4 | M23: 16 | N23: 8 | O23: 0 | P23: 7 | Q23: 7 | R23: 0 | S23: 93 | T23: 0 | U23: 0 | V23: 0 | W23: 0 | X23: 0 | Y23: 0 | Z23: 93 | AA23: 0 | AB23: 0 | AC23: 0 | AD23: =AB23+'2026.7'!AB23 -> 0 | AE23: =AC23+'2026.7'!AC23 -> 0 | AF23: 0 | AG23: 0 | AH23: =AG23*$AH$5 -> 0 | AI23: 0 | AJ23: =AI23*$AJ$5 -> 0 | AK23: =AF23+'2026.7'!AD23 -> 0 | AL23: =AG23+'2026.7'!AE23 -> 0 | AM23: =AH23+'2026.7'!AF23 -> 0 | AN23: =AI23+'2026.7'!AG23 -> 0 | AO23: =AJ23+'2026.7'!AH23 -> 0 | AP23: 0 | AQ23: 0 | AR23: =AP23+'2026.7'!AN23 -> 0 | AS23: =AQ23+'2026.7'!AO23 -> 0 | AT23: 0 | AU23: 0 | AV23: 0 | AW23: 0 | AX23: =AT23+'2026.7'!AT23 -> 0 | AY23: =AU23+'2026.7'!AU23 -> 0 | AZ23: =AV23+'2026.7'!AV23 -> 0 | BA23: =AW23+'2026.7'!AW23 -> 0
C24: 水戸西 | D24: 0 | E24: 0 | F24: 62 | G24: 62 | H24: 0 | I24: 0 | J24: 3 | K24: 0 | L24: 0 | M24: 0 | N24: 0 | O24: 0 | P24: 0 | Q24: 0 | R24: 0 | S24: 62 | T24: 0 | U24: 0 | V24: 0 | W24: 0 | X24: 0 | Y24: 0 | Z24: 62 | AA24: 0 | AB24: 0 | AC24: 0 | AD24: =AB24+'2026.7'!AB24 -> 0 | AE24: =AC24+'2026.7'!AC24 -> 0 | AF24: 0 | AG24: 0 | AH24: =AG24*$AH$5 -> 0 | AI24: 0 | AJ24: =AI24*$AJ$5 -> 0 | AK24: =AF24+'2026.7'!AD24 -> 0 | AL24: =AG24+'2026.7'!AE24 -> 0 | AM24: =AH24+'2026.7'!AF24 -> 0 | AN24: =AI24+'2026.7'!AG24 -> 0 | AO24: =AJ24+'2026.7'!AH24 -> 0 | AP24: 0 | AQ24: 0 | AR24: =AP24+'2026.7'!AN24 -> 0 | AS24: =AQ24+'2026.7'!AO24 -> 0 | AT24: 0 | AU24: 0 | AV24: 0 | AW24: 0 | AX24: =AT24+'2026.7'!AT24 -> 0 | AY24: =AU24+'2026.7'!AU24 -> 0 | AZ24: =AV24+'2026.7'!AV24 -> 0 | BA24: =AW24+'2026.7'!AW24 -> 0
C25: 水戸東 | D25: 0 | E25: 0 | F25: 29 | G25: 28 | H25: 1 | I25: 1 | J25: 0 | K25: 4 | L25: 3 | M25: 0 | N25: 1 | O25: 0 | P25: 1 | Q25: 1 | R25: 0 | S25: 30 | T25: 0 | U25: 0 | V25: 0 | W25: 0 | X25: 0 | Y25: 1 | Z25: 29 | AA25: -1 | AB25: 0 | AC25: 0 | AD25: =AB25+'2026.7'!AB25 -> 0 | AE25: =AC25+'2026.7'!AC25 -> 0 | AF25: 0 | AG25: 0 | AH25: =AG25*$AH$5 -> 0 | AI25: 0 | AJ25: =AI25*$AJ$5 -> 0 | AK25: =AF25+'2026.7'!AD25 -> 1 | AL25: =AG25+'2026.7'!AE25 -> 10 | AM25: =AH25+'2026.7'!AF25 -> 2000 | AN25: =AI25+'2026.7'!AG25 -> 29 | AO25: =AJ25+'2026.7'!AH25 -> 11600 | AP25: 0 | AQ25: 0 | AR25: =AP25+'2026.7'!AN25 -> 0 | AS25: =AQ25+'2026.7'!AO25 -> 0 | AT25: 0 | AU25: 0 | AV25: 0 | AW25: 0 | AX25: =AT25+'2026.7'!AT25 -> 0 | AY25: =AU25+'2026.7'!AU25 -> 0 | AZ25: =AV25+'2026.7'!AV25 -> 0 | BA25: =AW25+'2026.7'!AW25 -> 0
C26: 水戸南 | D26: 0 | E26: 0 | F26: 23 | G26: 18 | H26: 0 | I26: 0 | J26: 0 | K26: 0 | L26: 0 | M26: 0 | N26: 5 | O26: 0 | P26: 0 | Q26: 4 | R26: 0 | S26: 23 | T26: 0 | U26: 0 | V26: 0 | W26: 0 | X26: 0 | Y26: 0 | Z26: 23 | AA26: 0 | AB26: 0 | AC26: 0 | AD26: =AB26+'2026.7'!AB26 -> 0 | AE26: =AC26+'2026.7'!AC26 -> 0 | AF26: 0 | AG26: 0 | AH26: =AG26*$AH$5 -> 0 | AI26: 0 | AJ26: =AI26*$AJ$5 -> 0 | AK26: =AF26+'2026.7'!AD26 -> 0 | AL26: =AG26+'2026.7'!AE26 -> 0 | AM26: =AH26+'2026.7'!AF26 -> 0 | AN26: =AI26+'2026.7'!AG26 -> 0 | AO26: =AJ26+'2026.7'!AH26 -> 0 | AP26: 0 | AQ26: 0 | AR26: =AP26+'2026.7'!AN26 -> 0 | AS26: =AQ26+'2026.7'!AO26 -> 0 | AT26: 0 | AU26: 0 | AV26: 0 | AW26: 0 | AX26: =AT26+'2026.7'!AT26 -> 1 | AY26: =AU26+'2026.7'!AU26 -> 60 | AZ26: =AV26+'2026.7'!AV26 -> 45 | BA26: =AW26+'2026.7'!AW26 -> 2
C27: 水戸北 | D27: 0 | E27: 0 | F27: 19 | G27: 19 | H27: 2 | I27: 0 | J27: 0 | K27: 0 | L27: 4 | M27: 0 | N27: 0 | O27: 0 | P27: 2 | Q27: 0 | R27: 0 | S27: 19 | T27: 0 | U27: 0 | V27: 0 | W27: 0 | X27: 0 | Y27: 0 | Z27: 19 | AA27: 0 | AB27: 0 | AC27: 0 | AD27: =AB27+'2026.7'!AB27 -> 0 | AE27: =AC27+'2026.7'!AC27 -> 0 | AF27: 0 | AG27: 0 | AH27: =AG27*$AH$5 -> 0 | AI27: 0 | AJ27: =AI27*$AJ$5 -> 0 | AK27: =AF27+'2026.7'!AD27 -> 1 | AL27: =AG27+'2026.7'!AE27 -> 21 | AM27: =AH27+'2026.7'!AF27 -> 4200 | AN27: =AI27+'2026.7'!AG27 -> 21 | AO27: =AJ27+'2026.7'!AH27 -> 8400 | AP27: 0 | AQ27: 0 | AR27: =AP27+'2026.7'!AN27 -> 0 | AS27: =AQ27+'2026.7'!AO27 -> 0 | AT27: 0 | AU27: 0 | AV27: 0 | AW27: 0 | AX27: =AT27+'2026.7'!AT27 -> 0 | AY27: =AU27+'2026.7'!AU27 -> 0 | AZ27: =AV27+'2026.7'!AV27 -> 0 | BA27: =AW27+'2026.7'!AW27 -> 0
C28: 水戸チアフル | D28: 0 | E28: 0 | F28: 24 | G28: 24 | H28: 0 | I28: 0 | J28: 0 | K28: 0 | L28: 1 | M28: 5 | N28: 0 | O28: 0 | P28: 24 | Q28: 0 | R28: 0 | S28: 24 | T28: 0 | U28: 0 | V28: 0 | W28: 0 | X28: 0 | Y28: 0 | Z28: 24 | AA28: 0 | AB28: 0 | AC28: 0 | AD28: =AB28+'2026.7'!AB28 -> 0 | AE28: =AC28+'2026.7'!AC28 -> 0 | AF28: 0 | AG28: 0 | AH28: =AG28*$AH$5 -> 0 | AI28: 0 | AJ28: =AI28*$AJ$5 -> 0 | AK28: =AF28+'2026.7'!AD28 -> 0 | AL28: =AG28+'2026.7'!AE28 -> 0 | AM28: =AH28+'2026.7'!AF28 -> 0 | AN28: =AI28+'2026.7'!AG28 -> 0 | AO28: =AJ28+'2026.7'!AH28 -> 0 | AP28: 0 | AQ28: 0 | AR28: =AP28+'2026.7'!AN28 -> 0 | AS28: =AQ28+'2026.7'!AO28 -> 0 | AT28: 0 | AU28: 0 | AV28: 0 | AW28: 0 | AX28: =AT28+'2026.7'!AT28 -> 1 | AY28: =AU28+'2026.7'!AU28 -> 50 | AZ28: =AV28+'2026.7'!AV28 -> 252 | BA28: =AW28+'2026.7'!AW28 -> 3
B29: 2 | C29: 大洗 | D29: 0 | E29: 0 | F29: 16 | G29: 16 | H29: 0 | I29: 0 | J29: 1 | K29: 0 | L29: 3 | M29: 0 | N29: 0 | O29: 0 | P29: 0 | Q29: 0 | R29: 0 | S29: 16 | T29: 0 | U29: 0 | V29: 0 | W29: 0 | X29: 0 | Y29: 0 | Z29: 16 | AA29: 0 | AB29: 0 | AC29: 0 | AD29: =AB29+'2026.7'!AB29 -> 0 | AE29: =AC29+'2026.7'!AC29 -> 0 | AF29: 0 | AG29: 0 | AH29: =AG29*$AH$5 -> 0 | AI29: 0 | AJ29: =AI29*$AJ$5 -> 0 | AK29: =AF29+'2026.7'!AD29 -> 1 | AL29: =AG29+'2026.7'!AE29 -> 3 | AM29: =AH29+'2026.7'!AF29 -> 600 | AN29: =AI29+'2026.7'!AG29 -> 20 | AO29: =AJ29+'2026.7'!AH29 -> 8000 | AP29: 0 | AQ29: 0 | AR29: =AP29+'2026.7'!AN29 -> 0 | AS29: =AQ29+'2026.7'!AO29 -> 0 | AT29: 0 | AU29: 0 | AV29: 0 | AW29: 0 | AX29: =AT29+'2026.7'!AT29 -> 0 | AY29: =AU29+'2026.7'!AU29 -> 0 | AZ29: =AV29+'2026.7'!AV29 -> 0 | BA29: =AW29+'2026.7'!AW29 -> 0
C30: 鹿島 | D30: 0 | E30: 0 | F30: 130 | G30: 82 | H30: 0 | I30: 1 | J30: 0 | K30: 0 | L30: 0 | M30: 0 | N30: 48 | O30: 0 | P30: 9 | Q30: 32 | R30: 0 | S30: 128 | T30: 0 | U30: 0 | V30: 2 | W30: 0 | X30: 0 | Y30: 0 | Z30: 130 | AA30: 2 | AB30: 0 | AC30: 0 | AD30: =AB30+'2026.7'!AB30 -> 647064 | AE30: =AC30+'2026.7'!AC30 -> 4000.0076 | AF30: 0 | AG30: 0 | AH30: =AG30*$AH$5 -> 0 | AI30: 0 | AJ30: =AI30*$AJ$5 -> 0 | AK30: =AF30+'2026.7'!AD30 -> 2 | AL30: =AG30+'2026.7'!AE30 -> 2 | AM30: =AH30+'2026.7'!AF30 -> 400 | AN30: =AI30+'2026.7'!AG30 -> 89 | AO30: =AJ30+'2026.7'!AH30 -> 35600 | AP30: 0 | AQ30: 0 | AR30: =AP30+'2026.7'!AN30 -> 0 | AS30: =AQ30+'2026.7'!AO30 -> 0 | AT30: 1 | AU30: 840 | AV30: 30 | AW30: 20 | AX30: =AT30+'2026.7'!AT30 -> 1 | AY30: =AU30+'2026.7'!AU30 -> 840 | AZ30: =AV30+'2026.7'!AV30 -> 30 | BA30: =AW30+'2026.7'!AW30 -> 20
C31: 鉾田 | D31: 0 | E31: 0 | F31: 58 | G31: 47 | H31: 0 | I31: 0 | J31: 3 | K31: 0 | L31: 0 | M31: 0 | N31: 11 | O31: 0 | P31: 8 | Q31: 8 | R31: 0 | S31: 58 | T31: 0 | U31: 0 | V31: 0 | W31: 0 | X31: 0 | Y31: 0 | Z31: 58 | AA31: 0 | AB31: 491262 | AC31: 3000.0002 | AD31: =AB31+'2026.7'!AB31 -> 1623623 | AE31: =AC31+'2026.7'!AC31 -> 10000.007 | AF31: 1 | AG31: 3 | AH31: =AG31*$AH$5 -> 600 | AI31: 60 | AJ31: =AI31*$AJ$5 -> 24000 | AK31: =AF31+'2026.7'!AD31 -> 2 | AL31: =AG31+'2026.7'!AE31 -> 4 | AM31: =AH31+'2026.7'!AF31 -> 800 | AN31: =AI31+'2026.7'!AG31 -> 76 | AO31: =AJ31+'2026.7'!AH31 -> 30400 | AP31: 0 | AQ31: 0 | AR31: =AP31+'2026.7'!AN31 -> 0 | AS31: =AQ31+'2026.7'!AO31 -> 0 | AT31: 0 | AU31: 0 | AV31: 0 | AW31: 0 | AX31: =AT31+'2026.7'!AT31 -> 1 | AY31: =AU31+'2026.7'!AU31 -> 60 | AZ31: =AV31+'2026.7'!AV31 -> 70 | BA31: =AW31+'2026.7'!AW31 -> 10
C32: 潮来 | D32: 0 | E32: 1 | F32: 101 | G32: 84 | H32: 0 | I32: 0 | J32: 0 | K32: 0 | L32: 0 | M32: 0 | N32: 17 | O32: 0 | P32: 8 | Q32: 15 | R32: 0 | S32: 101 | T32: 0 | U32: 0 | V32: 1 | W32: 0 | X32: 1 | Y32: 0 | Z32: 101 | AA32: 0 | AB32: 0 | AC32: 0 | AD32: =AB32+'2026.7'!AB32 -> 0 | AE32: =AC32+'2026.7'!AC32 -> 0 | AF32: 1 | AG32: 1 | AH32: =AG32*$AH$5 -> 200 | AI32: 38 | AJ32: =AI32*$AJ$5 -> 15200 | AK32: =AF32+'2026.7'!AD32 -> 2 | AL32: =AG32+'2026.7'!AE32 -> 3 | AM32: =AH32+'2026.7'!AF32 -> 600 | AN32: =AI32+'2026.7'!AG32 -> 62 | AO32: =AJ32+'2026.7'!AH32 -> 24800 | AP32: 0 | AQ32: 0 | AR32: =AP32+'2026.7'!AN32 -> 0 | AS32: =AQ32+'2026.7'!AO32 -> 0 | AT32: 1 | AU32: 480 | AV32: 14 | AW32: 16 | AX32: =AT32+'2026.7'!AT32 -> 1 | AY32: =AU32+'2026.7'!AU32 -> 480 | AZ32: =AV32+'2026.7'!AV32 -> 14 | BA32: =AW32+'2026.7'!AW32 -> 16
C33: 神栖 | D33: 0 | E33: 0 | F33: 111 | G33: 95 | H33: 0 | I33: 0 | J33: 0 | K33: 0 | L33: 0 | M33: 0 | N33: 16 | O33: 0 | P33: 11 | Q33: 8 | R33: 0 | S33: 109 | T33: 0 | U33: 0 | V33: 2 | W33: 0 | X33: 0 | Y33: 0 | Z33: 111 | AA33: 2 | AB33: 0 | AC33: 0 | AD33: =AB33+'2026.7'!AB33 -> 161766 | AE33: =AC33+'2026.7'!AC33 -> 1000.0019 | AF33: 1 | AG33: 0 | AH33: =AG33*$AH$5 -> 0 | AI33: 48 | AJ33: =AI33*$AJ$5 -> 19200 | AK33: =AF33+'2026.7'!AD33 -> 1 | AL33: =AG33+'2026.7'!AE33 -> 0 | AM33: =AH33+'2026.7'!AF33 -> 0 | AN33: =AI33+'2026.7'!AG33 -> 48 | AO33: =AJ33+'2026.7'!AH33 -> 19200 | AP33: 0 | AQ33: 0 | AR33: =AP33+'2026.7'!AN33 -> 0 | AS33: =AQ33+'2026.7'!AO33 -> 0 | AT33: 1 | AU33: 360 | AV33: 26 | AW33: 8 | AX33: =AT33+'2026.7'!AT33 -> 2 | AY33: =AU33+'2026.7'!AU33 -> 410 | AZ33: =AV33+'2026.7'!AV33 -> 80 | BA33: =AW33+'2026.7'!AW33 -> 18
C34: 行方 | D34: 0 | E34: 0 | F34: 67 | G34: 55 | H34: 0 | I34: 0 | J34: 0 | K34: 0 | L34: 0 | M34: 0 | N34: 12 | O34: 0 | P34: 0 | Q34: 12 | R34: 0 | S34: 66 | T34: 0 | U34: 0 | V34: 1 | W34: 0 | X34: 0 | Y34: 0 | Z34: 67 | AA34: 1 | AB34: 0 | AC34: 0 | AD34: =AB34+'2026.7'!AB34 -> 0 | AE34: =AC34+'2026.7'!AC34 -> 0 | AF34: 1 | AG34: 3 | AH34: =AG34*$AH$5 -> 600 | AI34: 40 | AJ34: =AI34*$AJ$5 -> 16000 | AK34: =AF34+'2026.7'!AD34 -> 1 | AL34: =AG34+'2026.7'!AE34 -> 3 | AM34: =AH34+'2026.7'!AF34 -> 600 | AN34: =AI34+'2026.7'!AG34 -> 40 | AO34: =AJ34+'2026.7'!AH34 -> 16000 | AP34: 0 | AQ34: 0 | AR34: =AP34+'2026.7'!AN34 -> 1 | AS34: =AQ34+'2026.7'!AO34 -> 0 | AT34: 1 | AU34: 480 | AV34: 14 | AW34: 20 | AX34: =AT34+'2026.7'!AT34 -> 1 | AY34: =AU34+'2026.7'!AU34 -> 480 | AZ34: =AV34+'2026.7'!AV34 -> 14 | BA34: =AW34+'2026.7'!AW34 -> 20
A35: R合計 | D35: =SUM(D22:D34) -> 0 | E35: =SUM(E22:E34) -> 1 | F35: =SUM(F22:F34) -> 792 | G35: =SUM(G22:G34) -> 671 | H35: =SUM(H22:H34) -> 7 | I35: =SUM(I22:I34) -> 2 | J35: =SUM(J22:J34) -> 10 | K35: =SUM(K22:K34) -> 4 | ... BA35: =SUM(BA22:BA34) -> 99
A36: 3 | B36: 1 | C36: 石岡 | D36: 0 | E36: 0 | F36: 42 | G36: 41 | H36: 0 | I36: 0 | J36: 0 | K36: 0 | L36: 0 | M36: 0 | N36: 1 | O36: 0 | P36: 6 | Q36: 1 | R36: 0 | S36: 37 | T36: 0 | U36: 0 | V36: 5 | W36: 0 | X36: 0 | Y36: 0 | Z36: 42 | AA36: 5 | AB36: 0 | AC36: 0 | AD36: =AB36+'2026.7'!AB36 -> 0 | AE36: =AC36+'2026.7'!AC36 -> 0 | AF36: 0 | AG36: 0 | AH36: =AG36*$AH$5 -> 0 | AI36: 0 | AJ36: =AI36*$AJ$5 -> 0 | AK36: =AF36+'2026.7'!AD36 -> 1 | AL36: =AG36+'2026.7'!AE36 -> 4 | AM36: =AH36+'2026.7'!AF36 -> 800 | AN36: =AI36+'2026.7'!AG36 -> 59 | AO36: =AJ36+'2026.7'!AH36 -> 23600 | AP36: 0 | AQ36: 0 | AR36: =AP36+'2026.7'!AN36 -> 0 | AS36: =AQ36+'2026.7'!AO36 -> 0 | AT36: 0 | AU36: 0 | AV36: 0 | AW36: 0 | AX36: =AT36+'2026.7'!AT36 -> 1 | AY36: =AU36+'2026.7'!AU36 -> 40 | AZ36: =AV36+'2026.7'!AV36 -> 93 | BA36: =AW36+'2026.7'!AW36 -> 10
C37: 八郷 | D37: 0 | E37: 0 | F37: 16 | G37: 12 | H37: 0 | I37: 0 | J37: 0 | K37: 0 | L37: 0 | M37: 0 | N37: 4 | O37: 0 | P37: 0 | Q37: 4 | R37: 0 | S37: 16 | T37: 0 | U37: 0 | V37: 0 | W37: 0 | X37: 0 | Y37: 0 | Z37: 16 | AA37: 0 | AB37: 0 | AC37: 0 | AD37: =AB37+'2026.7'!AB37 -> 0 | AE37: =AC37+'2026.7'!AC37 -> 0 | AF37: 0 | AG37: 0 | AH37: =AG37*$AH$5 -> 0 | AI37: 0 | AJ37: =AI37*$AJ$5 -> 0 | AK37: =AF37+'2026.7'!AD37 -> 0 | AL37: =AG37+'2026.7'!AE37 -> 0 | AM37: =AH37+'2026.7'!AF37 -> 0 | AN37: =AI37+'2026.7'!AG37 -> 0 | AO37: =AJ37+'2026.7'!AH37 -> 0 | AP37: 0 | AQ37: 0 | AR37: =AP37+'2026.7'!AN37 -> 0 | AS37: =AQ37+'2026.7'!AO37 -> 0 | AT37: 0 | AU37: 0 | AV37: 0 | AW37: 0 | AX37: =AT37+'2026.7'!AT37 -> 1 | AY37: =AU37+'2026.7'!AU37 -> 60 | AZ37: =AV37+'2026.7'!AV37 -> 42 | BA37: =AW37+'2026.7'!AW37 -> 5
C38: 岩間 | D38: 0 | E38: 0 | F38: 16 | G38: 16 | H38: 0 | I38: 0 | J38: 0 | K38: 0 | L38: 0 | M38: 0 | N38: 0 | O38: 0 | P38: 0 | Q38: 0 | R38: 0 | S38: 16 | T38: 0 | U38: 0 | V38: 0 | W38: 0 | X38: 0 | Y38: 0 | Z38: 16 | AA38: 0 | AB38: 0 | AC38: 0 | AD38: =AB38+'2026.7'!AB38 -> 0 | AE38: =AC38+'2026.7'!AC38 -> 0 | AF38: 1 | AG38: 0 | AH38: =AG38*$AH$5 -> 0 | AI38: 29 | AJ38: =AI38*$AJ$5 -> 11600 | AK38: =AF38+'2026.7'!AD38 -> 1 | AL38: =AG38+'2026.7'!AE38 -> 0 | AM38: =AH38+'2026.7'!AF38 -> 0 | AN38: =AI38+'2026.7'!AG38 -> 29 | AO38: =AJ38+'2026.7'!AH38 -> 11600 | AP38: 0 | AQ38: 0 | AR38: =AP38+'2026.7'!AN38 -> 0 | AS38: =AQ38+'2026.7'!AO38 -> 0 | AT38: 0 | AU38: 0 | AV38: 0 | AW38: 0 | AX38: =AT38+'2026.7'!AT38 -> 0 | AY38: =AU38+'2026.7'!AU38 -> 0 | AZ38: =AV38+'2026.7'!AV38 -> 0 | BA38: =AW38+'2026.7'!AW38 -> 0
C39: 笠間 | D39: 0 | E39: 0 | F39: 33 | G39: 23 | H39: 0 | I39: 0 | J39: 0 | K39: 0 | L39: 0 | M39: 0 | N39: 10 | O39: 0 | P39: 1 | Q39: 10 | R39: 0 | S39: 32 | T39: 0 | U39: 0 | V39: 1 | W39: 0 | X39: 0 | Y39: 0 | Z39: 33 | AA39: 1 | AB39: 0 | AC39: 0 | AD39: =AB39+'2026.7'!AB39 -> 0 | AE39: =AC39+'2026.7'!AC39 -> 0 | AF39: 0 | AG39: 0 | AH39: =AG39*$AH$5 -> 0 | AI39: 0 | AJ39: =AI39*$AJ$5 -> 0 | AK39: =AF39+'2026.7'!AD39 -> 0 | AL39: =AG39+'2026.7'!AE39 -> 0 | AM39: =AH39+'2026.7'!AF39 -> 0 | AN39: =AI39+'2026.7'!AG39 -> 0 | AO39: =AJ39+'2026.7'!AH39 -> 0 | AP39: 0 | AQ39: 0 | AR39: =AP39+'2026.7'!AN39 -> 0 | AS39: =AQ39+'2026.7'!AO39 -> 0 | AT39: 0 | AU39: 0 | AV39: 0 | AW39: 0 | AX39: =AT39+'2026.7'!AT39 -> 0 | AY39: =AU39+'2026.7'!AU39 -> 0 | AZ39: =AV39+'2026.7'!AV39 -> 0 | BA39: =AW39+'2026.7'!AW39 -> 0
C40: 美野里 | D40: 0 | E40: 0 | F40: 17 | G40: 14 | H40: 0 | I40: 0 | J40: 0 | K40: 0 | L40: 0 | M40: 0 | N40: 3 | O40: 0 | P40: 3 | Q40: 3 | R40: 0 | S40: 17 | T40: 0 | U40: 0 | V40: 0 | W40: 0 | X40: 0 | Y40: 0 | Z40: 17 | AA40: 0 | AB40: 0 | AC40: 0 | AD40: =AB40+'2026.7'!AB40 -> 0 | AE40: =AC40+'2026.7'!AC40 -> 0 | AF40: 1 | AG40: 6 | AH40: =AG40*$AH$5 -> 1200 | AI40: 45 | AJ40: =AI40*$AJ$5 -> 18000 | AK40: =AF40+'2026.7'!AD40 -> 1 | AL40: =AG40+'2026.7'!AE40 -> 6 | AM40: =AH40+'2026.7'!AF40 -> 1200 | AN40: =AI40+'2026.7'!AG40 -> 45 | AO40: =AJ40+'2026.7'!AH40 -> 18000 | AP40: 0 | AQ40: 0 | AR40: =AP40+'2026.7'!AN40 -> 0 | AS40: =AQ40+'2026.7'!AO40 -> 0 | AT40: 0 | AU40: 0 | AV40: 0 | AW40: 0 | AX40: =AT40+'2026.7'!AT40 -> 0 | AY40: =AU40+'2026.7'!AU40 -> 0 | AZ40: =AV40+'2026.7'!AV40 -> 0 | BA40: =AW40+'2026.7'!AW40 -> 0
C41: 常陸小川 | D41: 0 | E41: 0 | F41: 19 | G41: 13 | H41: 0 | I41: 0 | J41: 0 | K41: 0 | L41: 0 | M41: 0 | N41: 6 | O41: 0 | P41: 0 | Q41: 0 | R41: 0 | S41: 19 | T41: 0 | U41: 0 | V41: 0 | W41: 0 | X41: 0 | Y41: 0 | Z41: 19 | AA41: 0 | AB41: 0 | AC41: 0 | AD41: =AB41+'2026.7'!AB41 -> 0 | AE41: =AC41+'2026.7'!AC41 -> 0 | AF41: 1 | AG41: 0 | AH41: =AG41*$AH$5 -> 0 | AI41: 38 | AJ41: =AI41*$AJ$5 -> 15200 | AK41: =AF41+'2026.7'!AD41 -> 2 | AL41: =AG41+'2026.7'!AE41 -> 0 | AM41: =AH41+'2026.7'!AF41 -> 0 | AN41: =AI41+'2026.7'!AG41 -> 70 | AO41: =AJ41+'2026.7'!AH41 -> 28000 | AP41: 0 | AQ41: 0 | AR41: =AP41+'2026.7'!AN41 -> 0 | AS41: =AQ41+'2026.7'!AO41 -> 0 | AT41: 0 | AU41: 0 | AV41: 0 | AW41: 0 | AX41: =AT41+'2026.7'!AT41 -> 0 | AY41: =AU41+'2026.7'!AU41 -> 0 | AZ41: =AV41+'2026.7'!AV41 -> 0 | BA41: =AW41+'2026.7'!AW41 -> 0
C42: 内原 | D42: 0 | E42: 0 | F42: 4 | G42: 4 | H42: 0 | I42: 0 | J42: 0 | K42: 0 | L42: 0 | M42: 0 | N42: 0 | O42: 0 | P42: 1 | Q42: 0 | R42: 0 | S42: 4 | T42: 0 | U42: 0 | V42: 0 | W42: 0 | X42: 0 | Y42: 0 | Z42: 4 | AA42: 0 | AB42: 0 | AC42: 0 | AD42: =AB42+'2026.7'!AB42 -> 0 | AE42: =AC42+'2026.7'!AC42 -> 0 | AF42: 0 | AG42: 0 | AH42: =AG42*$AH$5 -> 0 | AI42: 0 | AJ42: =AI42*$AJ$5 -> 0 | AK42: =AF42+'2026.7'!AD42 -> 0 | AL42: =AG42+'2026.7'!AE42 -> 0 | AM42: =AH42+'2026.7'!AF42 -> 0 | AN42: =AI42+'2026.7'!AG42 -> 0 | AO42: =AJ42+'2026.7'!AH42 -> 0 | AP42: 0 | AQ42: 0 | AR42: =AP42+'2026.7'!AN42 -> 0 | AS42: =AQ42+'2026.7'!AO42 -> 0 | AT42: 0 | AU42: 0 | AV42: 0 | AW42: 0 | AX42: =AT42+'2026.7'!AT42 -> 0 | AY42: =AU42+'2026.7'!AU42 -> 0 | AZ42: =AV42+'2026.7'!AV42 -> 0 | BA42: =AW42+'2026.7'!AW42 -> 0
C43: 茨城ひぬま | D43: 0 | E43: 0 | F43: 41 | G43: 22 | H43: 0 | I43: 0 | J43: 0 | K43: 0 | L43: 0 | M43: 0 | N43: 19 | O43: 0 | P43: 2 | Q43: 13 | R43: 0 | S43: 41 | T43: 0 | U43: 0 | V43: 0 | W43: 0 | X43: 0 | Y43: 0 | Z43: 41 | AA43: 0 | AB43: 0 | AC43: 0 | AD43: =AB43+'2026.7'!AB43 -> 0 | AE43: =AC43+'2026.7'!AC43 -> 0 | AF43: 0 | AG43: 0 | AH43: =AG43*$AH$5 -> 0 | AI43: 0 | AJ43: =AI43*$AJ$5 -> 0 | AK43: =AF43+'2026.7'!AD43 -> 0 | AL43: =AG43+'2026.7'!AE43 -> 0 | AM43: =AH43+'2026.7'!AF43 -> 0 | AN43: =AI43+'2026.7'!AG43 -> 0 | AO43: =AJ43+'2026.7'!AH43 -> 0 | AP43: 0 | AQ43: 0 | AR43: =AP43+'2026.7'!AN43 -> 0 | AS43: =AQ43+'2026.7'!AO43 -> 0 | AT43: 0 | AU43: 0 | AV43: 0 | AW43: 0 | AX43: =AT43+'2026.7'!AT43 -> 1 | AY43: =AU43+'2026.7'!AU43 -> 50 | AZ43: =AV43+'2026.7'!AV43 -> 104 | BA43: =AW43+'2026.7'!AW43 -> 2
B44: 2 | C44: 岩瀬 | D44: 0 | E44: 0 | F44: 32 | G44: 32 | H44: 0 | I44: 0 | J44: 0 | K44: 0 | L44: 0 | M44: 0 | N44: 0 | O44: 0 | P44: 4 | Q44: 0 | R44: 0 | S44: 32 | T44: 0 | U44: 0 | V44: 0 | W44: 0 | X44: 0 | Y44: 0 | Z44: 32 | AA44: 0 | AB44: 0 | AC44: 0 | AD44: =AB44+'2026.7'!AB44 -> 0 | AE44: =AC44+'2026.7'!AC44 -> 0 | AF44: 0 | AG44: 0 | AH44: =AG44*$AH$5 -> 0 | AI44: 0 | AJ44: =AI44*$AJ$5 -> 0 | AK44: =AF44+'2026.7'!AD44 -> 0 | AL44: =AG44+'2026.7'!AE44 -> 0 | AM44: =AH44+'2026.7'!AF44 -> 0 | AN44: =AI44+'2026.7'!AG44 -> 0 | AO44: =AJ44+'2026.7'!AH44 -> 0 | AP44: 0 | AQ44: 0 | AR44: =AP44+'2026.7'!AN44 -> 0 | AS44: =AQ44+'2026.7'!AO44 -> 0 | AT44: 0 | AU44: 0 | AV44: 0 | AW44: 0 | AX44: =AT44+'2026.7'!AT44 -> 0 | AY44: =AU44+'2026.7'!AU44 -> 0 | AZ44: =AV44+'2026.7'!AV44 -> 0 | BA44: =AW44+'2026.7'!AW44 -> 0
C45: 真壁 | D45: 0 | E45: 0 | F45: 26 | G45: 26 | H45: 0 | I45: 0 | J45: 0 | K45: 0 | L45: 1 | M45: 0 | N45: 0 | O45: 0 | P45: 4 | Q45: 0 | R45: 0 | S45: 25 | T45: 0 | U45: 0 | V45: 1 | W45: 0 | X45: 0 | Y45: 0 | Z45: 26 | AA45: 1 | AB45: 0 | AC45: 0 | AD45: =AB45+'2026.7'!AB45 -> 0 | AE45: =AC45+'2026.7'!AC45 -> 0 | AF45: 1 | AG45: 3 | AH45: =AG45*$AH$5 -> 600 | AI45: 50 | AJ45: =AI45*$AJ$5 -> 20000 | AK45: =AF45+'2026.7'!AD45 -> 1 | AL45: =AG45+'2026.7'!AE45 -> 3 | AM45: =AH45+'2026.7'!AF45 -> 600 | AN45: =AI45+'2026.7'!AG45 -> 50 | AO45: =AJ45+'2026.7'!AH45 -> 20000 | AP45: 0 | AQ45: 0 | AR45: =AP45+'2026.7'!AN45 -> 0 | AS45: =AQ45+'2026.7'!AO45 -> 0 | AT45: 0 | AU45: 0 | AV45: 0 | AW45: 0 | AX45: =AT45+'2026.7'!AT45 -> 0 | AY45: =AU45+'2026.7'!AU45 -> 0 | AZ45: =AV45+'2026.7'!AV45 -> 0 | BA45: =AW45+'2026.7'!AW45 -> 0
C46: 常陸大和 | D46: 0 | E46: 0 | F46: 25 | G46: 18 | H46: 0 | I46: 0 | J46: 1 | K46: 0 | L46: 2 | M46: 0 | N46: 7 | O46: 0 | P46: 0 | Q46: 7 | R46: 0 | S46: 25 | T46: 0 | U46: 0 | V46: 0 | W46: 0 | X46: 0 | Y46: 0 | Z46: 25 | AA46: 0 | AB46: 0 | AC46: 0 | AD46: =AB46+'2026.7'!AB46 -> 0 | AE46: =AC46+'2026.7'!AC46 -> 0 | AF46: 1 | AG46: 0 | AH46: =AG46*$AH$5 -> 0 | AI46: 7 | AJ46: =AI46*$AJ$5 -> 2800 | AK46: =AF46+'2026.7'!AD46 -> 1 | AL46: =AG46+'2026.7'!AE46 -> 0 | AM46: =AH46+'2026.7'!AF46 -> 0 | AN46: =AI46+'2026.7'!AG46 -> 7 | AO46: =AJ46+'2026.7'!AH46 -> 2800 | AP46: 0 | AQ46: 0 | AR46: =AP46+'2026.7'!AN46 -> 0 | AS46: =AQ46+'2026.7'!AO46 -> 0 | AT46: 0 | AU46: 0 | AV46: 0 | AW46: 0 | AX46: =AT46+'2026.7'!AT46 -> 0 | AY46: =AU46+'2026.7'!AU46 -> 0 | AZ46: =AV46+'2026.7'!AV46 -> 0 | BA46: =AW46+'2026.7'!AW46 -> 0
C47: 茨城八千代 | D47: 0 | E47: 0 | F47: 42 | G47: 31 | H47: 0 | I47: 0 | J47: 0 | K47: 0 | L47: 0 | M47: 0 | N47: 11 | O47: 0 | P47: 0 | Q47: 8 | R47: 0 | S47: 40 | T47: 0 | U47: 0 | V47: 2 | W47: 0 | X47: 0 | Y47: 0 | Z47: 42 | AA47: 2 | AB47: 0 | AC47: 0 | AD47: =AB47+'2026.7'!AB47 -> 0 | AE47: =AC47+'2026.7'!AC47 -> 0 | AF47: 0 | AG47: 0 | AH47: =AG47*$AH$5 -> 0 | AI47: 0 | AJ47: =AI47*$AJ$5 -> 0 | AK47: =AF47+'2026.7'!AD47 -> 0 | AL47: =AG47+'2026.7'!AE47 -> 0 | AM47: =AH47+'2026.7'!AF47 -> 0 | AN47: =AI47+'2026.7'!AG47 -> 0 | AO47: =AJ47+'2026.7'!AH47 -> 0 | AP47: 0 | AQ47: 0 | AR47: =AP47+'2026.7'!AN47 -> 0 | AS47: =AQ47+'2026.7'!AO47 -> 0 | AT47: 1 | AU47: 480 | AV47: 31 | AW47: 3 | AX47: =AT47+'2026.7'!AT47 -> 1 | AY47: =AU47+'2026.7'!AU47 -> 480 | AZ47: =AV47+'2026.7'!AV47 -> 31 | BA47: =AW47+'2026.7'!AW47 -> 3
C48: 下館巴 | D48: 0 | E48: 0 | F48: 48 | G48: 48 | H48: 0 | I48: 0 | J48: 0 | K48: 0 | L48: 0 | M48: 0 | N48: 0 | O48: 0 | P48: 4 | Q48: 0 | R48: 0 | S48: 48 | T48: 0 | U48: 0 | V48: 0 | W48: 0 | X48: 0 | Y48: 0 | Z48: 48 | AA48: 0 | AB48: 0 | AC48: 0 | AD48: =AB48+'2026.7'!AB48 -> 0 | AE48: =AC48+'2026.7'!AC48 -> 0 | AF48: 1 | AG48: 7 | AH48: =AG48*$AH$5 -> 1400 | AI48: 112 | AJ48: =AI48*$AJ$5 -> 44800 | AK48: =AF48+'2026.7'!AD48 -> 1 | AL48: =AG48+'2026.7'!AE48 -> 7 | AM48: =AH48+'2026.7'!AF48 -> 1400 | AN48: =AI48+'2026.7'!AG48 -> 112 | AO48: =AJ48+'2026.7'!AH48 -> 44800 | AP48: 0 | AQ48: 0 | AR48: =AP48+'2026.7'!AN48 -> 0 | AS48: =AQ48+'2026.7'!AO48 -> 0 | AT48: 0 | AU48: 0 | AV48: 0 | AW48: 0 | AX48: =AT48+'2026.7'!AT48 -> 0 | AY48: =AU48+'2026.7'!AU48 -> 0 | AZ48: =AV48+'2026.7'!AV48 -> 0 | BA48: =AW48+'2026.7'!AW48 -> 0
C49: しもつま | D49: 0 | E49: 0 | F49: 47 | G49: 43 | H49: 0 | I49: 0 | J49: 1 | K49: 0 | L49: 0 | M49: 0 | N49: 4 | O49: 0 | P49: 5 | Q49: 4 | R49: 0 | S49: 43 | T49: 0 | U49: 0 | V49: 4 | W49: 0 | X49: 0 | Y49: 0 | Z49: 47 | AA49: 4 | AB49: 0 | AC49: 0 | AD49: =AB49+'2026.7'!AB49 -> 0 | AE49: =AC49+'2026.7'!AC49 -> 0 | AF49: 0 | AG49: 0 | AH49: =AG49*$AH$5 -> 0 | AI49: 0 | AJ49: =AI49*$AJ$5 -> 0 | AK49: =AF49+'2026.7'!AD49 -> 1 | AL49: =AG49+'2026.7'!AE49 -> 4 | AM49: =AH49+'2026.7'!AF49 -> 800 | AN49: =AI49+'2026.7'!AG49 -> 53 | AO49: =AJ49+'2026.7'!AH49 -> 21200 | AP49: 0 | AQ49: 0 | AR49: =AP49+'2026.7'!AN49 -> 0 | AS49: =AQ49+'2026.7'!AO49 -> 0 | AT49: 1 | AU49: 480 | AV49: 31 | AW49: 12 | AX49: =AT49+'2026.7'!AT49 -> 1 | AY49: =AU49+'2026.7'!AU49 -> 480 | AZ49: =AV49+'2026.7'!AV49 -> 31 | BA49: =AW49+'2026.7'!AW49 -> 12
C50: 下館シニア | D50: 0 | E50: 0 | F50: 10 | G50: 10 | H50: 0 | I50: 0 | J50: 0 | K50: 1 | L50: 0 | M50: 0 | N50: 0 | O50: 0 | P50: 0 | Q50: 0 | R50: 0 | S50: 10 | T50: 0 | U50: 0 | V50: 0 | W50: 0 | X50: 0 | Y50: 0 | Z50: 10 | AA50: 0 | AB50: 0 | AC50: 0 | AD50: =AB50+'2026.7'!AB50 -> 0 | AE50: =AC50+'2026.7'!AC50 -> 0 | AF50: 0 | AG50: 0 | AH50: =AG50*$AH$5 -> 0 | AI50: 0 | AJ50: =AI50*$AJ$5 -> 0 | AK50: =AF50+'2026.7'!AD50 -> 0 | AL50: =AG50+'2026.7'!AE50 -> 0 | AM50: =AH50+'2026.7'!AF50 -> 0 | AN50: =AI50+'2026.7'!AG50 -> 0 | AO50: =AJ50+'2026.7'!AH50 -> 0 | AP50: 0 | AQ50: 0 | AR50: =AP50+'2026.7'!AN50 -> 0 | AS50: =AQ50+'2026.7'!AO50 -> 0 | AT50: 0 | AU50: 0 | AV50: 0 | AW50: 0 | AX50: =AT50+'2026.7'!AT50 -> 0 | AY50: =AU50+'2026.7'!AU50 -> 0 | AZ50: =AV50+'2026.7'!AV50 -> 0 | BA50: =AW50+'2026.7'!AW50 -> 0
C51: 筑西 | D51: 0 | E51: 0 | F51: 51 | G51: 35 | H51: 0 | I51: 0 | J51: 0 | K51: 0 | L51: 3 | M51: 0 | N51: 16 | O51: 0 | P51: 7 | Q51: 11 | R51: 0 | S51: 50 | T51: 0 | U51: 0 | V51: 1 | W51: 0 | X51: 0 | Y51: 0 | Z51: 51 | AA51: 1 | AB51: 0 | AC51: 0 | AD51: =AB51+'2026.7'!AB51 -> 0 | AE51: =AC51+'2026.7'!AC51 -> 0 | AF51: 0 | AG51: 0 | AH51: =AG51*$AH$5 -> 0 | AI51: 0 | AJ51: =AI51*$AJ$5 -> 0 | AK51: =AF51+'2026.7'!AD51 -> 1 | AL51: =AG51+'2026.7'!AE51 -> 2 | AM51: =AH51+'2026.7'!AF51 -> 400 | AN51: =AI51+'2026.7'!AG51 -> 39 | AO51: =AJ51+'2026.7'!AH51 -> 15600 | AP51: 0 | AQ51: 0 | AR51: =AP51+'2026.7'!AN51 -> 0 | AS51: =AQ51+'2026.7'!AO51 -> 0 | AT51: 0 | AU51: 0 | AV51: 0 | AW51: 0 | AX51: =AT51+'2026.7'!AT51 -> 0 | AY51: =AU51+'2026.7'!AU51 -> 0 | AZ51: =AV51+'2026.7'!AV51 -> 0 | BA51: =AW51+'2026.7'!AW51 -> 0
A52: R合計 | D52: =SUM(D36:D51) -> 0 | E52: =SUM(E36:E51) -> 0 | F52: =SUM(F36:F51) -> 469 | G52: =SUM(G36:G51) -> 388 | H52: =SUM(H36:H51) -> 0 | I52: =SUM(I36:I51) -> 0 | J52: =SUM(J36:J51) -> 2 | K52: =SUM(K36:K51) -> 1 | ... AX52: =SUM(AX36:AX51) -> 5 | AY52: =SUM(AY44:AY51) -> 960 | AZ52: =SUM(AZ44:AZ51) -> 62 | BA52: =SUM(BA44:BA51) -> 15
A53: 4 | B53: 1 | C53: 土浦 | D53: 0 | E53: 0 | F53: 77 | G53: 77 | H53: 1 | I53: 0 | J53: 0 | K53: 3 | L53: 0 | M53: 0 | N53: 0 | O53: 0 | P53: 6 | Q53: 0 | R53: 0 | S53: 76 | T53: 0 | U53: 0 | V53: 1 | W53: 0 | X53: 0 | Y53: 0 | Z53: 77 | AA53: 1 | AB53: 0 | AC53: 0 | AD53: =AB53+'2026.7'!AB53 -> 0 | AE53: =AC53+'2026.7'!AC53 -> 0 | AF53: 1 | AG53: 4 | AH53: =AG53*$AH$5 -> 800 | AI53: 49 | AJ53: =AI53*$AJ$5 -> 19600 | AK53: =AF53+'2026.7'!AD53 -> 1 | AL53: =AG53+'2026.7'!AE53 -> 4 | AM53: =AH53+'2026.7'!AF53 -> 800 | AN53: =AI53+'2026.7'!AG53 -> 49 | AO53: =AJ53+'2026.7'!AH53 -> 19600 | AP53: 0 | AQ53: 0 | AR53: =AP53+'2026.7'!AN53 -> 1 | AS53: =AQ53+'2026.7'!AO53 -> 0 | AT53: 0 | AU53: 0 | AV53: 0 | AW53: 0 | AX53: =AT53+'2026.7'!AT53 -> 1 | AY53: =AU53+'2026.7'!AU53 -> 45 | AZ53: =AV53+'2026.7'!AV53 -> 107 | BA53: =AW53+'2026.7'!AW53 -> 8
C54: 土浦亀城 | D54: 1 | E54: 0 | F54: 26 | G54: 26 | H54: 1 | I54: 0 | J54: 0 | K54: 0 | L54: 0 | M54: 0 | N54: 0 | O54: 0 | P54: 4 | Q54: 0 | R54: 0 | S54: 25 | T54: 0 | U54: 0 | V54: 1 | W54: 0 | X54: 0 | Y54: 0 | Z54: 26 | AA54: 1 | AB54: 0 | AC54: 0 | AD54: =AB54+'2026.7'!AB54 -> 161766 | AE54: =AC54+'2026.7'!AC54 -> 1000.0019 | AF54: 0 | AG54: 0 | AH54: =AG54*$AH$5 -> 0 | AI54: 0 | AJ54: =AI54*$AJ$5 -> 0 | AK54: =AF54+'2026.7'!AD54 -> 1 | AL54: =AG54+'2026.7'!AE54 -> 13 | AM54: =AH54+'2026.7'!AF54 -> 2600 | AN54: =AI54+'2026.7'!AG54 -> 44 | AO54: =AJ54+'2026.7'!AH54 -> 17600 | AP54: 1 | AQ54: 0 | AR54: =AP54+'2026.7'!AN54 -> 1 | AS54: =AQ54+'2026.7'!AO54 -> 0 | AT54: 0 | AU54: 0 | AV54: 0 | AW54: 0 | AX54: =AT54+'2026.7'!AT54 -> 0 | AY54: =AU54+'2026.7'!AU54 -> 0 | AZ54: =AV54+'2026.7'!AV54 -> 0 | BA54: =AW54+'2026.7'!AW54 -> 0
C55: 阿見 | D55: 0 | E55: 0 | F55: 20 | G55: 18 | H55: 0 | I55: 0 | J55: 0 | K55: 0 | L55: 0 | M55: 0 | N55: 2 | O55: 0 | P55: 5 | Q55: 0 | R55: 0 | S55: 20 | T55: 0 | U55: 0 | V55: 0 | W55: 0 | X55: 0 | Y55: 0 | Z55: 20 | AA55: 0 | AB55: 0 | AC55: 0 | AD55: =AB55+'2026.7'!AB55 -> 323532 | AE55: =AC55+'2026.7'!AC55 -> 2000.0038 | AF55: 0 | AG55: 0 | AH55: =AG55*$AH$5 -> 0 | AI55: 0 | AJ55: =AI55*$AJ$5 -> 0 | AK55: =AF55+'2026.7'!AD55 -> 0 | AL55: =AG55+'2026.7'!AE55 -> 0 | AM55: =AH55+'2026.7'!AF55 -> 0 | AN55: =AI55+'2026.7'!AG55 -> 0 | AO55: =AJ55+'2026.7'!AH55 -> 0 | AP55: 0 | AQ55: 0 | AR55: =AP55+'2026.7'!AN55 -> 0 | AS55: =AQ55+'2026.7'!AO55 -> 0 | AT55: 0 | AU55: 0 | AV55: 0 | AW55: 0 | AX55: =AT55+'2026.7'!AT55 -> 0 | AY55: =AU55+'2026.7'!AU55 -> 0 | AZ55: =AV55+'2026.7'!AV55 -> 0 | BA55: =AW55+'2026.7'!AW55 -> 0
C56: 土浦環 | D56: 0 | E56: 0 | F56: 87 | G56: 58 | H56: 8 | I56: 0 | J56: 0 | K56: 0 | L56: 0 | M56: 0 | N56: 29 | O56: 0 | P56: 11 | Q56: 20 | R56: 0 | S56: 87 | T56: 0 | U56: 0 | V56: 0 | W56: 0 | X56: 0 | Y56: 0 | Z56: 87 | AA56: 0 | AB56: 0 | AC56: 0 | AD56: =AB56+'2026.7'!AB56 -> 0 | AE56: =AC56+'2026.7'!AC56 -> 0 | AF56: 0 | AG56: 0 | AH56: =AG56*$AH$5 -> 0 | AI56: 0 | AJ56: =AI56*$AJ$5 -> 0 | AK56: =AF56+'2026.7'!AD56 -> 1 | AL56: =AG56+'2026.7'!AE56 -> 0 | AM56: =AH56+'2026.7'!AF56 -> 0 | AN56: =AI56+'2026.7'!AG56 -> 105 | AO56: =AJ56+'2026.7'!AH56 -> 42000 | AP56: 0 | AQ56: 0 | AR56: =AP56+'2026.7'!AN56 -> 0 | AS56: =AQ56+'2026.7'!AO56 -> 0 | AT56: 0 | AU56: 0 | AV56: 0 | AW56: 0 | AX56: =AT56+'2026.7'!AT56 -> 1 | AY56: =AU56+'2026.7'!AU56 -> 50 | AZ56: =AV56+'2026.7'!AV56 -> 236 | BA56: =AW56+'2026.7'!AW56 -> 10
C57: 土浦北 | D57: 2 | E57: 0 | F57: 78 | G57: 44 | H57: 0 | I57: 0 | J57: 5 | K57: 0 | L57: 0 | M57: 7 | N57: 34 | O57: 0 | P57: 7 | Q57: 21 | R57: 0 | S57: 74 | T57: 0 | U57: 0 | V57: 5 | W57: 0 | X57: 0 | Y57: 1 | Z57: 78 | AA57: 4 | AB57: 0 | AC57: 0 | AD57: =AB57+'2026.7'!AB57 -> 0 | AE57: =AC57+'2026.7'!AC57 -> 0 | AF57: 0 | AG57: 0 | AH57: =AG57*$AH$5 -> 0 | AI57: 0 | AJ57: =AI57*$AJ$5 -> 0 | AK57: =AF57+'2026.7'!AD57 -> 0 | AL57: =AG57+'2026.7'!AE57 -> 0 | AM57: =AH57+'2026.7'!AF57 -> 0 | AN57: =AI57+'2026.7'!AG57 -> 0 | AO57: =AJ57+'2026.7'!AH57 -> 0 | AP57: 0 | AQ57: 0 | AR57: =AP57+'2026.7'!AN57 -> 0 | AS57: =AQ57+'2026.7'!AO57 -> 0 | AT57: 0 | AU57: 0 | AV57: 0 | AW57: 0 | AX57: =AT57+'2026.7'!AT57 -> 0 | AY57: =AU57+'2026.7'!AU57 -> 0 | AZ57: =AV57+'2026.7'!AV57 -> 0 | BA57: =AW57+'2026.7'!AW57 -> 0
C58: 美浦 | D58: 1 | E58: 0 | F58: 22 | G58: 22 | H58: 0 | I58: 0 | J58: 0 | K58: 0 | L58: 0 | M58: 0 | N58: 0 | O58: 0 | P58: 0 | Q58: 0 | R58: 0 | S58: 21 | T58: 0 | U58: 0 | V58: 1 | W58: 0 | X58: 0 | Y58: 0 | Z58: 22 | AA58: 1 | AB58: 0 | AC58: 0 | AD58: =AB58+'2026.7'!AB58 -> 0 | AE58: =AC58+'2026.7'!AC58 -> 0 | AF58: 0 | AG58: 0 | AH58: =AG58*$AH$5 -> 0 | AI58: 0 | AJ58: =AI58*$AJ$5 -> 0 | AK58: =AF58+'2026.7'!AD58 -> 1 | AL58: =AG58+'2026.7'!AE58 -> 0 | AM58: =AH58+'2026.7'!AF58 -> 0 | AN58: =AI58+'2026.7'!AG58 -> 38 | AO58: =AJ58+'2026.7'!AH58 -> 15200 | AP58: 0 | AQ58: 0 | AR58: =AP58+'2026.7'!AN58 -> 0 | AS58: =AQ58+'2026.7'!AO58 -> 0 | AT58: 0 | AU58: 0 | AV58: 0 | AW58: 0 | AX58: =AT58+'2026.7'!AT58 -> 0 | AY58: =AU58+'2026.7'!AU58 -> 0 | AZ58: =AV58+'2026.7'!AV58 -> 0 | BA58: =AW58+'2026.7'!AW58 -> 0
C59: 霞ヶ浦 | D59: 0 | E59: 0 | F59: 44 | G59: 44 | H59: 0 | I59: 0 | J59: 0 | K59: 0 | L59: 0 | M59: 15 | N59: 0 | O59: 0 | P59: 11 | Q59: 0 | R59: 0 | S59: 42 | T59: 0 | U59: 0 | V59: 2 | W59: 0 | X59: 0 | Y59: 0 | Z59: 44 | AA59: 2 | AB59: 0 | AC59: 0 | AD59: =AB59+'2026.7'!AB59 -> 0 | AE59: =AC59+'2026.7'!AC59 -> 0 | AF59: 1 | AG59: 3 | AH59: =AG59*$AH$5 -> 600 | AI59: 35 | AJ59: =AI59*$AJ$5 -> 14000 | AK59: =AF59+'2026.7'!AD59 -> 1 | AL59: =AG59+'2026.7'!AE59 -> 3 | AM59: =AH59+'2026.7'!AF59 -> 600 | AN59: =AI59+'2026.7'!AG59 -> 35 | AO59: =AJ59+'2026.7'!AH59 -> 14000 | AP59: 0 | AQ59: 0 | AR59: =AP59+'2026.7'!AN59 -> 0 | AS59: =AQ59+'2026.7'!AO59 -> 0 | AT59: 0 | AU59: 0 | AV59: 0 | AW59: 0 | AX59: =AT59+'2026.7'!AT59 -> 0 | AY59: =AU59+'2026.7'!AU59 -> 0 | AZ59: =AV59+'2026.7'!AV59 -> 0 | BA59: =AW59+'2026.7'!AW59 -> 0
C60: 土浦SORA | D60: 0 | E60: 0 | F60: 28 | G60: 22 | H60: 0 | I60: 0 | J60: 0 | K60: 0 | L60: 0 | M60: 9 | N60: 3 | O60: 3 | P60: 8 | Q60: 2 | R60: 3 | S60: 28 | T60: 0 | U60: 0 | V60: 0 | W60: 0 | X60: 0 | Y60: 0 | Z60: 28 | AA60: 0 | AB60: 0 | AC60: 0 | AD60: =AB60+'2026.7'!AB60 -> 0 | AE60: =AC60+'2026.7'!AC60 -> 0 | AF60: 0 | AG60: 0 | AH60: =AG60*$AH$5 -> 0 | AI60: 0 | AJ60: =AI60*$AJ$5 -> 0 | AK60: =AF60+'2026.7'!AD60 -> 0 | AL60: =AG60+'2026.7'!AE60 -> 0 | AM60: =AH60+'2026.7'!AF60 -> 0 | AN60: =AI60+'2026.7'!AG60 -> 0 | AO60: =AJ60+'2026.7'!AH60 -> 0 | AP60: 0 | AQ60: 0 | AR60: =AP60+'2026.7'!AN60 -> 0 | AS60: =AQ60+'2026.7'!AO60 -> 0 | AT60: 0 | AU60: 0 | AV60: 0 | AW60: 0 | AX60: =AT60+'2026.7'!AT60 -> 0 | AY60: =AU60+'2026.7'!AU60 -> 0 | AZ60: =AV60+'2026.7'!AV60 -> 0 | BA60: =AW60+'2026.7'!AW60 -> 0
B61: 2 | C61: 筑波 | D61: 0 | E61: 0 | F61: 98 | G61: 50 | H61: 0 | I61: 0 | J61: 2 | K61: 0 | L61: 0 | M61: 0 | N61: 48 | O61: 0 | P61: 9 | Q61: 32 | R61: 0 | S61: 98 | T61: 0 | U61: 0 | V61: 0 | W61: 0 | X61: 0 | Y61: 0 | Z61: 98 | AA61: 0 | AB61: 0 | AC61: 0 | AD61: =AB61+'2026.7'!AB61 -> 0 | AE61: =AC61+'2026.7'!AC61 -> 0 | AF61: 1 | AG61: 1 | AH61: =AG61*$AH$5 -> 200 | AI61: 18 | AJ61: =AI61*$AJ$5 -> 7200 | AK61: =AF61+'2026.7'!AD61 -> 2 | AL61: =AG61+'2026.7'!AE61 -> 2 | AM61: =AH61+'2026.7'!AF61 -> 400 | AN61: =AI61+'2026.7'!AG61 -> 22 | AO61: =AJ61+'2026.7'!AH61 -> 8800 | AP61: 0 | AQ61: 0 | AR61: =AP61+'2026.7'!AN61 -> 0 | AS61: =AQ61+'2026.7'!AO61 -> 0 | AT61: 1 | AU61: 420 | AV61: 42 | AW61: 3 | AX61: =AT61+'2026.7'!AT61 -> 1 | AY61: =AU61+'2026.7'!AU61 -> 420 | AZ61: =AV61+'2026.7'!AV61 -> 42 | BA61: =AW61+'2026.7'!AW61 -> 3
C62: つくば中央 | D62: 1 | E62: 2 | F62: 70 | G62: 52 | H62: 0 | I62: 0 | J62: 0 | K62: 0 | L62: 0 | M62: 13 | N62: 18 | O62: 0 | P62: 17 | Q62: 12 | R62: 0 | S62: 68 | T62: 0 | U62: 0 | V62: 4 | W62: 0 | X62: 0 | Y62: 2 | Z62: 70 | AA62: 2 | AB62: 0 | AC62: 0 | AD62: =AB62+'2026.7'!AB62 -> 0 | AE62: =AC62+'2026.7'!AC62 -> 0 | AF62: 0 | AG62: 0 | AH62: =AG62*$AH$5 -> 0 | AI62: 0 | AJ62: =AI62*$AJ$5 -> 0 | AK62: =AF62+'2026.7'!AD62 -> 1 | AL62: =AG62+'2026.7'!AE62 -> 1 | AM62: =AH62+'2026.7'!AF62 -> 200 | AN62: =AI62+'2026.7'!AG62 -> 4 | AO62: =AJ62+'2026.7'!AH62 -> 1600 | AP62: 0 | AQ62: 0 | AR62: =AP62+'2026.7'!AN62 -> 0 | AS62: =AQ62+'2026.7'!AO62 -> 0 | AT62: 0 | AU62: 0 | AV62: 0 | AW62: 0 | AX62: =AT62+'2026.7'!AT62 -> 0 | AY62: =AU62+'2026.7'!AU62 -> 0 | AZ62: =AV62+'2026.7'!AV62 -> 0 | BA62: =AW62+'2026.7'!AW62 -> 0
C63: つくば西 | D63: 0 | E63: 1 | F63: 28 | G63: 27 | H63: 0 | I63: 0 | J63: 0 | K63: 0 | L63: 0 | M63: 10 | N63: 1 | O63: 0 | P63: 9 | Q63: 1 | R63: 0 | S63: 29 | T63: 0 | U63: 0 | V63: 0 | W63: 0 | X63: 0 | Y63: 1 | Z63: 28 | AA63: -1 | AB63: 16376 | AC63: 100.00367 | AD63: =AB63+'2026.7'!AB63 -> 32553 | AE63: =AC63+'2026.7'!AC63 -> 200.00633 | AF63: 0 | AG63: 0 | AH63: =AG63*$AH$5 -> 0 | AI63: 0 | AJ63: =AI63*$AJ$5 -> 0 | AK63: =AF63+'2026.7'!AD63 -> 1 | AL63: =AG63+'2026.7'!AE63 -> 0 | AM63: =AH63+'2026.7'!AF63 -> 0 | AN63: =AI63+'2026.7'!AG63 -> 4 | AO63: =AJ63+'2026.7'!AH63 -> 1600 | AP63: 0 | AQ63: 0 | AR63: =AP63+'2026.7'!AN63 -> 0 | AS63: =AQ63+'2026.7'!AO63 -> 0 | AT63: 0 | AU63: 0 | AV63: 0 | AW63: 0 | AX63: =AT63+'2026.7'!AT63 -> 0 | AY63: =AU63+'2026.7'!AU63 -> 0 | AZ63: =AV63+'2026.7'!AV63 -> 0 | BA63: =AW63+'2026.7'!AW63 -> 0
C64: つくばＯＡＫ | D64: 0 | E64: 0 | F64: 74 | G64: 74 | H64: 0 | I64: 0 | J64: 0 | K64: 0 | L64: 1 | M64: 12 | N64: 0 | O64: 0 | P64: 21 | Q64: 0 | R64: 0 | S64: 72 | T64: 0 | U64: 0 | V64: 2 | W64: 0 | X64: 0 | Y64: 0 | Z64: 74 | AA64: 2 | AB64: 0 | AC64: 0 | AD64: =AB64+'2026.7'!AB64 -> 517652 | AE64: =AC64+'2026.7'!AC64 -> 3200.011 | AF64: 0 | AG64: 0 | AH64: =AG64*$AH$5 -> 0 | AI64: 0 | AJ64: =AI64*$AJ$5 -> 0 | AK64: =AF64+'2026.7'!AD64 -> 1 | AL64: =AG64+'2026.7'!AE64 -> 1 | AM64: =AH64+'2026.7'!AF64 -> 200 | AN64: =AI64+'2026.7'!AG64 -> 4 | AO64: =AJ64+'2026.7'!AH64 -> 1600 | AP64: 0 | AQ64: 0 | AR64: =AP64+'2026.7'!AN64 -> 0 | AS64: =AQ64+'2026.7'!AO64 -> 0 | AT64: 0 | AU64: 0 | AV64: 0 | AW64: 0 | AX64: =AT64+'2026.7'!AT64 -> 0 | AY64: =AU64+'2026.7'!AU64 -> 0 | AZ64: =AV64+'2026.7'!AV64 -> 0 | BA64: =AW64+'2026.7'!AW64 -> 0
C65: つくばアウル | D65: 2 | E65: 0 | F65: 88 | G65: 63 | H65: 0 | I65: 0 | J65: 0 | K65: 0 | L65: 1 | M65: 0 | N65: 25 | O65: 0 | P65: 16 | Q65: 20 | R65: 0 | S65: 86 | T65: 0 | U65: 0 | V65: 2 | W65: 0 | X65: 0 | Y65: 0 | Z65: 88 | AA65: 2 | AB65: 0 | AC65: 0 | AD65: =AB65+'2026.7'!AB65 -> 0 | AE65: =AC65+'2026.7'!AC65 -> 0 | AF65: 0 | AG65: 0 | AH65: =AG65*$AH$5 -> 0 | AI65: 0 | AJ65: =AI65*$AJ$5 -> 0 | AK65: =AF65+'2026.7'!AD65 -> 1 | AL65: =AG65+'2026.7'!AE65 -> 1 | AM65: =AH65+'2026.7'!AF65 -> 200 | AN65: =AI65+'2026.7'!AG65 -> 4 | AO65: =AJ65+'2026.7'!AH65 -> 1600 | AP65: 0 | AQ65: 0 | AR65: =AP65+'2026.7'!AN65 -> 0 | AS65: =AQ65+'2026.7'!AO65 -> 0 | AT65: 0 | AU65: 0 | AV65: 0 | AW65: 0 | AX65: =AT65+'2026.7'!AT65 -> 0 | AY65: =AU65+'2026.7'!AU65 -> 0 | AZ65: =AV65+'2026.7'!AV65 -> 0 | BA65: =AW65+'2026.7'!AW65 -> 0
C66: つくば紫峰 | D66: 0 | E66: 0 | F66: 23 | G66: 23 | H66: 0 | I66: 0 | J66: 0 | K66: 0 | L66: 0 | M66: 0 | N66: 0 | O66: 0 | P66: 3 | Q66: 0 | R66: 0 | S66: 23 | T66: 0 | U66: 0 | V66: 0 | W66: 0 | X66: 0 | Y66: 0 | Z66: 23 | AA66: 0 | AB66: 0 | AC66: 0 | AD66: =AB66+'2026.7'!AB66 -> 0 | AE66: =AC66+'2026.7'!AC66 -> 0 | AF66: 0 | AG66: 0 | AH66: =AG66*$AH$5 -> 0 | AI66: 0 | AJ66: =AI66*$AJ$5 -> 0 | AK66: =AF66+'2026.7'!AD66 -> 1 | AL66: =AG66+'2026.7'!AE66 -> 0 | AM66: =AH66+'2026.7'!AF66 -> 0 | AN66: =AI66+'2026.7'!AG66 -> 4 | AO66: =AJ66+'2026.7'!AH66 -> 1600 | AP66: 0 | AQ66: 0 | AR66: =AP66+'2026.7'!AN66 -> 0 | AS66: =AQ66+'2026.7'!AO66 -> 0 | AT66: 0 | AU66: 0 | AV66: 0 | AW66: 0 | AX66: =AT66+'2026.7'!AT66 -> 0 | AY66: =AU66+'2026.7'!AU66 -> 0 | AZ66: =AV66+'2026.7'!AV66 -> 0 | BA66: =AW66+'2026.7'!AW66 -> 0
C67: つくばHOPE | D67: 0 | E67: 0 | F67: 21 | G67: 21 | H67: 0 | I67: 0 | J67: 0 | K67: 0 | L67: 0 | M67: 0 | N67: 0 | O67: 0 | P67: 6 | Q67: 0 | R67: 0 | S67: 22 | T67: 0 | U67: 0 | V67: 0 | W67: 0 | X67: 0 | Y67: 1 | Z67: 21 | AA67: -1 | AB67: 0 | AC67: 0 | AD67: =AB67+'2026.7'!AB67 -> 0 | AE67: =AC67+'2026.7'!AC67 -> 0 | AF67: 0 | AG67: 0 | AH67: =AG67*$AH$5 -> 0 | AI67: 0 | AJ67: =AI67*$AJ$5 -> 0 | AK67: =AF67+'2026.7'!AD67 -> 1 | AL67: =AG67+'2026.7'!AE67 -> 0 | AM67: =AH67+'2026.7'!AF67 -> 0 | AN67: =AI67+'2026.7'!AG67 -> 4 | AO67: =AJ67+'2026.7'!AH67 -> 1600 | AP67: 0 | AQ67: 0 | AR67: =AP67+'2026.7'!AN67 -> 0 | AS67: =AQ67+'2026.7'!AO67 -> 0 | AT67: 0 | AU67: 0 | AV67: 0 | AW67: 0 | AX67: =AT67+'2026.7'!AT67 -> 0 | AY67: =AU67+'2026.7'!AU67 -> 0 | AZ67: =AV67+'2026.7'!AV67 -> 0 | BA67: =AW67+'2026.7'!AW67 -> 0
C68: 筑波ヤング | D68: 2 | E68: 0 | F68: 44 | G68: 32 | H68: 0 | I68: 0 | J68: 0 | K68: 0 | L68: 0 | M68: 0 | N68: 12 | O68: 0 | P68: 5 | Q68: 8 | R68: 0 | S68: 42 | T68: 0 | U68: 0 | V68: 2 | W68: 0 | X68: 0 | Y68: 0 | Z68: 44 | AA68: 2 | AB68: 0 | AC68: 0 | AD68: =AB68+'2026.7'!AB68 -> 647076 | AE68: =AC68+'2026.7'!AC68 -> 4000.0818 | AF68: 1 | AG68: 1 | AH68: =AG68*$AH$5 -> 200 | AI68: 18 | AJ68: =AI68*$AJ$5 -> 7200 | AK68: =AF68+'2026.7'!AD68 -> 2 | AL68: =AG68+'2026.7'!AE68 -> 2 | AM68: =AH68+'2026.7'!AF68 -> 400 | AN68: =AI68+'2026.7'!AG68 -> 22 | AO68: =AJ68+'2026.7'!AH68 -> 8800 | AP68: 0 | AQ68: 0 | AR68: =AP68+'2026.7'!AN68 -> 0 | AS68: =AQ68+'2026.7'!AO68 -> 0 | AT68: 0 | AU68: 0 | AV68: 0 | AW68: 0 | AX68: =AT68+'2026.7'!AT68 -> 0 | AY68: =AU68+'2026.7'!AU68 -> 0 | AZ68: =AV68+'2026.7'!AV68 -> 0 | BA68: =AW68+'2026.7'!AW68 -> 0
C69: 筑波グローバルガンズ | D69: 0 | E69: 0 | F69: 16 | G69: 16 | H69: 0 | I69: 0 | J69: 0 | K69: 0 | L69: 0 | M69: 0 | N69: 0 | O69: 0 | P69: 3 | Q69: 0 | R69: 0 | S69: 16 | T69: 0 | U69: 0 | V69: 0 | W69: 0 | X69: 0 | Y69: 0 | Z69: 16 | AA69: 0 | AB69: 0 | AC69: 0 | AD69: =AB69+'2026.7'!AB69 -> 0 | AE69: =AC69+'2026.7'!AC69 -> 0 | AF69: 1 | AG69: 1 | AH69: =AG69*$AH$5 -> 200 | AI69: 17 | AJ69: =AI69*$AJ$5 -> 6800 | AK69: =AF69+'2026.7'!AD69 -> 2 | AL69: =AG69+'2026.7'!AE69 -> 1 | AM69: =AH69+'2026.7'!AF69 -> 200 | AN69: =AI69+'2026.7'!AG69 -> 20 | AO69: =AJ69+'2026.7'!AH69 -> 8000 | AP69: 0 | AQ69: 0 | AR69: =AP69+'2026.7'!AN69 -> 0 | AS69: =AQ69+'2026.7'!AO69 -> 0 | AT69: 0 | AU69: 0 | AV69: 0 | AW69: 0 | AX69: =AT69+'2026.7'!AT69 -> 0 | AY69: =AU69+'2026.7'!AU69 -> 0 | AZ69: =AV69+'2026.7'!AV69 -> 0 | BA69: =AW69+'2026.7'!AW69 -> 0
A70: R合計 | D70: =SUM(D53:D69) -> 9 | E70: =SUM(E53:E69) -> 3 | F70: =SUM(F53:F69) -> 844 | G70: =SUM(G53:G69) -> 669 | H70: =SUM(H53:H69) -> 10 | I70: =SUM(I53:I69) -> 0 | J70: =SUM(J53:J69) -> 7 | K70: =SUM(K53:K69) -> 3 | ... BA70: =SUM(BA53:BA69) -> 21
A71: 5 | B71: 1 | C71: 龍ケ崎 | D71: 0 | E71: 0 | F71: 69 | G71: 42 | H71: 0 | I71: 0 | J71: 0 | K71: 0 | L71: 0 | M71: 0 | N71: 27 | O71: 0 | P71: 2 | Q71: 22 | R71: 0 | S71: 69 | T71: 0 | U71: 0 | V71: 0 | W71: 0 | X71: 0 | Y71: 0 | Z71: 69 | AA71: 0 | AB71: 0 | AC71: 0 | AD71: =AB71+'2026.7'!AB71 -> 0 | AE71: =AC71+'2026.7'!AC71 -> 0 | AF71: 1 | AG71: 0 | AH71: =AG71*$AH$5 -> 0 | AI71: 57 | AJ71: =AI71*$AJ$5 -> 22800 | AK71: =AF71+'2026.7'!AD71 -> 2 | AL71: =AG71+'2026.7'!AE71 -> 0 | AM71: =AH71+'2026.7'!AF71 -> 0 | AN71: =AI71+'2026.7'!AG71 -> 91 | AO71: =AJ71+'2026.7'!AH71 -> 36400 | AP71: 0 | AQ71: 0 | AR71: =AP71+'2026.7'!AN71 -> 0 | AS71: =AQ71+'2026.7'!AO71 -> 0 | AT71: 0 | AU71: 0 | AV71: 0 | AW71: 0 | AX71: =AT71+'2026.7'!AT71 -> 0 | AY71: =AU71+'2026.7'!AU71 -> 0 | AZ71: =AV71+'2026.7'!AV71 -> 0 | BA71: =AW71+'2026.7'!AW71 -> 0
C72: 取手 | D72: 0 | E72: 0 | F72: 82 | G72: 82 | H72: 0 | I72: 0 | J72: 0 | K72: 0 | L72: 0 | M72: 0 | N72: 0 | O72: 0 | P72: 10 | Q72: 0 | R72: 0 | S72: 83 | T72: 0 | U72: 0 | V72: 1 | W72: 0 | X72: 0 | Y72: 2 | Z72: 82 | AA72: -1 | AB72: 0 | AC72: 0 | AD72: =AB72+'2026.7'!AB72 -> 0 | AE72: =AC72+'2026.7'!AC72 -> 0 | AF72: 1 | AG72: 0 | AH72: =AG72*$AH$5 -> 0 | AI72: 27 | AJ72: =AI72*$AJ$5 -> 10800 | AK72: =AF72+'2026.7'!AD72 -> 1 | AL72: =AG72+'2026.7'!AE72 -> 0 | AM72: =AH72+'2026.7'!AF72 -> 0 | AN72: =AI72+'2026.7'!AG72 -> 27 | AO72: =AJ72+'2026.7'!AH72 -> 10800 | AP72: 0 | AQ72: 0 | AR72: =AP72+'2026.7'!AN72 -> 0 | AS72: =AQ72+'2026.7'!AO72 -> 0 | AT72: 0 | AU72: 0 | AV72: 0 | AW72: 0 | AX72: =AT72+'2026.7'!AT72 -> 4 | AY72: =AU72+'2026.7'!AU72 -> 185 | AZ72: =AV72+'2026.7'!AV72 -> 224 | BA72: =AW72+'2026.7'!AW72 -> 13
C73: 江戸崎 | D73: 0 | E73: 0 | F73: 26 | G73: 25 | H73: 0 | I73: 0 | J73: 0 | K73: 0 | L73: 0 | M73: 0 | N73: 1 | O73: 0 | P73: 6 | Q73: 0 | R73: 0 | S73: 24 | T73: 0 | U73: 0 | V73: 2 | W73: 0 | X73: 0 | Y73: 0 | Z73: 26 | AA73: 2 | AB73: 0 | AC73: 0 | AD73: =AB73+'2026.7'!AB73 -> 0 | AE73: =AC73+'2026.7'!AC73 -> 0 | AF73: 1 | AG73: 1 | AH73: =AG73*$AH$5 -> 200 | AI73: 43 | AJ73: =AI73*$AJ$5 -> 17200 | AK73: =AF73+'2026.7'!AD73 -> 2 | AL73: =AG73+'2026.7'!AE73 -> 3 | AM73: =AH73+'2026.7'!AF73 -> 600 | AN73: =AI73+'2026.7'!AG73 -> 108 | AO73: =AJ73+'2026.7'!AH73 -> 43200 | AP73: 0 | AQ73: 0 | AR73: =AP73+'2026.7'!AN73 -> 0 | AS73: =AQ73+'2026.7'!AO73 -> 0 | AT73: 0 | AU73: 0 | AV73: 0 | AW73: 0 | AX73: =AT73+'2026.7'!AT73 -> 0 | AY73: =AU73+'2026.7'!AU73 -> 0 | AZ73: =AV73+'2026.7'!AV73 -> 0 | BA73: =AW73+'2026.7'!AW73 -> 0
C74: 牛久茎崎 | D74: 2 | E74: 0 | F74: 93 | G74: 60 | H74: 0 | I74: 0 | J74: 1 | K74: 0 | L74: 0 | M74: 5 | N74: 33 | O74: 0 | P74: 8 | Q74: 26 | R74: 0 | S74: 89 | T74: 0 | U74: 0 | V74: 4 | W74: 0 | X74: 0 | Y74: 0 | Z74: 93 | AA74: 4 | AB74: 0 | AC74: 0 | AD74: =AB74+'2026.7'!AB74 -> 485298 | AE74: =AC74+'2026.7'!AC74 -> 3000.0057 | AF74: 0 | AG74: 0 | AH74: =AG74*$AH$5 -> 0 | AI74: 0 | AJ74: =AI74*$AJ$5 -> 0 | AK74: =AF74+'2026.7'!AD74 -> 0 | AL74: =AG74+'2026.7'!AE74 -> 0 | AM74: =AH74+'2026.7'!AF74 -> 0 | AN74: =AI74+'2026.7'!AG74 -> 0 | AO74: =AJ74+'2026.7'!AH74 -> 0 | AP74: 0 | AQ74: 0 | AR74: =AP74+'2026.7'!AN74 -> 0 | AS74: =AQ74+'2026.7'!AO74 -> 0 | AT74: 0 | AU74: 0 | AV74: 0 | AW74: 0 | AX74: =AT74+'2026.7'!AT74 -> 0 | AY74: =AU74+'2026.7'!AU74 -> 0 | AZ74: =AV74+'2026.7'!AV74 -> 0 | BA74: =AW74+'2026.7'!AW74 -> 0
C75: 守谷 | D75: 0 | E75: 0 | F75: 68 | G75: 59 | H75: 0 | I75: 0 | J75: 3 | K75: 0 | L75: 0 | M75: 0 | N75: 9 | O75: 0 | P75: 7 | Q75: 8 | R75: 0 | S75: 65 | T75: 0 | U75: 0 | V75: 4 | W75: 0 | X75: 0 | Y75: 1 | Z75: 68 | AA75: 3 | AB75: 0 | AC75: 0 | AD75: =AB75+'2026.7'!AB75 -> 0 | AE75: =AC75+'2026.7'!AC75 -> 0 | AF75: 0 | AG75: 0 | AH75: =AG75*$AH$5 -> 0 | AI75: 0 | AJ75: =AI75*$AJ$5 -> 0 | AK75: =AF75+'2026.7'!AD75 -> 1 | AL75: =AG75+'2026.7'!AE75 -> 3 | AM75: =AH75+'2026.7'!AF75 -> 600 | AN75: =AI75+'2026.7'!AG75 -> 98 | AO75: =AJ75+'2026.7'!AH75 -> 39200 | AP75: 0 | AQ75: 0 | AR75: =AP75+'2026.7'!AN75 -> 0 | AS75: =AQ75+'2026.7'!AO75 -> 0 | AT75: 0 | AU75: 0 | AV75: 0 | AW75: 0 | AX75: =AT75+'2026.7'!AT75 -> 0 | AY75: =AU75+'2026.7'!AU75 -> 0 | AZ75: =AV75+'2026.7'!AV75 -> 0 | BA75: =AW75+'2026.7'!AW75 -> 0
C76: 取手大利根 | D76: 0 | E76: 0 | F76: 22 | G76: 22 | H76: 0 | I76: 0 | J76: 0 | K76: 0 | L76: 0 | M76: 0 | N76: 0 | O76: 0 | P76: 1 | Q76: 0 | R76: 0 | S76: 22 | T76: 0 | U76: 0 | V76: 0 | W76: 0 | X76: 0 | Y76: 0 | Z76: 22 | AA76: 0 | AB76: 0 | AC76: 0 | AD76: =AB76+'2026.7'!AB76 -> 0 | AE76: =AC76+'2026.7'!AC76 -> 0 | AF76: 0 | AG76: 0 | AH76: =AG76*$AH$5 -> 0 | AI76: 0 | AJ76: =AI76*$AJ$5 -> 0 | AK76: =AF76+'2026.7'!AD76 -> 1 | AL76: =AG76+'2026.7'!AE76 -> 2 | AM76: =AH76+'2026.7'!AF76 -> 400 | AN76: =AI76+'2026.7'!AG76 -> 36 | AO76: =AJ76+'2026.7'!AH76 -> 14400 | AP76: 0 | AQ76: 0 | AR76: =AP76+'2026.7'!AN76 -> 0 | AS76: =AQ76+'2026.7'!AO76 -> 0 | AT76: 0 | AU76: 0 | AV76: 0 | AW76: 0 | AX76: =AT76+'2026.7'!AT76 -> 0 | AY76: =AU76+'2026.7'!AU76 -> 0 | AZ76: =AV76+'2026.7'!AV76 -> 0 | BA76: =AW76+'2026.7'!AW76 -> 0
C77: 竜ケ崎ききょう | D77: 0 | E77: 0 | F77: 27 | G77: 27 | H77: 0 | I77: 0 | J77: 0 | K77: 0 | L77: 0 | M77: 0 | N77: 0 | O77: 0 | P77: 0 | Q77: 0 | R77: 0 | S77: 25 | T77: 0 | U77: 0 | V77: 3 | W77: 0 | X77: 0 | Y77: 1 | Z77: 27 | AA77: 2 | AB77: 0 | AC77: 0 | AD77: =AB77+'2026.7'!AB77 -> 0 | AE77: =AC77+'2026.7'!AC77 -> 0 | AF77: 1 | AG77: 1 | AH77: =AG77*$AH$5 -> 200 | AI77: 48 | AJ77: =AI77*$AJ$5 -> 19200 | AK77: =AF77+'2026.7'!AD77 -> 1 | AL77: =AG77+'2026.7'!AE77 -> 1 | AM77: =AH77+'2026.7'!AF77 -> 200 | AN77: =AI77+'2026.7'!AG77 -> 48 | AO77: =AJ77+'2026.7'!AH77 -> 19200 | AP77: 0 | AQ77: 0 | AR77: =AP77+'2026.7'!AN77 -> 0 | AS77: =AQ77+'2026.7'!AO77 -> 0 | AT77: 0 | AU77: 0 | AV77: 0 | AW77: 0 | AX77: =AT77+'2026.7'!AT77 -> 0 | AY77: =AU77+'2026.7'!AU77 -> 0 | AZ77: =AV77+'2026.7'!AV77 -> 0 | BA77: =AW77+'2026.7'!AW77 -> 0
C78: 取手中央 | D78: 0 | E78: 0 | F78: 71 | G78: 63 | H78: 0 | I78: 0 | J78: 0 | K78: 0 | L78: 0 | M78: 0 | N78: 8 | O78: 0 | P78: 5 | Q78: 5 | R78: 0 | S78: 72 | T78: 0 | U78: 0 | V78: 0 | W78: 0 | X78: 0 | Y78: 1 | Z78: 71 | AA78: -1 | AB78: 0 | AC78: 0 | AD78: =AB78+'2026.7'!AB78 -> 0 | AE78: =AC78+'2026.7'!AC78 -> 0 | AF78: 0 | AG78: 0 | AH78: =AG78*$AH$5 -> 0 | AI78: 0 | AJ78: =AI78*$AJ$5 -> 0 | AK78: =AF78+'2026.7'!AD78 -> 0 | AL78: =AG78+'2026.7'!AE78 -> 0 | AM78: =AH78+'2026.7'!AF78 -> 0 | AN78: =AI78+'2026.7'!AG78 -> 0 | AO78: =AJ78+'2026.7'!AH78 -> 0 | AP78: 0 | AQ78: 0 | AR78: =AP78+'2026.7'!AN78 -> 0 | AS78: =AQ78+'2026.7'!AO78 -> 0 | AT78: 0 | AU78: 0 | AV78: 0 | AW78: 0 | AX78: =AT78+'2026.7'!AT78 -> 0 | AY78: =AU78+'2026.7'!AU78 -> 0 | AZ78: =AV78+'2026.7'!AV78 -> 0 | BA78: =AW78+'2026.7'!AW78 -> 0
B79: 2 | C79: 古河 | D79: 0 | E79: 0 | F79: 27 | G79: 27 | H79: 0 | I79: 0 | J79: 0 | K79: 1 | L79: 0 | M79: 0 | N79: 0 | O79: 0 | P79: 1 | Q79: 0 | R79: 0 | S79: 27 | T79: 0 | U79: 0 | V79: 0 | W79: 0 | X79: 0 | Y79: 0 | Z79: 27 | AA79: 0 | AB79: 0 | AC79: 0 | AD79: =AB79+'2026.7'!AB79 -> 0 | AE79: =AC79+'2026.7'!AC79 -> 0 | AF79: 0 | AG79: 0 | AH79: =AG79*$AH$5 -> 0 | AI79: 0 | AJ79: =AI79*$AJ$5 -> 0 | AK79: =AF79+'2026.7'!AD79 -> 0 | AL79: =AG79+'2026.7'!AE79 -> 0 | AM79: =AH79+'2026.7'!AF79 -> 0 | AN79: =AI79+'2026.7'!AG79 -> 0 | AO79: =AJ79+'2026.7'!AH79 -> 0 | AP79: 0 | AQ79: 0 | AR79: =AP79+'2026.7'!AN79 -> 0 | AS79: =AQ79+'2026.7'!AO79 -> 0 | AT79: 0 | AU79: 0 | AV79: 0 | AW79: 0 | AX79: =AT79+'2026.7'!AT79 -> 0 | AY79: =AU79+'2026.7'!AU79 -> 0 | AZ79: =AV79+'2026.7'!AV79 -> 0 | BA79: =AW79+'2026.7'!AW79 -> 0
C80: 岩井 | D80: 1 | E80: 0 | F80: 48 | G80: 40 | H80: 0 | I80: 0 | J80: 0 | K80: 0 | L80: 0 | M80: 6 | N80: 8 | O80: 0 | P80: 9 | Q80: 5 | R80: 0 | S80: 47 | T80: 1 | U80: 0 | V80: 0 | W80: 0 | X80: 0 | Y80: 0 | Z80: 48 | AA80: 1 | AB80: 0 | AC80: 0 | AD80: =AB80+'2026.7'!AB80 -> 0 | AE80: =AC80+'2026.7'!AC80 -> 0 | AF80: 0 | AG80: 0 | AH80: =AG80*$AH$5 -> 0 | AI80: 0 | AJ80: =AI80*$AJ$5 -> 0 | AK80: =AF80+'2026.7'!AD80 -> 0 | AL80: =AG80+'2026.7'!AE80 -> 0 | AM80: =AH80+'2026.7'!AF80 -> 0 | AN80: =AI80+'2026.7'!AG80 -> 0 | AO80: =AJ80+'2026.7'!AH80 -> 0 | AP80: 0 | AQ80: 0 | AR80: =AP80+'2026.7'!AN80 -> 0 | AS80: =AQ80+'2026.7'!AO80 -> 0 | AT80: 0 | AU80: 0 | AV80: 0 | AW80: 0 | AX80: =AT80+'2026.7'!AT80 -> 0 | AY80: =AU80+'2026.7'!AU80 -> 0 | AZ80: =AV80+'2026.7'!AV80 -> 0 | BA80: =AW80+'2026.7'!AW80 -> 0
C81: 石下 | D81: 0 | E81: 0 | F81: 21 | G81: 11 | H81: 0 | I81: 0 | J81: 0 | K81: 0 | L81: 0 | M81: 0 | N81: 10 | O81: 0 | P81: 0 | Q81: 8 | R81: 0 | S81: 21 | T81: 0 | U81: 0 | V81: 0 | W81: 0 | X81: 0 | Y81: 0 | Z81: 21 | AA81: 0 | AB81: 0 | AC81: 0 | AD81: =AB81+'2026.7'!AB81 -> 0 | AE81: =AC81+'2026.7'!AC81 -> 0 | AF81: 0 | AG81: 0 | AH81: =AG81*$AH$5 -> 0 | AI81: 0 | AJ81: =AI81*$AJ$5 -> 0 | AK81: =AF81+'2026.7'!AD81 -> 0 | AL81: =AG81+'2026.7'!AE81 -> 0 | AM81: =AH81+'2026.7'!AF81 -> 0 | AN81: =AI81+'2026.7'!AG81 -> 0 | AO81: =AJ81+'2026.7'!AH81 -> 0 | AP81: 0 | AQ81: 0 | AR81: =AP81+'2026.7'!AN81 -> 0 | AS81: =AQ81+'2026.7'!AO81 -> 0 | AT81: 0 | AU81: 0 | AV81: 0 | AW81: 0 | AX81: =AT81+'2026.7'!AT81 -> 0 | AY81: =AU81+'2026.7'!AU81 -> 0 | AZ81: =AV81+'2026.7'!AV81 -> 0 | BA81: =AW81+'2026.7'!AW81 -> 0
C82: 水海道 | D82: 0 | E82: 0 | F82: 15 | G82: 15 | H82: 0 | I82: 0 | J82: 0 | K82: 0 | L82: 0 | M82: 0 | N82: 0 | O82: 0 | P82: 1 | Q82: 0 | R82: 0 | S82: 15 | T82: 0 | U82: 0 | V82: 0 | W82: 0 | X82: 0 | Y82: 0 | Z82: 15 | AA82: 0 | AB82: 0 | AC82: 0 | AD82: =AB82+'2026.7'!AB82 -> 0 | AE82: =AC82+'2026.7'!AC82 -> 0 | AF82: 0 | AG82: 0 | AH82: =AG82*$AH$5 -> 0 | AI82: 0 | AJ82: =AI82*$AJ$5 -> 0 | AK82: =AF82+'2026.7'!AD82 -> 0 | AL82: =AG82+'2026.7'!AE82 -> 0 | AM82: =AH82+'2026.7'!AF82 -> 0 | AN82: =AI82+'2026.7'!AG82 -> 0 | AO82: =AJ82+'2026.7'!AH82 -> 0 | AP82: 0 | AQ82: 0 | AR82: =AP82+'2026.7'!AN82 -> 0 | AS82: =AQ82+'2026.7'!AO82 -> 0 | AT82: 0 | AU82: 0 | AV82: 0 | AW82: 0 | AX82: =AT82+'2026.7'!AT82 -> 0 | AY82: =AU82+'2026.7'!AU82 -> 0 | AZ82: =AV82+'2026.7'!AV82 -> 0 | BA82: =AW82+'2026.7'!AW82 -> 0
C83: 総和 | D83: 0 | E83: 0 | F83: 26 | G83: 26 | H83: 0 | I83: 0 | J83: 0 | K83: 0 | L83: 0 | M83: 0 | N83: 0 | O83: 0 | P83: 0 | Q83: 0 | R83: 0 | S83: 26 | T83: 0 | U83: 0 | V83: 0 | W83: 0 | X83: 0 | Y83: 0 | Z83: 26 | AA83: 0 | AB83: 0 | AC83: 0 | AD83: =AB83+'2026.7'!AB83 -> 0 | AE83: =AC83+'2026.7'!AC83 -> 0 | AF83: 0 | AG83: 0 | AH83: =AG83*$AH$5 -> 0 | AI83: 0 | AJ83: =AI83*$AJ$5 -> 0 | AK83: =AF83+'2026.7'!AD83 -> 0 | AL83: =AG83+'2026.7'!AE83 -> 0 | AM83: =AH83+'2026.7'!AF83 -> 0 | AN83: =AI83+'2026.7'!AG83 -> 0 | AO83: =AJ83+'2026.7'!AH83 -> 0 | AP83: 0 | AQ83: 0 | AR83: =AP83+'2026.7'!AN83 -> 0 | AS83: =AQ83+'2026.7'!AO83 -> 0 | AT83: 0 | AU83: 0 | AV83: 0 | AW83: 0 | AX83: =AT83+'2026.7'!AT83 -> 0 | AY83: =AU83+'2026.7'!AU83 -> 0 | AZ83: =AV83+'2026.7'!AV83 -> 0 | BA83: =AW83+'2026.7'!AW83 -> 0
C84: 茨城三和 | D84: 0 | E84: 1 | F84: 37 | G84: 37 | H84: 0 | I84: 0 | J84: 0 | K84: 0 | L84: 0 | M84: 0 | N84: 0 | O84: 0 | P84: 0 | Q84: 0 | R84: 0 | S84: 38 | T84: 0 | U84: 0 | V84: 0 | W84: 0 | X84: 0 | Y84: 1 | Z84: 37 | AA84: -1 | AB84: 0 | AC84: 0 | AD84: =AB84+'2026.7'!AB84 -> 0 | AE84: =AC84+'2026.7'!AC84 -> 0 | AF84: 0 | AG84: 0 | AH84: =AG84*$AH$5 -> 0 | AI84: 0 | AJ84: =AI84*$AJ$5 -> 0 | AK84: =AF84+'2026.7'!AD84 -> 0 | AL84: =AG84+'2026.7'!AE84 -> 0 | AM84: =AH84+'2026.7'!AF84 -> 0 | AN84: =AI84+'2026.7'!AG84 -> 0 | AO84: =AJ84+'2026.7'!AH84 -> 0 | AP84: 0 | AQ84: 0 | AR84: =AP84+'2026.7'!AN84 -> 0 | AS84: =AQ84+'2026.7'!AO84 -> 0 | AT84: 0 | AU84: 0 | AV84: 0 | AW84: 0 | AX84: =AT84+'2026.7'!AT84 -> 0 | AY84: =AU84+'2026.7'!AU84 -> 0 | AZ84: =AV84+'2026.7'!AV84 -> 0 | BA84: =AW84+'2026.7'!AW84 -> 0
C85: 茨城境 | D85: 0 | E85: 0 | F85: 44 | G85: 44 | H85: 0 | I85: 0 | J85: 0 | K85: 0 | L85: 2 | M85: 6 | N85: 0 | O85: 0 | P85: 3 | Q85: 0 | R85: 0 | S85: 45 | T85: 0 | U85: 0 | V85: 0 | W85: 1 | X85: 0 | Y85: 0 | Z85: 44 | AA85: -1 | AB85: 0 | AC85: 0 | AD85: =AB85+'2026.7'!AB85 -> 0 | AE85: =AC85+'2026.7'!AC85 -> 0 | AF85: 0 | AG85: 0 | AH85: =AG85*$AH$5 -> 0 | AI85: 0 | AJ85: =AI85*$AJ$5 -> 0 | AK85: =AF85+'2026.7'!AD85 -> 0 | AL85: =AG85+'2026.7'!AE85 -> 0 | AM85: =AH85+'2026.7'!AF85 -> 0 | AN85: =AI85+'2026.7'!AG85 -> 0 | AO85: =AJ85+'2026.7'!AH85 -> 0 | AP85: 0 | AQ85: 0 | AR85: =AP85+'2026.7'!AN85 -> 0 | AS85: =AQ85+'2026.7'!AO85 -> 0 | AT85: 0 | AU85: 0 | AV85: 0 | AW85: 0 | AX85: =AT85+'2026.7'!AT85 -> 0 | AY85: =AU85+'2026.7'!AU85 -> 0 | AZ85: =AV85+'2026.7'!AV85 -> 0 | BA85: =AW85+'2026.7'!AW85 -> 0
C86: つくばみらい | D86: 0 | E86: 0 | F86: 44 | G86: 26 | H86: 0 | I86: 0 | J86: 0 | K86: 0 | L86: 0 | M86: 0 | N86: 18 | O86: 0 | P86: 0 | Q86: 14 | R86: 0 | S86: 42 | T86: 0 | U86: 0 | V86: 2 | W86: 0 | X86: 0 | Y86: 0 | Z86: 44 | AA86: 2 | AB86: 0 | AC86: 0 | AD86: =AB86+'2026.7'!AB86 -> 0 | AE86: =AC86+'2026.7'!AC86 -> 0 | AF86: 1 | AG86: 0 | AH86: =AG86*$AH$5 -> 0 | AI86: 16 | AJ86: =AI86*$AJ$5 -> 6400 | AK86: =AF86+'2026.7'!AD86 -> 1 | AL86: =AG86+'2026.7'!AE86 -> 0 | AM86: =AH86+'2026.7'!AF86 -> 0 | AN86: =AI86+'2026.7'!AG86 -> 16 | AO86: =AJ86+'2026.7'!AH86 -> 6400 | AP86: 0 | AQ86: 0 | AR86: =AP86+'2026.7'!AN86 -> 0 | AS86: =AQ86+'2026.7'!AO86 -> 0 | AT86: 0 | AU86: 0 | AV86: 0 | AW86: 0 | AX86: =AT86+'2026.7'!AT86 -> 0 | AY86: =AU86+'2026.7'!AU86 -> 0 | AZ86: =AV86+'2026.7'!AV86 -> 0 | BA86: =AW86+'2026.7'!AW86 -> 0
C87: ごか | D87: 0 | E87: 0 | F87: 13 | G87: 11 | H87: 0 | I87: 0 | J87: 0 | K87: 0 | L87: 0 | M87: 0 | N87: 2 | O87: 0 | P87: 1 | Q87: 2 | R87: 0 | S87: 11 | T87: 0 | U87: 2 | V87: 1 | W87: 0 | X87: 0 | Y87: 1 | Z87: 13 | AA87: 2 | AB87: 0 | AC87: 0 | AD87: =AB87+'2026.7'!AB87 -> 0 | AE87: =AC87+'2026.7'!AC87 -> 0 | AF87: 0 | AG87: 0 | AH87: =AG87*$AH$5 -> 0 | AI87: 0 | AJ87: =AI87*$AJ$5 -> 0 | AK87: =AF87+'2026.7'!AD87 -> 1 | AL87: =AG87+'2026.7'!AE87 -> 3 | AM87: =AH87+'2026.7'!AF87 -> 600 | AN87: =AI87+'2026.7'!AG87 -> 15 | AO87: =AJ87+'2026.7'!AH87 -> 6000 | AP87: 0 | AQ87: 0 | AR87: =AP87+'2026.7'!AN87 -> 0 | AS87: =AQ87+'2026.7'!AO87 -> 0 | AT87: 0 | AU87: 0 | AV87: 0 | AW87: 0 | AX87: =AT87+'2026.7'!AT87 -> 2 | AY87: =AU87+'2026.7'!AU87 -> 90 | AZ87: =AV87+'2026.7'!AV87 -> 93 | BA87: =AW87+'2026.7'!AW87 -> 10
A88: R合計 | D88: =SUM(D71:D87) -> 3 | E88: =SUM(E71:E87) -> 1 | F88: =SUM(F71:F87) -> 733 | G88: =SUM(G71:G87) -> 617 | H88: =SUM(H71:H87) -> 0 | I88: =SUM(I71:I87) -> 0 | J88: =SUM(J71:J87) -> 4 | K88: =SUM(K71:K87) -> 1 | ... AX88: =SUM(AX71:AX87) -> 6 | AY88: =SUM(AY79:AY87) -> 90 | AZ88: =SUM(AZ79:AZ87) -> 93 | BA88: =SUM(BA79:BA87) -> 10
A89: 総合計 | D89: =SUM(D21,D35,D52,D70,D88) -> 15 | E89: =SUM(E21,E35,E52,E70,E88) -> 7 | F89: =SUM(F21,F35,F52,F70,F88) -> 3334 | G89: =SUM(G21,G35,G52,G70,G88) -> 2777 | H89: =SUM(H21,H35,H52,H70,H88) -> 17 | I89: =SUM(I21,I35,I52,I70,I88) -> 2 | J89: =SUM(J21,J35,J52,J70,J88) -> 29 | K89: =SUM(K21,K35,K52,K70,K88) -> 13 | ... AW89: =SUM(AW21,AW35,AW52,AW70,AW88) -> 86 | AX89: =AX21+AX35+AX52+AX70+AX88 -> 25 | AY89: =AY21+AY35+AY52+AY70+AY88 -> 4535 | AZ89: =AZ21+AZ35+AZ52+AZ70+AZ88 -> 1256 | BA89: =BA21+BA35+BA52+AA70+BA88 -> 141
AH91: 当月 人数 計 （人） | AJ91: =AG89+AI89 -> 1246 | AN91: 累計 人数 | AO91: =AL89+AN89 -> 2665
AH92: 当月 数量 計 （CC） | AJ92: =AH89+AJ89 -> 490000 | AN92: 累計 数量 | AO92: =AM89+AO89 -> 1040000

Sheet 2026.9
A1: 46266
A2: R | B2: Z | C2: クラブ名 | D2: 9月 | S2: 会員移動（期首～） | AB2: LCIF寄付 | AD2: LCIF寄付 | AF2: 献血（当月） | AK2: 献血（累計） | AP2: 献眼（当月） | AR2: 献眼（累計） | AT2: 薬物乱用防止（当月） | AX2: 薬物乱用防止（累計）
D3: 当月 | F3: 当月末 | G3: 内訳 | S3: (2026.6.30) | T3: 入会 | W3: 退会 | Z3: 当月末 | AA3: 増減
D4: 入会数 | E4: 退会数 | G4: 正会員 | H4: 左記「正会員」数には下記の会員種別人数を含む | N4: 特典会員 | P4: （内）女性会員 | S4: 前期末 | AB4: 当月 | AD4: 累計 | AF4: 件数 | AG4: 200CC | AH4: 数量（CC） | AI4: 400CC | AJ4: 数量（CC） | AK4: 件数 | AL4: 200CC | AM4: 数量（CC） | AN4: 400CC | AO4: 数量（CC） | AP4: 登録 | AQ4: 提供 | AR4: 登録 | AS4: 提供 | AT4: 回数 | AU4: 活動時間 | AV4: 対象人数 | AW4: メンバー 参加人数 | AX4: 回数 | AY4: 活動時間 | AZ4: 対象人数 | BA4: メンバー 参加人数
H5: 不在 | I5: 名誉 | J5: 終身 | K5: 優待 | L5: 賛助 | M5: 支部 | N5: 家族会員 | O5: 学生会員 | P5: 正会員 | Q5: 家族会員 | R5: 学生会員 | T5: 転入 | U5: 再入 | V5: 新入 | W5: 転出 | X5: 死亡 | Y5: 退会 | AB5: 金額（円） | AC5: 金額（ドル） | AD5: 金額（円） | AE5: 金額（ドル） | AG5: （人） | AH5: 200 | AI5: （人） | AJ5: 400 | AL5: （人） | AM5: 200 | AN5: （人） | AO5: 400 | AU5: （分） | AY5: （分）
A6: 1 | B6: 1 | C6: 日立 | D6: 0 | E6: 0 | F6: 22 | G6: 15 | H6: 0 | I6: 0 | J6: 1 | K6: 0 | L6: 2 | M6: 0 | N6: 7 | O6: 0 | P6: 3 | Q6: 6 | R6: 0 | S6: 22 | T6: 0 | U6: 0 | V6: 0 | W6: 0 | X6: 0 | Y6: 0 | Z6: 22 | AA6: 0 | AB6: 108000 | AC6: 677.03607 | AD6: =AB6+'2026.8'!AD6 -> 1055152 | AE6: =AC6+'2026.8'!AE6 -> 6495.2482 | AF6: 1 | AG6: 2 | AH6: =AG6*$AH$5 -> 400 | AI6: 41 | AJ6: =AI6*$AJ$5 -> 16400 | AK6: =AF6+'2026.8'!AK6 -> 2 | AL6: =AG6+'2026.8'!AL6 -> 2 | AM6: =AH6+'2026.8'!AM6 -> 400 | AN6: =AI6+'2026.8'!AN6 -> 97 | AO6: =AJ6+'2026.8'!AO6 -> 38800 | AP6: 0 | AQ6: 0 | AR6: =AP6+'2026.8'!AR6 -> 0 | AS6: =AQ6+'2026.8'!AS6 -> 0 | AT6: 0 | AU6: 0 | AV6: 0 | AW6: 0 | AX6: =AT6+'2026.8'!AX6 -> 0 | AY6: =AU6+'2026.8'!AY6 -> 0 | AZ6: =AV6+'2026.8'!AZ6 -> 0 | BA6: =AW6+'2026.8'!BA6 -> 0
C7: 高萩 | D7: 0 | E7: 1 | F7: 24 | G7: 23 | H7: 0 | I7: 0 | J7: 0 | K7: 0 | L7: 0 | M7: 0 | N7: 1 | O7: 0 | P7: 1 | Q7: 1 | R7: 0 | S7: 25 | T7: 0 | U7: 0 | V7: 0 | W7: 0 | X7: 0 | Y7: 1 | Z7: 24 | AA7: -1 | AB7: 0 | AC7: 0 | AD7: =AB7+'2026.8'!AD7 -> 0 | AE7: =AC7+'2026.8'!AE7 -> 0 | AF7: 1 | AG7: 0 | AH7: =AG7*$AH$5 -> 0 | AI7: 37 | AJ7: =AI7*$AJ$5 -> 14800 | AK7: =AF7+'2026.8'!AK7 -> 2 | AL7: =AG7+'2026.8'!AL7 -> 3 | AM7: =AH7+'2026.8'!AM7 -> 600 | AN7: =AI7+'2026.8'!AN7 -> 48 | AO7: =AJ7+'2026.8'!AO7 -> 19200 | AP7: 0 | AQ7: 0 | AR7: =AP7+'2026.8'!AR7 -> 0 | AS7: =AQ7+'2026.8'!AS7 -> 0 | AT7: 0 | AU7: 0 | AV7: 0 | AW7: 0 | AX7: =AT7+'2026.8'!AX7 -> 0 | AY7: =AU7+'2026.8'!AY7 -> 0 | AZ7: =AV7+'2026.8'!AZ7 -> 0 | BA7: =AW7+'2026.8'!BA7 -> 0
C8: 日立中央 | D8: 0 | E8: 0 | F8: 34 | G8: 24 | H8: 0 | I8: 0 | J8: 0 | K8: 0 | L8: 0 | M8: 0 | N8: 10 | O8: 0 | P8: 1 | Q8: 8 | R8: 0 | S8: 31 | T8: 0 | U8: 1 | V8: 2 | W8: 0 | X8: 0 | Y8: 0 | Z8: 34 | AA8: 3 | AB8: 10000 | AC8: 62.688525 | AD8: =AB8+'2026.8'!AD8 -> 1535386 | AE8: =AC8+'2026.8'!AE8 -> 9462.79 | AF8: 1 | AG8: 4 | AH8: =AG8*$AH$5 -> 800 | AI8: 26 | AJ8: =AI8*$AJ$5 -> 10400 | AK8: =AF8+'2026.8'!AK8 -> 2 | AL8: =AG8+'2026.8'!AL8 -> 5 | AM8: =AH8+'2026.8'!AM8 -> 1000 | AN8: =AI8+'2026.8'!AN8 -> 87 | AO8: =AJ8+'2026.8'!AO8 -> 34800 | AP8: 0 | AQ8: 0 | AR8: =AP8+'2026.8'!AR8 -> 0 | AS8: =AQ8+'2026.8'!AS8 -> 0 | AT8: 0 | AU8: 0 | AV8: 0 | AW8: 0 | AX8: =AT8+'2026.8'!AX8 -> 1 | AY8: =AU8+'2026.8'!AY8 -> 120 | AZ8: =AV8+'2026.8'!AZ8 -> 37 | BA8: =AW8+'2026.8'!BA8 -> 2
C9: 日立桜 | D9: 0 | E9: 0 | F9: 36 | G9: 27 | H9: 0 | I9: 0 | J9: 1 | K9: 0 | L9: 0 | M9: 0 | N9: 9 | O9: 0 | P9: 0 | Q9: 8 | R9: 0 | S9: 35 | T9: 0 | U9: 0 | V9: 1 | W9: 0 | X9: 0 | Y9: 0 | Z9: 36 | AA9: 1 | AB9: 0 | AC9: 0 | AD9: =AB9+'2026.8'!AD9 -> 0 | AE9: =AC9+'2026.8'!AE9 -> 0 | AF9: 1 | AG9: 0 | AH9: =AG9*$AH$5 -> 0 | AI9: 50 | AJ9: =AI9*$AJ$5 -> 20000 | AK9: =AF9+'2026.8'!AK9 -> 3 | AL9: =AG9+'2026.8'!AL9 -> 1 | AM9: =AH9+'2026.8'!AM9 -> 200 | AN9: =AI9+'2026.8'!AN9 -> 150 | AO9: =AJ9+'2026.8'!AO9 -> 60000 | AP9: 0 | AQ9: 0 | AR9: =AP9+'2026.8'!AR9 -> 0 | AS9: =AQ9+'2026.8'!AS9 -> 0 | AT9: 0 | AU9: 0 | AV9: 0 | AW9: 0 | AX9: =AT9+'2026.8'!AX9 -> 0 | AY9: =AU9+'2026.8'!AY9 -> 0 | AZ9: =AV9+'2026.8'!AZ9 -> 0 | BA9: =AW9+'2026.8'!BA9 -> 0
C10: 日立きらら | D10: 0 | E10: 0 | F10: 33 | G10: 21 | H10: 0 | I10: 0 | J10: 0 | K10: 0 | L10: 0 | M10: 0 | N10: 12 | O10: 0 | P10: 5 | Q10: 10 | R10: 0 | S10: 33 | T10: 0 | U10: 0 | V10: 0 | W10: 0 | X10: 0 | Y10: 0 | Z10: 33 | AA10: 0 | AB10: 0 | AC10: 0 | AD10: =AB10+'2026.8'!AD10 -> 0 | AE10: =AC10+'2026.8'!AE10 -> 0 | AF10: 0 | AG10: 0 | AH10: =AG10*$AH$5 -> 0 | AI10: 0 | AJ10: =AI10*$AJ$5 -> 0 | AK10: =AF10+'2026.8'!AK10 -> 3 | AL10: =AG10+'2026.8'!AL10 -> 0 | AM10: =AH10+'2026.8'!AM10 -> 0 | AN10: =AI10+'2026.8'!AN10 -> 120 | AO10: =AJ10+'2026.8'!AO10 -> 48000 | AP10: 0 | AQ10: 0 | AR10: =AP10+'2026.8'!AR10 -> 0 | AS10: =AQ10+'2026.8'!AS10 -> 0 | AT10: 1 | AU10: 80 | AV10: 32 | AW10: 5 | AX10: =AT10+'2026.8'!AX10 -> 1 | AY10: =AU10+'2026.8'!AY10 -> 80 | AZ10: =AV10+'2026.8'!AZ10 -> 32 | BA10: =AW10+'2026.8'!BA10 -> 5
C11: 北茨城桜 | D11: 0 | E11: 0 | F11: 19 | G11: 17 | H11: 0 | I11: 0 | J11: 0 | K11: 0 | L11: 0 | M11: 0 | N11: 2 | O11: 0 | P11: 3 | Q11: 2 | R11: 0 | S11: 19 | T11: 0 | U11: 0 | V11: 0 | W11: 0 | X11: 0 | Y11: 0 | Z11: 19 | AA11: 0 | AB11: 54247 | AC11: 340.06644 | AD11: =AB11+'2026.8'!AD11 -> 54247 | AE11: =AC11+'2026.8'!AE11 -> 340.06644 | AF11: 0 | AG11: 0 | AH11: =AG11*$AH$5 -> 0 | AI11: 0 | AJ11: =AI11*$AJ$5 -> 0 | AK11: =AF11+'2026.8'!AK11 -> 1 | AL11: =AG11+'2026.8'!AL11 -> 1 | AM11: =AH11+'2026.8'!AM11 -> 200 | AN11: =AI11+'2026.8'!AN11 -> 46 | AO11: =AJ11+'2026.8'!AO11 -> 18400 | AP11: 0 | AQ11: 0 | AR11: =AP11+'2026.8'!AR11 -> 0 | AS11: =AQ11+'2026.8'!AS11 -> 0 | AT11: 0 | AU11: 0 | AV11: 0 | AW11: 0 | AX11: =AT11+'2026.8'!AX11 -> 0 | AY11: =AU11+'2026.8'!AY11 -> 0 | AZ11: =AV11+'2026.8'!AZ11 -> 0 | BA11: =AW11+'2026.8'!BA11 -> 0
B12: 2 | C12: 勝田 | D12: 0 | E12: 0 | F12: 57 | G12: 53 | H12: 0 | I12: 0 | J12: 2 | K12: 0 | L12: 1 | M12: 0 | N12: 4 | O12: 0 | P12: 6 | Q12: 3 | R12: 0 | S12: 56 | T12: 0 | U12: 0 | V12: 1 | W12: 0 | X12: 0 | Y12: 0 | Z12: 57 | AA12: 1 | AB12: 1605195 | AC12: 10062.731 | AD12: =AB12+'2026.8'!AD12 -> 1605195 | AE12: =AC12+'2026.8'!AE12 -> 10062.731 | AF12: 0 | AG12: 0 | AH12: =AG12*$AH$5 -> 0 | AI12: 0 | AJ12: =AI12*$AJ$5 -> 0 | AK12: =AF12+'2026.8'!AK12 -> 1 | AL12: =AG12+'2026.8'!AL12 -> 2 | AM12: =AH12+'2026.8'!AM12 -> 400 | AN12: =AI12+'2026.8'!AN12 -> 56 | AO12: =AJ12+'2026.8'!AO12 -> 22400 | AP12: 0 | AQ12: 0 | AR12: =AP12+'2026.8'!AR12 -> 0 | AS12: =AQ12+'2026.8'!AS12 -> 0 | AT12: 0 | AU12: 0 | AV12: 0 | AW12: 0 | AX12: =AT12+'2026.8'!AX12 -> 0 | AY12: =AU12+'2026.8'!AY12 -> 0 | AZ12: =AV12+'2026.8'!AZ12 -> 0 | BA12: =AW12+'2026.8'!BA12 -> 0
C13: 那珂湊 | D13: 0 | E13: 0 | F13: 17 | G13: 13 | H13: 0 | I13: 0 | J13: 0 | K13: 0 | L13: 0 | M13: 0 | N13: 4 | O13: 0 | P13: 0 | Q13: 4 | R13: 0 | S13: 17 | T13: 0 | U13: 0 | V13: 0 | W13: 0 | X13: 0 | Y13: 0 | Z13: 17 | AA13: 0 | AB13: 0 | AC13: 0 | AD13: =AB13+'2026.8'!AD13 -> 0 | AE13: =AC13+'2026.8'!AE13 -> 0 | AF13: 0 | AG13: 0 | AH13: =AG13*$AH$5 -> 0 | AI13: 0 | AJ13: =AI13*$AJ$5 -> 0 | AK13: =AF13+'2026.8'!AK13 -> 1 | AL13: =AG13+'2026.8'!AL13 -> 1 | AM13: =AH13+'2026.8'!AM13 -> 200 | AN13: =AI13+'2026.8'!AN13 -> 32 | AO13: =AJ13+'2026.8'!AO13 -> 12800 | AP13: 0 | AQ13: 0 | AR13: =AP13+'2026.8'!AR13 -> 0 | AS13: =AQ13+'2026.8'!AS13 -> 0 | AT13: 0 | AU13: 0 | AV13: 0 | AW13: 0 | AX13: =AT13+'2026.8'!AX13 -> 0 | AY13: =AU13+'2026.8'!AY13 -> 0 | AZ13: =AV13+'2026.8'!AZ13 -> 0 | BA13: =AW13+'2026.8'!BA13 -> 0
C14: 東海 | D14: 0 | E14: 0 | F14: 60 | G14: 60 | H14: 0 | I14: 0 | J14: 2 | K14: 0 | L14: 1 | M14: 0 | N14: 0 | O14: 0 | P14: 10 | Q14: 0 | R14: 0 | S14: 57 | T14: 0 | U14: 0 | V14: 4 | W14: 0 | X14: 0 | Y14: 1 | Z14: 60 | AA14: 3 | AB14: 0 | AC14: 0 | AD14: =AB14+'2026.8'!AD14 -> 0 | AE14: =AC14+'2026.8'!AE14 -> 0 | AF14: 0 | AG14: 0 | AH14: =AG14*$AH$5 -> 0 | AI14: 0 | AJ14: =AI14*$AJ$5 -> 0 | AK14: =AF14+'2026.8'!AK14 -> 1 | AL14: =AG14+'2026.8'!AL14 -> 2 | AM14: =AH14+'2026.8'!AM14 -> 400 | AN14: =AI14+'2026.8'!AN14 -> 37 | AO14: =AJ14+'2026.8'!AO14 -> 14800 | AP14: 0 | AQ14: 0 | AR14: =AP14+'2026.8'!AR14 -> 0 | AS14: =AQ14+'2026.8'!AS14 -> 0 | AT14: 0 | AU14: 0 | AV14: 0 | AW14: 0 | AX14: =AT14+'2026.8'!AX14 -> 0 | AY14: =AU14+'2026.8'!AY14 -> 0 | AZ14: =AV14+'2026.8'!AZ14 -> 0 | BA14: =AW14+'2026.8'!BA14 -> 0
C15: 勝田グリーン | D15: 1 | E15: 0 | F15: 19 | G15: 18 | H15: 0 | I15: 0 | J15: 0 | K15: 1 | L15: 0 | M15: 0 | N15: 1 | O15: 0 | P15: 1 | Q15: 1 | R15: 0 | S15: 18 | T15: 0 | U15: 0 | V15: 1 | W15: 0 | X15: 0 | Y15: 0 | Z15: 19 | AA15: 1 | AB15: 0 | AC15: 0 | AD15: =AB15+'2026.8'!AD15 -> 0 | AE15: =AC15+'2026.8'!AE15 -> 0 | AF15: 1 | AG15: 0 | AH15: =AG15*$AH$5 -> 0 | AI15: 34 | AJ15: =AI15*$AJ$5 -> 13600 | AK15: =AF15+'2026.8'!AK15 -> 3 | AL15: =AG15+'2026.8'!AL15 -> 0 | AM15: =AH15+'2026.8'!AM15 -> 0 | AN15: =AI15+'2026.8'!AN15 -> 105 | AO15: =AJ15+'2026.8'!AO15 -> 42000 | AP15: 0 | AQ15: 0 | AR15: =AP15+'2026.8'!AR15 -> 0 | AS15: =AQ15+'2026.8'!AS15 -> 0 | AT15: 0 | AU15: 0 | AV15: 0 | AW15: 0 | AX15: =AT15+'2026.8'!AX15 -> 0 | AY15: =AU15+'2026.8'!AY15 -> 0 | AZ15: =AV15+'2026.8'!AZ15 -> 0 | BA15: =AW15+'2026.8'!BA15 -> 0
C16: ひたちなかベスト | D16: 0 | E16: 2 | F16: 41 | G16: 41 | H16: 0 | I16: 0 | J16: 0 | K16: 0 | L16: 0 | M16: 0 | N16: 0 | O16: 0 | P16: 7 | Q16: 0 | R16: 0 | S16: 42 | T16: 0 | U16: 0 | V16: 1 | W16: 0 | X16: 0 | Y16: 2 | Z16: 41 | AA16: -1 | AB16: 0 | AC16: 0 | AD16: =AB16+'2026.8'!AD16 -> 0 | AE16: =AC16+'2026.8'!AE16 -> 0 | AF16: 0 | AG16: 0 | AH16: =AG16*$AH$5 -> 0 | AI16: 0 | AJ16: =AI16*$AJ$5 -> 0 | AK16: =AF16+'2026.8'!AK16 -> 0 | AL16: =AG16+'2026.8'!AL16 -> 0 | AM16: =AH16+'2026.8'!AM16 -> 0 | AN16: =AI16+'2026.8'!AN16 -> 0 | AO16: =AJ16+'2026.8'!AO16 -> 0 | AP16: 0 | AQ16: 0 | AR16: =AP16+'2026.8'!AR16 -> 0 | AS16: =AQ16+'2026.8'!AS16 -> 0 | AT16: 0 | AU16: 0 | AV16: 0 | AW16: 0 | AX16: =AT16+'2026.8'!AX16 -> 0 | AY16: =AU16+'2026.8'!AY16 -> 0 | AZ16: =AV16+'2026.8'!AZ16 -> 0 | BA16: =AW16+'2026.8'!BA16 -> 0
B17: 3 | C17: 常陸太田 | D17: 0 | E17: 1 | F17: 45 | G17: 38 | H17: 0 | I17: 0 | J17: 0 | K17: 1 | L17: 5 | M17: 0 | N17: 7 | O17: 0 | P17: 3 | Q17: 4 | R17: 0 | S17: 45 | T17: 0 | U17: 0 | V17: 1 | W17: 0 | X17: 0 | Y17: 1 | Z17: 45 | AA17: 0 | AB17: 0 | AC17: 0 | AD17: =AB17+'2026.8'!AD17 -> 0 | AE17: =AC17+'2026.8'!AE17 -> 0 | AF17: 1 | AG17: 2 | AH17: =AG17*$AH$5 -> 400 | AI17: 35 | AJ17: =AI17*$AJ$5 -> 14000 | AK17: =AF17+'2026.8'!AK17 -> 1 | AL17: =AG17+'2026.8'!AL17 -> 2 | AM17: =AH17+'2026.8'!AM17 -> 400 | AN17: =AI17+'2026.8'!AN17 -> 35 | AO17: =AJ17+'2026.8'!AO17 -> 14000 | AP17: 0 | AQ17: 0 | AR17: =AP17+'2026.8'!AR17 -> 0 | AS17: =AQ17+'2026.8'!AS17 -> 0 | AT17: 0 | AU17: 0 | AV17: 0 | AW17: 0 | AX17: =AT17+'2026.8'!AX17 -> 0 | AY17: =AU17+'2026.8'!AY17 -> 0 | AZ17: =AV17+'2026.8'!AZ17 -> 0 | BA17: =AW17+'2026.8'!BA17 -> 0
C18: 常陸大宮 | D18: 1 | E18: 0 | F18: 27 | G18: 26 | H18: 0 | I18: 0 | J18: 0 | K18: 0 | L18: 0 | M18: 0 | N18: 1 | O18: 0 | P18: 2 | Q18: 0 | R18: 0 | S18: 27 | T18: 0 | U18: 0 | V18: 1 | W18: 0 | X18: 0 | Y18: 1 | Z18: 27 | AA18: 0 | AB18: 0 | AC18: 0 | AD18: =AB18+'2026.8'!AD18 -> 0 | AE18: =AC18+'2026.8'!AE18 -> 0 | AF18: 3 | AG18: 5 | AH18: =AG18*$AH$5 -> 1000 | AI18: 161 | AJ18: =AI18*$AJ$5 -> 64400 | AK18: =AF18+'2026.8'!AK18 -> 6 | AL18: =AG18+'2026.8'!AL18 -> 6 | AM18: =AH18+'2026.8'!AM18 -> 1200 | AN18: =AI18+'2026.8'!AN18 -> 282 | AO18: =AJ18+'2026.8'!AO18 -> 112800 | AP18: 0 | AQ18: 0 | AR18: =AP18+'2026.8'!AR18 -> 0 | AS18: =AQ18+'2026.8'!AS18 -> 0 | AT18: 0 | AU18: 0 | AV18: 0 | AW18: 0 | AX18: =AT18+'2026.8'!AX18 -> 0 | AY18: =AU18+'2026.8'!AY18 -> 0 | AZ18: =AV18+'2026.8'!AZ18 -> 0 | BA18: =AW18+'2026.8'!BA18 -> 0
C19: 那珂 | D19: 0 | E19: 0 | F19: 27 | G19: 23 | H19: 0 | I19: 0 | J19: 0 | K19: 0 | L19: 1 | M19: 5 | N19: 4 | O19: 0 | P19: 4 | Q19: 3 | R19: 0 | S19: 27 | T19: 0 | U19: 0 | V19: 0 | W19: 0 | X19: 0 | Y19: 0 | Z19: 27 | AA19: 0 | AB19: 0 | AC19: 0 | AD19: =AB19+'2026.8'!AD19 -> 48530 | AE19: =AC19+'2026.8'!AE19 -> 300.00181 | AF19: 1 | AG19: 3 | AH19: =AG19*$AH$5 -> 600 | AI19: 26 | AJ19: =AI19*$AJ$5 -> 10400 | AK19: =AF19+'2026.8'!AK19 -> 6 | AL19: =AG19+'2026.8'!AL19 -> 6 | AM19: =AH19+'2026.8'!AM19 -> 1200 | AN19: =AI19+'2026.8'!AN19 -> 168 | AO19: =AJ19+'2026.8'!AO19 -> 67200 | AP19: 0 | AQ19: 0 | AR19: =AP19+'2026.8'!AR19 -> 0 | AS19: =AQ19+'2026.8'!AS19 -> 0 | AT19: 0 | AU19: 0 | AV19: 0 | AW19: 0 | AX19: =AT19+'2026.8'!AX19 -> 0 | AY19: =AU19+'2026.8'!AY19 -> 0 | AZ19: =AV19+'2026.8'!AZ19 -> 0 | BA19: =AW19+'2026.8'!BA19 -> 0
C20: 常陸大子 | D20: 0 | E20: 0 | F20: 33 | G20: 31 | H20: 0 | I20: 0 | J20: 0 | K20: 2 | L20: 0 | M20: 0 | N20: 2 | O20: 0 | P20: 0 | Q20: 1 | R20: 0 | S20: 34 | T20: 0 | U20: 0 | V20: 0 | W20: 0 | X20: 0 | Y20: 1 | Z20: 33 | AA20: -1 | AB20: 0 | AC20: 0 | AD20: =AB20+'2026.8'!AD20 -> 0 | AE20: =AC20+'2026.8'!AE20 -> 0 | AF20: 0 | AG20: 0 | AH20: =AG20*$AH$5 -> 0 | AI20: 0 | AJ20: =AI20*$AJ$5 -> 0 | AK20: =AF20+'2026.8'!AK20 -> 0 | AL20: =AG20+'2026.8'!AL20 -> 0 | AM20: =AH20+'2026.8'!AM20 -> 0 | AN20: =AI20+'2026.8'!AN20 -> 0 | AO20: =AJ20+'2026.8'!AO20 -> 0 | AP20: 0 | AQ20: 0 | AR20: =AP20+'2026.8'!AR20 -> 0 | AS20: =AQ20+'2026.8'!AS20 -> 0 | AT20: 0 | AU20: 0 | AV20: 0 | AW20: 0 | AX20: =AT20+'2026.8'!AX20 -> 0 | AY20: =AU20+'2026.8'!AY20 -> 0 | AZ20: =AV20+'2026.8'!AZ20 -> 0 | BA20: =AW20+'2026.8'!BA20 -> 0
A21: R合計 | D21: =SUM(D6:D20) -> 2 | E21: =SUM(E6:E20) -> 4 | F21: =SUM(F6:F20) -> 494 | G21: =SUM(G6:G20) -> 430 | H21: =SUM(H6:H20) -> 0 | I21: =SUM(I6:I20) -> 0 | J21: =SUM(J6:J20) -> 6 | K21: =SUM(K6:K20) -> 4 | ... BA21: =SUM(BA6:BA20) -> 7
A22: 2 | B22: 1 | C22: 水戸 | D22: 1 | E22: 0 | F22: 60 | G22: 57 | H22: 4 | I22: 0 | J22: 3 | K22: 0 | L22: 0 | M22: 0 | N22: 3 | O22: 0 | P22: 1 | Q22: 2 | R22: 0 | S22: 59 | T22: 0 | U22: 0 | V22: 1 | W22: 0 | X22: 0 | Y22: 0 | Z22: 60 | AA22: 1 | AB22: 10000 | AC22: 62.688525 | AD22: =AB22+'2026.8'!AD22 -> 657064 | AE22: =AC22+'2026.8'!AE22 -> 4062.6961 | AF22: 1 | AG22: 36 | AH22: =AG22*$AH$5 -> 7200 | AI22: 13 | AJ22: =AI22*$AJ$5 -> 5200 | AK22: =AF22+'2026.8'!AK22 -> 2 | AL22: =AG22+'2026.8'!AL22 -> 39 | AM22: =AH22+'2026.8'!AM22 -> 7800 | AN22: =AI22+'2026.8'!AN22 -> 48 | AO22: =AJ22+'2026.8'!AO22 -> 19200 | AP22: 0 | AQ22: 0 | AR22: =AP22+'2026.8'!AR22 -> 0 | AS22: =AQ22+'2026.8'!AS22 -> 0 | AT22: 0 | AU22: 0 | AV22: 0 | AW22: 0 | AX22: =AT22+'2026.8'!AX22 -> 2 | AY22: =AU22+'2026.8'!AY22 -> 470 | AZ22: =AV22+'2026.8'!AZ22 -> 174 | BA22: =AW22+'2026.8'!BA22 -> 10
C23: 水戸葵 | D23: 7 | E23: 2 | F23: 98 | G23: 90 | H23: 0 | I23: 0 | J23: 0 | K23: 0 | L23: 4 | M23: 15 | N23: 8 | O23: 0 | P23: 9 | Q23: 7 | R23: 0 | S23: 93 | T23: 0 | U23: 0 | V23: 7 | W23: 0 | X23: 0 | Y23: 2 | Z23: 98 | AA23: 5 | AB23: 319038 | AC23: 2000.0022 | AD23: =AB23+'2026.8'!AD23 -> 319038 | AE23: =AC23+'2026.8'!AE23 -> 2000.0022 | AF23: 0 | AG23: 0 | AH23: =AG23*$AH$5 -> 0 | AI23: 0 | AJ23: =AI23*$AJ$5 -> 0 | AK23: =AF23+'2026.8'!AK23 -> 0 | AL23: =AG23+'2026.8'!AL23 -> 0 | AM23: =AH23+'2026.8'!AM23 -> 0 | AN23: =AI23+'2026.8'!AN23 -> 0 | AO23: =AJ23+'2026.8'!AO23 -> 0 | AP23: 0 | AQ23: 0 | AR23: =AP23+'2026.8'!AR23 -> 0 | AS23: =AQ23+'2026.8'!AS23 -> 0 | AT23: 0 | AU23: 0 | AV23: 0 | AW23: 0 | AX23: =AT23+'2026.8'!AX23 -> 0 | AY23: =AU23+'2026.8'!AY23 -> 0 | AZ23: =AV23+'2026.8'!AZ23 -> 0 | BA23: =AW23+'2026.8'!BA23 -> 0
C24: 水戸西 | D24: 2 | E24: 0 | F24: 64 | G24: 64 | H24: 0 | I24: 0 | J24: 3 | K24: 0 | L24: 0 | M24: 0 | N24: 0 | O24: 0 | P24: 0 | Q24: 0 | R24: 0 | S24: 62 | T24: 0 | U24: 0 | V24: 2 | W24: 0 | X24: 0 | Y24: 0 | Z24: 64 | AA24: 2 | AB24: 0 | AC24: 0 | AD24: =AB24+'2026.8'!AD24 -> 0 | AE24: =AC24+'2026.8'!AE24 -> 0 | AF24: 1 | AG24: 17 | AH24: =AG24*$AH$5 -> 3400 | AI24: 42 | AJ24: =AI24*$AJ$5 -> 16800 | AK24: =AF24+'2026.8'!AK24 -> 1 | AL24: =AG24+'2026.8'!AL24 -> 17 | AM24: =AH24+'2026.8'!AM24 -> 3400 | AN24: =AI24+'2026.8'!AN24 -> 42 | AO24: =AJ24+'2026.8'!AO24 -> 16800 | AP24: 0 | AQ24: 0 | AR24: =AP24+'2026.8'!AR24 -> 0 | AS24: =AQ24+'2026.8'!AS24 -> 0 | AT24: 0 | AU24: 0 | AV24: 0 | AW24: 0 | AX24: =AT24+'2026.8'!AX24 -> 0 | AY24: =AU24+'2026.8'!AY24 -> 0 | AZ24: =AV24+'2026.8'!AZ24 -> 0 | BA24: =AW24+'2026.8'!BA24 -> 0
C25: 水戸東 | D25: 1 | E25: 1 | F25: 29 | G25: 28 | H25: 1 | I25: 1 | J25: 0 | K25: 4 | L25: 3 | M25: 0 | N25: 1 | O25: 0 | P25: 1 | Q25: 1 | R25: 0 | S25: 30 | T25: 0 | U25: 1 | V25: 0 | W25: 0 | X25: 0 | Y25: 2 | Z25: 29 | AA25: -1 | AB25: 303088 | AC25: 1900.014 | AD25: =AB25+'2026.8'!AD25 -> 303088 | AE25: =AC25+'2026.8'!AE25 -> 1900.014 | AF25: 0 | AG25: 0 | AH25: =AG25*$AH$5 -> 0 | AI25: 0 | AJ25: =AI25*$AJ$5 -> 0 | AK25: =AF25+'2026.8'!AK25 -> 1 | AL25: =AG25+'2026.8'!AL25 -> 10 | AM25: =AH25+'2026.8'!AM25 -> 2000 | AN25: =AI25+'2026.8'!AN25 -> 29 | AO25: =AJ25+'2026.8'!AO25 -> 11600 | AP25: 0 | AQ25: 0 | AR25: =AP25+'2026.8'!AR25 -> 0 | AS25: =AQ25+'2026.8'!AS25 -> 0 | AT25: 0 | AU25: 0 | AV25: 0 | AW25: 0 | AX25: =AT25+'2026.8'!AX25 -> 0 | AY25: =AU25+'2026.8'!AY25 -> 0 | AZ25: =AV25+'2026.8'!AZ25 -> 0 | BA25: =AW25+'2026.8'!BA25 -> 0
C26: 水戸南 | D26: 0 | E26: 0 | F26: 23 | G26: 18 | H26: 0 | I26: 0 | J26: 0 | K26: 0 | L26: 0 | M26: 0 | N26: 5 | O26: 0 | P26: 0 | Q26: 4 | R26: 0 | S26: 23 | T26: 0 | U26: 0 | V26: 0 | W26: 0 | X26: 0 | Y26: 0 | Z26: 23 | AA26: 0 | AB26: 0 | AC26: 0 | AD26: =AB26+'2026.8'!AD26 -> 0 | AE26: =AC26+'2026.8'!AE26 -> 0 | AF26: 0 | AG26: 0 | AH26: =AG26*$AH$5 -> 0 | AI26: 0 | AJ26: =AI26*$AJ$5 -> 0 | AK26: =AF26+'2026.8'!AK26 -> 0 | AL26: =AG26+'2026.8'!AL26 -> 0 | AM26: =AH26+'2026.8'!AM26 -> 0 | AN26: =AI26+'2026.8'!AN26 -> 0 | AO26: =AJ26+'2026.8'!AO26 -> 0 | AP26: 0 | AQ26: 0 | AR26: =AP26+'2026.8'!AR26 -> 0 | AS26: =AQ26+'2026.8'!AS26 -> 0 | AT26: 1 | AU26: 60 | AV26: 458 | AW26: 2 | AX26: =AT26+'2026.8'!AX26 -> 2 | AY26: =AU26+'2026.8'!AY26 -> 120 | AZ26: =AV26+'2026.8'!AZ26 -> 503 | BA26: =AW26+'2026.8'!BA26 -> 4
C27: 水戸北 | D27: 0 | E27: 3 | F27: 16 | G27: 16 | H27: 2 | I27: 0 | J27: 0 | K27: 0 | L27: 3 | M27: 0 | N27: 0 | O27: 0 | P27: 2 | Q27: 0 | R27: 0 | S27: 19 | T27: 0 | U27: 0 | V27: 0 | W27: 0 | X27: 0 | Y27: 3 | Z27: 16 | AA27: -3 | AB27: 0 | AC27: 0 | AD27: =AB27+'2026.8'!AD27 -> 0 | AE27: =AC27+'2026.8'!AE27 -> 0 | AF27: 0 | AG27: 0 | AH27: =AG27*$AH$5 -> 0 | AI27: 0 | AJ27: =AI27*$AJ$5 -> 0 | AK27: =AF27+'2026.8'!AK27 -> 1 | AL27: =AG27+'2026.8'!AL27 -> 21 | AM27: =AH27+'2026.8'!AM27 -> 4200 | AN27: =AI27+'2026.8'!AN27 -> 21 | AO27: =AJ27+'2026.8'!AO27 -> 8400 | AP27: 0 | AQ27: 0 | AR27: =AP27+'2026.8'!AR27 -> 0 | AS27: =AQ27+'2026.8'!AS27 -> 0 | AT27: 0 | AU27: 0 | AV27: 0 | AW27: 0 | AX27: =AT27+'2026.8'!AX27 -> 0 | AY27: =AU27+'2026.8'!AY27 -> 0 | AZ27: =AV27+'2026.8'!AZ27 -> 0 | BA27: =AW27+'2026.8'!BA27 -> 0
C28: 水戸チアフル | D28: 0 | E28: 0 | F28: 24 | G28: 24 | H28: 0 | I28: 0 | J28: 0 | K28: 0 | L28: 1 | M28: 5 | N28: 0 | O28: 0 | P28: 24 | Q28: 0 | R28: 0 | S28: 24 | T28: 0 | U28: 0 | V28: 0 | W28: 0 | X28: 0 | Y28: 0 | Z28: 24 | AA28: 0 | AB28: 0 | AC28: 0 | AD28: =AB28+'2026.8'!AD28 -> 0 | AE28: =AC28+'2026.8'!AE28 -> 0 | AF28: 0 | AG28: 0 | AH28: =AG28*$AH$5 -> 0 | AI28: 0 | AJ28: =AI28*$AJ$5 -> 0 | AK28: =AF28+'2026.8'!AK28 -> 0 | AL28: =AG28+'2026.8'!AL28 -> 0 | AM28: =AH28+'2026.8'!AM28 -> 0 | AN28: =AI28+'2026.8'!AN28 -> 0 | AO28: =AJ28+'2026.8'!AO28 -> 0 | AP28: 0 | AQ28: 0 | AR28: =AP28+'2026.8'!AR28 -> 0 | AS28: =AQ28+'2026.8'!AS28 -> 0 | AT28: 0 | AU28: 0 | AV28: 0 | AW28: 0 | AX28: =AT28+'2026.8'!AX28 -> 1 | AY28: =AU28+'2026.8'!AY28 -> 50 | AZ28: =AV28+'2026.8'!AZ28 -> 252 | BA28: =AW28+'2026.8'!BA28 -> 3
B29: 2 | C29: 大洗 | D29: 0 | E29: 0 | F29: 16 | G29: 16 | H29: 0 | I29: 0 | J29: 1 | K29: 0 | L29: 3 | M29: 0 | N29: 0 | O29: 0 | P29: 0 | Q29: 0 | R29: 0 | S29: 16 | T29: 0 | U29: 0 | V29: 0 | W29: 0 | X29: 0 | Y29: 0 | Z29: 16 | AA29: 0 | AB29: 0 | AC29: 0 | AD29: =AB29+'2026.8'!AD29 -> 0 | AE29: =AC29+'2026.8'!AE29 -> 0 | AF29: 1 | AG29: 0 | AH29: =AG29*$AH$5 -> 0 | AI29: 20 | AJ29: =AI29*$AJ$5 -> 8000 | AK29: =AF29+'2026.8'!AK29 -> 2 | AL29: =AG29+'2026.8'!AL29 -> 3 | AM29: =AH29+'2026.8'!AM29 -> 600 | AN29: =AI29+'2026.8'!AN29 -> 40 | AO29: =AJ29+'2026.8'!AO29 -> 16000 | AP29: 0 | AQ29: 0 | AR29: =AP29+'2026.8'!AR29 -> 0 | AS29: =AQ29+'2026.8'!AS29 -> 0 | AT29: 0 | AU29: 0 | AV29: 0 | AW29: 0 | AX29: =AT29+'2026.8'!AX29 -> 0 | AY29: =AU29+'2026.8'!AY29 -> 0 | AZ29: =AV29+'2026.8'!AZ29 -> 0 | BA29: =AW29+'2026.8'!BA29 -> 0
C30: 鹿島 | D30: 0 | E30: 0 | F30: 130 | G30: 82 | H30: 0 | I30: 1 | J30: 0 | K30: 0 | L30: 0 | M30: 0 | N30: 48 | O30: 0 | P30: 9 | Q30: 32 | R30: 0 | S30: 128 | T30: 0 | U30: 0 | V30: 2 | W30: 0 | X30: 0 | Y30: 0 | Z30: 130 | AA30: 2 | AB30: 319038 | AC30: 2000.0022 | AD30: =AB30+'2026.8'!AD30 -> 966102 | AE30: =AC30+'2026.8'!AE30 -> 6000.0098 | AF30: 0 | AG30: 0 | AH30: =AG30*$AH$5 -> 0 | AI30: 0 | AJ30: =AI30*$AJ$5 -> 0 | AK30: =AF30+'2026.8'!AK30 -> 2 | AL30: =AG30+'2026.8'!AL30 -> 2 | AM30: =AH30+'2026.8'!AM30 -> 400 | AN30: =AI30+'2026.8'!AN30 -> 89 | AO30: =AJ30+'2026.8'!AO30 -> 35600 | AP30: 0 | AQ30: 0 | AR30: =AP30+'2026.8'!AR30 -> 0 | AS30: =AQ30+'2026.8'!AS30 -> 0 | AT30: 1 | AU30: 150 | AV30: 41 | AW30: 8 | AX30: =AT30+'2026.8'!AX30 -> 2 | AY30: =AU30+'2026.8'!AY30 -> 990 | AZ30: =AV30+'2026.8'!AZ30 -> 71 | BA30: =AW30+'2026.8'!BA30 -> 28
C31: 鉾田 | D31: 0 | E31: 0 | F31: 58 | G31: 47 | H31: 0 | I31: 0 | J31: 3 | K31: 0 | L31: 0 | M31: 0 | N31: 11 | O31: 0 | P31: 8 | Q31: 8 | R31: 0 | S31: 58 | T31: 0 | U31: 0 | V31: 0 | W31: 0 | X31: 0 | Y31: 0 | Z31: 58 | AA31: 0 | AB31: 159519 | AC31: 1000.0011 | AD31: =AB31+'2026.8'!AD31 -> 1783142 | AE31: =AC31+'2026.8'!AE31 -> 11000.008 | AF31: 1 | AG31: 2 | AH31: =AG31*$AH$5 -> 400 | AI31: 23 | AJ31: =AI31*$AJ$5 -> 9200 | AK31: =AF31+'2026.8'!AK31 -> 3 | AL31: =AG31+'2026.8'!AL31 -> 6 | AM31: =AH31+'2026.8'!AM31 -> 1200 | AN31: =AI31+'2026.8'!AN31 -> 99 | AO31: =AJ31+'2026.8'!AO31 -> 39600 | AP31: 0 | AQ31: 0 | AR31: =AP31+'2026.8'!AR31 -> 0 | AS31: =AQ31+'2026.8'!AS31 -> 0 | AT31: 0 | AU31: 0 | AV31: 0 | AW31: 0 | AX31: =AT31+'2026.8'!AX31 -> 1 | AY31: =AU31+'2026.8'!AY31 -> 60 | AZ31: =AV31+'2026.8'!AZ31 -> 70 | BA31: =AW31+'2026.8'!BA31 -> 10
C32: 潮来 | D32: 0 | E32: 1 | F32: 100 | G32: 83 | H32: 0 | I32: 0 | J32: 0 | K32: 0 | L32: 0 | M32: 0 | N32: 17 | O32: 0 | P32: 8 | Q32: 15 | R32: 0 | S32: 101 | T32: 0 | U32: 0 | V32: 1 | W32: 0 | X32: 1 | Y32: 1 | Z32: 100 | AA32: -1 | AB32: 0 | AC32: 0 | AD32: =AB32+'2026.8'!AD32 -> 0 | AE32: =AC32+'2026.8'!AE32 -> 0 | AF32: 0 | AG32: 0 | AH32: =AG32*$AH$5 -> 0 | AI32: 0 | AJ32: =AI32*$AJ$5 -> 0 | AK32: =AF32+'2026.8'!AK32 -> 2 | AL32: =AG32+'2026.8'!AL32 -> 3 | AM32: =AH32+'2026.8'!AM32 -> 600 | AN32: =AI32+'2026.8'!AN32 -> 62 | AO32: =AJ32+'2026.8'!AO32 -> 24800 | AP32: 0 | AQ32: 0 | AR32: =AP32+'2026.8'!AR32 -> 0 | AS32: =AQ32+'2026.8'!AS32 -> 0 | AT32: 0 | AU32: 0 | AV32: 0 | AW32: 0 | AX32: =AT32+'2026.8'!AX32 -> 1 | AY32: =AU32+'2026.8'!AY32 -> 480 | AZ32: =AV32+'2026.8'!AZ32 -> 14 | BA32: =AW32+'2026.8'!BA32 -> 16
C33: 神栖 | D33: 0 | E33: 0 | F33: 111 | G33: 95 | H33: 0 | I33: 0 | J33: 0 | K33: 0 | L33: 0 | M33: 0 | N33: 16 | O33: 0 | P33: 11 | Q33: 8 | R33: 0 | S33: 109 | T33: 0 | U33: 0 | V33: 2 | W33: 0 | X33: 0 | Y33: 0 | Z33: 111 | AA33: 2 | AB33: 159519 | AC33: 1000.0011 | AD33: =AB33+'2026.8'!AD33 -> 321285 | AE33: =AC33+'2026.8'!AE33 -> 2000.003 | AF33: 0 | AG33: 0 | AH33: =AG33*$AH$5 -> 0 | AI33: 0 | AJ33: =AI33*$AJ$5 -> 0 | AK33: =AF33+'2026.8'!AK33 -> 1 | AL33: =AG33+'2026.8'!AL33 -> 0 | AM33: =AH33+'2026.8'!AM33 -> 0 | AN33: =AI33+'2026.8'!AN33 -> 48 | AO33: =AJ33+'2026.8'!AO33 -> 19200 | AP33: 0 | AQ33: 0 | AR33: =AP33+'2026.8'!AR33 -> 0 | AS33: =AQ33+'2026.8'!AS33 -> 0 | AT33: 1 | AU33: 50 | AV33: 554 | AW33: 9 | AX33: =AT33+'2026.8'!AX33 -> 3 | AY33: =AU33+'2026.8'!AY33 -> 460 | AZ33: =AV33+'2026.8'!AZ33 -> 634 | BA33: =AW33+'2026.8'!BA33 -> 27
C34: 行方 | D34: 0 | E34: 0 | F34: 67 | G34: 55 | H34: 0 | I34: 0 | J34: 0 | K34: 0 | L34: 0 | M34: 0 | N34: 12 | O34: 0 | P34: 0 | Q34: 12 | R34: 0 | S34: 66 | T34: 0 | U34: 0 | V34: 1 | W34: 0 | X34: 0 | Y34: 0 | Z34: 67 | AA34: 1 | AB34: 0 | AC34: 0 | AD34: =AB34+'2026.8'!AD34 -> 0 | AE34: =AC34+'2026.8'!AE34 -> 0 | AF34: 0 | AG34: 0 | AH34: =AG34*$AH$5 -> 0 | AI34: 0 | AJ34: =AI34*$AJ$5 -> 0 | AK34: =AF34+'2026.8'!AK34 -> 1 | AL34: =AG34+'2026.8'!AL34 -> 3 | AM34: =AH34+'2026.8'!AM34 -> 600 | AN34: =AI34+'2026.8'!AN34 -> 40 | AO34: =AJ34+'2026.8'!AO34 -> 16000 | AP34: 0 | AQ34: 0 | AR34: =AP34+'2026.8'!AR34 -> 1 | AS34: =AQ34+'2026.8'!AS34 -> 0 | AT34: 0 | AU34: 0 | AV34: 0 | AW34: 0 | AX34: =AT34+'2026.8'!AX34 -> 1 | AY34: =AU34+'2026.8'!AY34 -> 480 | AZ34: =AV34+'2026.8'!AZ34 -> 14 | BA34: =AW34+'2026.8'!BA34 -> 20
A35: R合計 | D35: =SUM(D22:D34) -> 11 | E35: =SUM(E22:E34) -> 7 | F35: =SUM(F22:F34) -> 796 | G35: =SUM(G22:G34) -> 675 | H35: =SUM(H22:H34) -> 7 | I35: =SUM(I22:I34) -> 2 | J35: =SUM(J22:J34) -> 10 | K35: =SUM(K22:K34) -> 4 | ... BA35: =SUM(BA22:BA34) -> 118
A36: 3 | B36: 1 | C36: 石岡 | D36: 0 | E36: 0 | F36: 42 | G36: 41 | H36: 0 | I36: 0 | J36: 0 | K36: 0 | L36: 0 | M36: 0 | N36: 1 | O36: 0 | P36: 6 | Q36: 1 | R36: 0 | S36: 37 | T36: 0 | U36: 0 | V36: 5 | W36: 0 | X36: 0 | Y36: 0 | Z36: 42 | AA36: 5 | AB36: 0 | AC36: 0 | AD36: =AB36+'2026.8'!AD36 -> 0 | AE36: =AC36+'2026.8'!AE36 -> 0 | AF36: 0 | AG36: 0 | AH36: =AG36*$AH$5 -> 0 | AI36: 0 | AJ36: =AI36*$AJ$5 -> 0 | AK36: =AF36+'2026.8'!AK36 -> 1 | AL36: =AG36+'2026.8'!AL36 -> 4 | AM36: =AH36+'2026.8'!AM36 -> 800 | AN36: =AI36+'2026.8'!AN36 -> 59 | AO36: =AJ36+'2026.8'!AO36 -> 23600 | AP36: 0 | AQ36: 0 | AR36: =AP36+'2026.8'!AR36 -> 0 | AS36: =AQ36+'2026.8'!AS36 -> 0 | AT36: 0 | AU36: 0 | AV36: 0 | AW36: 0 | AX36: =AT36+'2026.8'!AX36 -> 1 | AY36: =AU36+'2026.8'!AY36 -> 40 | AZ36: =AV36+'2026.8'!AZ36 -> 93 | BA36: =AW36+'2026.8'!BA36 -> 10
C37: 八郷 | D37: 0 | E37: 0 | F37: 16 | G37: 12 | H37: 0 | I37: 0 | J37: 0 | K37: 0 | L37: 0 | M37: 0 | N37: 4 | O37: 0 | P37: 0 | Q37: 4 | R37: 0 | S37: 16 | T37: 0 | U37: 0 | V37: 0 | W37: 0 | X37: 0 | Y37: 0 | Z37: 16 | AA37: 0 | AB37: 0 | AC37: 0 | AD37: =AB37+'2026.8'!AD37 -> 0 | AE37: =AC37+'2026.8'!AE37 -> 0 | AF37: 0 | AG37: 0 | AH37: =AG37*$AH$5 -> 0 | AI37: 0 | AJ37: =AI37*$AJ$5 -> 0 | AK37: =AF37+'2026.8'!AK37 -> 0 | AL37: =AG37+'2026.8'!AL37 -> 0 | AM37: =AH37+'2026.8'!AM37 -> 0 | AN37: =AI37+'2026.8'!AN37 -> 0 | AO37: =AJ37+'2026.8'!AO37 -> 0 | AP37: 0 | AQ37: 0 | AR37: =AP37+'2026.8'!AR37 -> 0 | AS37: =AQ37+'2026.8'!AS37 -> 0 | AT37: 0 | AU37: 0 | AV37: 0 | AW37: 0 | AX37: =AT37+'2026.8'!AX37 -> 1 | AY37: =AU37+'2026.8'!AY37 -> 60 | AZ37: =AV37+'2026.8'!AZ37 -> 42 | BA37: =AW37+'2026.8'!BA37 -> 5
C38: 岩間 | D38: 0 | E38: 0 | F38: 16 | G38: 16 | H38: 0 | I38: 0 | J38: 0 | K38: 0 | L38: 0 | M38: 0 | N38: 0 | O38: 0 | P38: 0 | Q38: 0 | R38: 0 | S38: 16 | T38: 0 | U38: 0 | V38: 0 | W38: 0 | X38: 0 | Y38: 0 | Z38: 16 | AA38: 0 | AB38: 0 | AC38: 0 | AD38: =AB38+'2026.8'!AD38 -> 0 | AE38: =AC38+'2026.8'!AE38 -> 0 | AF38: 1 | AG38: 0 | AH38: =AG38*$AH$5 -> 0 | AI38: 24 | AJ38: =AI38*$AJ$5 -> 9600 | AK38: =AF38+'2026.8'!AK38 -> 2 | AL38: =AG38+'2026.8'!AL38 -> 0 | AM38: =AH38+'2026.8'!AM38 -> 0 | AN38: =AI38+'2026.8'!AN38 -> 53 | AO38: =AJ38+'2026.8'!AO38 -> 21200 | AP38: 0 | AQ38: 0 | AR38: =AP38+'2026.8'!AR38 -> 0 | AS38: =AQ38+'2026.8'!AS38 -> 0 | AT38: 0 | AU38: 0 | AV38: 0 | AW38: 0 | AX38: =AT38+'2026.8'!AX38 -> 0 | AY38: =AU38+'2026.8'!AY38 -> 0 | AZ38: =AV38+'2026.8'!AZ38 -> 0 | BA38: =AW38+'2026.8'!BA38 -> 0
C39: 笠間 | D39: 0 | E39: 0 | F39: 33 | G39: 23 | H39: 0 | I39: 0 | J39: 0 | K39: 0 | L39: 0 | M39: 0 | N39: 10 | O39: 0 | P39: 1 | Q39: 10 | R39: 0 | S39: 32 | T39: 0 | U39: 0 | V39: 1 | W39: 0 | X39: 0 | Y39: 0 | Z39: 33 | AA39: 1 | AB39: 0 | AC39: 0 | AD39: =AB39+'2026.8'!AD39 -> 0 | AE39: =AC39+'2026.8'!AE39 -> 0 | AF39: 0 | AG39: 0 | AH39: =AG39*$AH$5 -> 0 | AI39: 0 | AJ39: =AI39*$AJ$5 -> 0 | AK39: =AF39+'2026.8'!AK39 -> 0 | AL39: =AG39+'2026.8'!AL39 -> 0 | AM39: =AH39+'2026.8'!AM39 -> 0 | AN39: =AI39+'2026.8'!AN39 -> 0 | AO39: =AJ39+'2026.8'!AO39 -> 0 | AP39: 0 | AQ39: 0 | AR39: =AP39+'2026.8'!AR39 -> 0 | AS39: =AQ39+'2026.8'!AS39 -> 0 | AT39: 0 | AU39: 0 | AV39: 0 | AW39: 0 | AX39: =AT39+'2026.8'!AX39 -> 0 | AY39: =AU39+'2026.8'!AY39 -> 0 | AZ39: =AV39+'2026.8'!AZ39 -> 0 | BA39: =AW39+'2026.8'!BA39 -> 0
C40: 美野里 | D40: 0 | E40: 0 | F40: 17 | G40: 14 | H40: 0 | I40: 0 | J40: 0 | K40: 0 | L40: 0 | M40: 0 | N40: 3 | O40: 0 | P40: 3 | Q40: 3 | R40: 0 | S40: 17 | T40: 0 | U40: 0 | V40: 0 | W40: 0 | X40: 0 | Y40: 0 | Z40: 17 | AA40: 0 | AB40: 159519 | AC40: 1000.0011 | AD40: =AB40+'2026.8'!AD40 -> 159519 | AE40: =AC40+'2026.8'!AE40 -> 1000.0011 | AF40: 0 | AG40: 0 | AH40: =AG40*$AH$5 -> 0 | AI40: 0 | AJ40: =AI40*$AJ$5 -> 0 | AK40: =AF40+'2026.8'!AK40 -> 1 | AL40: =AG40+'2026.8'!AL40 -> 6 | AM40: =AH40+'2026.8'!AM40 -> 1200 | AN40: =AI40+'2026.8'!AN40 -> 45 | AO40: =AJ40+'2026.8'!AO40 -> 18000 | AP40: 0 | AQ40: 0 | AR40: =AP40+'2026.8'!AR40 -> 0 | AS40: =AQ40+'2026.8'!AS40 -> 0 | AT40: 0 | AU40: 0 | AV40: 0 | AW40: 0 | AX40: =AT40+'2026.8'!AX40 -> 0 | AY40: =AU40+'2026.8'!AY40 -> 0 | AZ40: =AV40+'2026.8'!AZ40 -> 0 | BA40: =AW40+'2026.8'!BA40 -> 0
C41: 常陸小川 | D41: 0 | E41: 0 | F41: 19 | G41: 13 | H41: 0 | I41: 0 | J41: 0 | K41: 0 | L41: 0 | M41: 0 | N41: 6 | O41: 0 | P41: 0 | Q41: 0 | R41: 0 | S41: 19 | T41: 0 | U41: 0 | V41: 0 | W41: 0 | X41: 0 | Y41: 0 | Z41: 19 | AA41: 0 | AB41: 0 | AC41: 0 | AD41: =AB41+'2026.8'!AD41 -> 0 | AE41: =AC41+'2026.8'!AE41 -> 0 | AF41: 0 | AG41: 0 | AH41: =AG41*$AH$5 -> 0 | AI41: 0 | AJ41: =AI41*$AJ$5 -> 0 | AK41: =AF41+'2026.8'!AK41 -> 2 | AL41: =AG41+'2026.8'!AL41 -> 0 | AM41: =AH41+'2026.8'!AM41 -> 0 | AN41: =AI41+'2026.8'!AN41 -> 70 | AO41: =AJ41+'2026.8'!AO41 -> 28000 | AP41: 0 | AQ41: 0 | AR41: =AP41+'2026.8'!AR41 -> 0 | AS41: =AQ41+'2026.8'!AS41 -> 0 | AT41: 0 | AU41: 0 | AV41: 0 | AW41: 0 | AX41: =AT41+'2026.8'!AX41 -> 0 | AY41: =AU41+'2026.8'!AY41 -> 0 | AZ41: =AV41+'2026.8'!AZ41 -> 0 | BA41: =AW41+'2026.8'!BA41 -> 0
C42: 内原 | D42: 0 | E42: 0 | F42: 4 | G42: 4 | H42: 0 | I42: 0 | J42: 0 | K42: 0 | L42: 0 | M42: 0 | N42: 0 | O42: 0 | P42: 1 | Q42: 0 | R42: 0 | S42: 4 | T42: 0 | U42: 0 | V42: 0 | W42: 0 | X42: 0 | Y42: 0 | Z42: 4 | AA42: 0 | AB42: 63808 | AC42: 400.00294 | AD42: =AB42+'2026.8'!AD42 -> 63808 | AE42: =AC42+'2026.8'!AE42 -> 400.00294 | AF42: 0 | AG42: 0 | AH42: =AG42*$AH$5 -> 0 | AI42: 0 | AJ42: =AI42*$AJ$5 -> 0 | AK42: =AF42+'2026.8'!AK42 -> 0 | AL42: =AG42+'2026.8'!AL42 -> 0 | AM42: =AH42+'2026.8'!AM42 -> 0 | AN42: =AI42+'2026.8'!AN42 -> 0 | AO42: =AJ42+'2026.8'!AO42 -> 0 | AP42: 0 | AQ42: 0 | AR42: =AP42+'2026.8'!AR42 -> 0 | AS42: =AQ42+'2026.8'!AS42 -> 0 | AT42: 0 | AU42: 0 | AV42: 0 | AW42: 0 | AX42: =AT42+'2026.8'!AX42 -> 0 | AY42: =AU42+'2026.8'!AY42 -> 0 | AZ42: =AV42+'2026.8'!AZ42 -> 0 | BA42: =AW42+'2026.8'!BA42 -> 0
C43: 茨城ひぬま | D43: 0 | E43: 0 | F43: 41 | G43: 22 | H43: 0 | I43: 0 | J43: 0 | K43: 0 | L43: 0 | M43: 0 | N43: 19 | O43: 0 | P43: 2 | Q43: 13 | R43: 0 | S43: 41 | T43: 0 | U43: 0 | V43: 0 | W43: 0 | X43: 0 | Y43: 0 | Z43: 41 | AA43: 0 | AB43: 0 | AC43: 0 | AD43: =AB43+'2026.8'!AD43 -> 0 | AE43: =AC43+'2026.8'!AE43 -> 0 | AF43: 0 | AG43: 0 | AH43: =AG43*$AH$5 -> 0 | AI43: 0 | AJ43: =AI43*$AJ$5 -> 0 | AK43: =AF43+'2026.8'!AK43 -> 0 | AL43: =AG43+'2026.8'!AL43 -> 0 | AM43: =AH43+'2026.8'!AM43 -> 0 | AN43: =AI43+'2026.8'!AN43 -> 0 | AO43: =AJ43+'2026.8'!AO43 -> 0 | AP43: 0 | AQ43: 0 | AR43: =AP43+'2026.8'!AR43 -> 0 | AS43: =AQ43+'2026.8'!AS43 -> 0 | AT43: 0 | AU43: 0 | AV43: 0 | AW43: 0 | AX43: =AT43+'2026.8'!AX43 -> 1 | AY43: =AU43+'2026.8'!AY43 -> 50 | AZ43: =AV43+'2026.8'!AZ43 -> 104 | BA43: =AW43+'2026.8'!BA43 -> 2
B44: 2 | C44: 岩瀬 | D44: 0 | E44: 0 | F44: 32 | G44: 32 | H44: 0 | I44: 0 | J44: 0 | K44: 0 | L44: 0 | M44: 0 | N44: 0 | O44: 0 | P44: 4 | Q44: 0 | R44: 0 | S44: 32 | T44: 0 | U44: 0 | V44: 0 | W44: 0 | X44: 0 | Y44: 0 | Z44: 32 | AA44: 0 | AB44: 0 | AC44: 0 | AD44: =AB44+'2026.8'!AD44 -> 0 | AE44: =AC44+'2026.8'!AE44 -> 0 | AF44: 0 | AG44: 0 | AH44: =AG44*$AH$5 -> 0 | AI44: 0 | AJ44: =AI44*$AJ$5 -> 0 | AK44: =AF44+'2026.8'!AK44 -> 0 | AL44: =AG44+'2026.8'!AL44 -> 0 | AM44: =AH44+'2026.8'!AM44 -> 0 | AN44: =AI44+'2026.8'!AN44 -> 0 | AO44: =AJ44+'2026.8'!AO44 -> 0 | AP44: 0 | AQ44: 0 | AR44: =AP44+'2026.8'!AR44 -> 0 | AS44: =AQ44+'2026.8'!AS44 -> 0 | AT44: 0 | AU44: 0 | AV44: 0 | AW44: 0 | AX44: =AT44+'2026.8'!AX44 -> 0 | AY44: =AU44+'2026.8'!AY44 -> 0 | AZ44: =AV44+'2026.8'!AZ44 -> 0 | BA44: =AW44+'2026.8'!BA44 -> 0
C45: 真壁 | D45: 0 | E45: 0 | F45: 26 | G45: 26 | H45: 0 | I45: 0 | J45: 0 | K45: 0 | L45: 1 | M45: 0 | N45: 0 | O45: 0 | P45: 4 | Q45: 0 | R45: 0 | S45: 25 | T45: 0 | U45: 0 | V45: 1 | W45: 0 | X45: 0 | Y45: 0 | Z45: 26 | AA45: 1 | AB45: 0 | AC45: 0 | AD45: =AB45+'2026.8'!AD45 -> 0 | AE45: =AC45+'2026.8'!AE45 -> 0 | AF45: 1 | AG45: 0 | AH45: =AG45*$AH$5 -> 0 | AI45: 20 | AJ45: =AI45*$AJ$5 -> 8000 | AK45: =AF45+'2026.8'!AK45 -> 2 | AL45: =AG45+'2026.8'!AL45 -> 3 | AM45: =AH45+'2026.8'!AM45 -> 600 | AN45: =AI45+'2026.8'!AN45 -> 70 | AO45: =AJ45+'2026.8'!AO45 -> 28000 | AP45: 0 | AQ45: 0 | AR45: =AP45+'2026.8'!AR45 -> 0 | AS45: =AQ45+'2026.8'!AS45 -> 0 | AT45: 0 | AU45: 0 | AV45: 0 | AW45: 0 | AX45: =AT45+'2026.8'!AX45 -> 0 | AY45: =AU45+'2026.8'!AY45 -> 0 | AZ45: =AV45+'2026.8'!AZ45 -> 0 | BA45: =AW45+'2026.8'!BA45 -> 0
C46: 常陸大和 | D46: 0 | E46: 0 | F46: 25 | G46: 18 | H46: 0 | I46: 0 | J46: 1 | K46: 0 | L46: 2 | M46: 0 | N46: 7 | O46: 0 | P46: 0 | Q46: 7 | R46: 0 | S46: 25 | T46: 0 | U46: 0 | V46: 0 | W46: 0 | X46: 0 | Y46: 0 | Z46: 25 | AA46: 0 | AB46: 0 | AC46: 0 | AD46: =AB46+'2026.8'!AD46 -> 0 | AE46: =AC46+'2026.8'!AE46 -> 0 | AF46: 0 | AG46: 0 | AH46: =AG46*$AH$5 -> 0 | AI46: 0 | AJ46: =AI46*$AJ$5 -> 0 | AK46: =AF46+'2026.8'!AK46 -> 1 | AL46: =AG46+'2026.8'!AL46 -> 0 | AM46: =AH46+'2026.8'!AM46 -> 0 | AN46: =AI46+'2026.8'!AN46 -> 7 | AO46: =AJ46+'2026.8'!AO46 -> 2800 | AP46: 0 | AQ46: 0 | AR46: =AP46+'2026.8'!AR46 -> 0 | AS46: =AQ46+'2026.8'!AS46 -> 0 | AT46: 0 | AU46: 0 | AV46: 0 | AW46: 0 | AX46: =AT46+'2026.8'!AX46 -> 0 | AY46: =AU46+'2026.8'!AY46 -> 0 | AZ46: =AV46+'2026.8'!AZ46 -> 0 | BA46: =AW46+'2026.8'!BA46 -> 0
C47: 茨城八千代 | D47: 1 | E47: 0 | F47: 43 | G47: 32 | H47: 0 | I47: 0 | J47: 0 | K47: 0 | L47: 0 | M47: 0 | N47: 11 | O47: 0 | P47: 0 | Q47: 8 | R47: 0 | S47: 40 | T47: 0 | U47: 0 | V47: 3 | W47: 0 | X47: 0 | Y47: 0 | Z47: 43 | AA47: 3 | AB47: 0 | AC47: 0 | AD47: =AB47+'2026.8'!AD47 -> 0 | AE47: =AC47+'2026.8'!AE47 -> 0 | AF47: 0 | AG47: 0 | AH47: =AG47*$AH$5 -> 0 | AI47: 0 | AJ47: =AI47*$AJ$5 -> 0 | AK47: =AF47+'2026.8'!AK47 -> 0 | AL47: =AG47+'2026.8'!AL47 -> 0 | AM47: =AH47+'2026.8'!AM47 -> 0 | AN47: =AI47+'2026.8'!AN47 -> 0 | AO47: =AJ47+'2026.8'!AO47 -> 0 | AP47: 0 | AQ47: 0 | AR47: =AP47+'2026.8'!AR47 -> 0 | AS47: =AQ47+'2026.8'!AS47 -> 0 | AT47: 0 | AU47: 0 | AV47: 0 | AW47: 0 | AX47: =AT47+'2026.8'!AX47 -> 1 | AY47: =AU47+'2026.8'!AY47 -> 480 | AZ47: =AV47+'2026.8'!AZ47 -> 31 | BA47: =AW47+'2026.8'!BA47 -> 3
C48: 下館巴 | D48: 5 | E48: 0 | F48: 53 | G48: 53 | H48: 0 | I48: 0 | J48: 0 | K48: 0 | L48: 0 | M48: 0 | N48: 0 | O48: 0 | P48: 6 | Q48: 0 | R48: 0 | S48: 48 | T48: 0 | U48: 0 | V48: 5 | W48: 0 | X48: 0 | Y48: 0 | Z48: 53 | AA48: 5 | AB48: 0 | AC48: 0 | AD48: =AB48+'2026.8'!AD48 -> 0 | AE48: =AC48+'2026.8'!AE48 -> 0 | AF48: 0 | AG48: 0 | AH48: =AG48*$AH$5 -> 0 | AI48: 0 | AJ48: =AI48*$AJ$5 -> 0 | AK48: =AF48+'2026.8'!AK48 -> 1 | AL48: =AG48+'2026.8'!AL48 -> 7 | AM48: =AH48+'2026.8'!AM48 -> 1400 | AN48: =AI48+'2026.8'!AN48 -> 112 | AO48: =AJ48+'2026.8'!AO48 -> 44800 | AP48: 0 | AQ48: 0 | AR48: =AP48+'2026.8'!AR48 -> 0 | AS48: =AQ48+'2026.8'!AS48 -> 0 | AT48: 0 | AU48: 0 | AV48: 0 | AW48: 0 | AX48: =AT48+'2026.8'!AX48 -> 0 | AY48: =AU48+'2026.8'!AY48 -> 0 | AZ48: =AV48+'2026.8'!AZ48 -> 0 | BA48: =AW48+'2026.8'!BA48 -> 0
C49: しもつま | D49: 0 | E49: 0 | F49: 47 | G49: 43 | H49: 0 | I49: 0 | J49: 1 | K49: 0 | L49: 0 | M49: 0 | N49: 4 | O49: 0 | P49: 5 | Q49: 4 | R49: 0 | S49: 43 | T49: 0 | U49: 0 | V49: 4 | W49: 0 | X49: 0 | Y49: 0 | Z49: 47 | AA49: 4 | AB49: 0 | AC49: 0 | AD49: =AB49+'2026.8'!AD49 -> 0 | AE49: =AC49+'2026.8'!AE49 -> 0 | AF49: 0 | AG49: 0 | AH49: =AG49*$AH$5 -> 0 | AI49: 0 | AJ49: =AI49*$AJ$5 -> 0 | AK49: =AF49+'2026.8'!AK49 -> 1 | AL49: =AG49+'2026.8'!AL49 -> 4 | AM49: =AH49+'2026.8'!AM49 -> 800 | AN49: =AI49+'2026.8'!AN49 -> 53 | AO49: =AJ49+'2026.8'!AO49 -> 21200 | AP49: 0 | AQ49: 0 | AR49: =AP49+'2026.8'!AR49 -> 0 | AS49: =AQ49+'2026.8'!AS49 -> 0 | AT49: 0 | AU49: 0 | AV49: 0 | AW49: 0 | AX49: =AT49+'2026.8'!AX49 -> 1 | AY49: =AU49+'2026.8'!AY49 -> 480 | AZ49: =AV49+'2026.8'!AZ49 -> 31 | BA49: =AW49+'2026.8'!BA49 -> 12
C50: 下館シニア | D50: 0 | E50: 0 | F50: 10 | G50: 10 | H50: 0 | I50: 0 | J50: 0 | K50: 1 | L50: 0 | M50: 0 | N50: 0 | O50: 0 | P50: 0 | Q50: 0 | R50: 0 | S50: 10 | T50: 0 | U50: 0 | V50: 0 | W50: 0 | X50: 0 | Y50: 0 | Z50: 10 | AA50: 0 | AB50: 0 | AC50: 0 | AD50: =AB50+'2026.8'!AD50 -> 0 | AE50: =AC50+'2026.8'!AE50 -> 0 | AF50: 0 | AG50: 0 | AH50: =AG50*$AH$5 -> 0 | AI50: 0 | AJ50: =AI50*$AJ$5 -> 0 | AK50: =AF50+'2026.8'!AK50 -> 0 | AL50: =AG50+'2026.8'!AL50 -> 0 | AM50: =AH50+'2026.8'!AM50 -> 0 | AN50: =AI50+'2026.8'!AN50 -> 0 | AO50: =AJ50+'2026.8'!AO50 -> 0 | AP50: 0 | AQ50: 0 | AR50: =AP50+'2026.8'!AR50 -> 0 | AS50: =AQ50+'2026.8'!AS50 -> 0 | AT50: 0 | AU50: 0 | AV50: 0 | AW50: 0 | AX50: =AT50+'2026.8'!AX50 -> 0 | AY50: =AU50+'2026.8'!AY50 -> 0 | AZ50: =AV50+'2026.8'!AZ50 -> 0 | BA50: =AW50+'2026.8'!BA50 -> 0
C51: 筑西 | D51: 0 | E51: 0 | F51: 51 | G51: 35 | H51: 0 | I51: 0 | J51: 0 | K51: 0 | L51: 3 | M51: 0 | N51: 16 | O51: 0 | P51: 7 | Q51: 11 | R51: 0 | S51: 50 | T51: 0 | U51: 0 | V51: 1 | W51: 0 | X51: 0 | Y51: 0 | Z51: 51 | AA51: 1 | AB51: 0 | AC51: 0 | AD51: =AB51+'2026.8'!AD51 -> 0 | AE51: =AC51+'2026.8'!AE51 -> 0 | AF51: 0 | AG51: 0 | AH51: =AG51*$AH$5 -> 0 | AI51: 0 | AJ51: =AI51*$AJ$5 -> 0 | AK51: =AF51+'2026.8'!AK51 -> 1 | AL51: =AG51+'2026.8'!AL51 -> 2 | AM51: =AH51+'2026.8'!AM51 -> 400 | AN51: =AI51+'2026.8'!AN51 -> 39 | AO51: =AJ51+'2026.8'!AO51 -> 15600 | AP51: 0 | AQ51: 0 | AR51: =AP51+'2026.8'!AR51 -> 0 | AS51: =AQ51+'2026.8'!AS51 -> 0 | AT51: 0 | AU51: 0 | AV51: 0 | AW51: 0 | AX51: =AT51+'2026.8'!AX51 -> 0 | AY51: =AU51+'2026.8'!AY51 -> 0 | AZ51: =AV51+'2026.8'!AZ51 -> 0 | BA51: =AW51+'2026.8'!BA51 -> 0
A52: R合計 | D52: =SUM(D36:D51) -> 6 | E52: =SUM(E36:E51) -> 0 | F52: =SUM(F36:F51) -> 475 | G52: =SUM(G36:G51) -> 394 | H52: =SUM(H36:H51) -> 0 | I52: =SUM(I36:I51) -> 0 | J52: =SUM(J36:J51) -> 2 | K52: =SUM(K36:K51) -> 1 | ... AX52: =SUM(AX36:AX51) -> 5 | AY52: =SUM(AY44:AY51) -> 960 | AZ52: =SUM(AZ44:AZ51) -> 62 | BA52: =SUM(BA44:BA51) -> 15
A53: 4 | B53: 1 | C53: 土浦 | D53: 0 | E53: 0 | F53: 77 | G53: 77 | H53: 1 | I53: 0 | J53: 0 | K53: 3 | L53: 0 | M53: 0 | N53: 0 | O53: 0 | P53: 6 | Q53: 0 | R53: 0 | S53: 76 | T53: 0 | U53: 0 | V53: 1 | W53: 0 | X53: 0 | Y53: 0 | Z53: 77 | AA53: 1 | AB53: 0 | AC53: 0 | AD53: =AB53+'2026.8'!AD53 -> 0 | AE53: =AC53+'2026.8'!AE53 -> 0 | AF53: 0 | AG53: 0 | AH53: =AG53*$AH$5 -> 0 | AI53: 0 | AJ53: =AI53*$AJ$5 -> 0 | AK53: =AF53+'2026.8'!AK53 -> 1 | AL53: =AG53+'2026.8'!AL53 -> 4 | AM53: =AH53+'2026.8'!AM53 -> 800 | AN53: =AI53+'2026.8'!AN53 -> 49 | AO53: =AJ53+'2026.8'!AO53 -> 19600 | AP53: 0 | AQ53: 0 | AR53: =AP53+'2026.8'!AR53 -> 1 | AS53: =AQ53+'2026.8'!AS53 -> 0 | AT53: 0 | AU53: 0 | AV53: 0 | AW53: 0 | AX53: =AT53+'2026.8'!AX53 -> 1 | AY53: =AU53+'2026.8'!AY53 -> 45 | AZ53: =AV53+'2026.8'!AZ53 -> 107 | BA53: =AW53+'2026.8'!BA53 -> 8
C54: 土浦亀城 | D54: 0 | E54: 0 | F54: 26 | G54: 26 | H54: 1 | I54: 0 | J54: 0 | K54: 0 | L54: 0 | M54: 0 | N54: 0 | O54: 0 | P54: 4 | Q54: 0 | R54: 0 | S54: 25 | T54: 0 | U54: 0 | V54: 1 | W54: 0 | X54: 0 | Y54: 0 | Z54: 26 | AA54: 1 | AB54: 0 | AC54: 0 | AD54: =AB54+'2026.8'!AD54 -> 161766 | AE54: =AC54+'2026.8'!AE54 -> 1000.0019 | AF54: 1 | AG54: 4 | AH54: =AG54*$AH$5 -> 800 | AI54: 52 | AJ54: =AI54*$AJ$5 -> 20800 | AK54: =AF54+'2026.8'!AK54 -> 2 | AL54: =AG54+'2026.8'!AL54 -> 17 | AM54: =AH54+'2026.8'!AM54 -> 3400 | AN54: =AI54+'2026.8'!AN54 -> 96 | AO54: =AJ54+'2026.8'!AO54 -> 38400 | AP54: 0 | AQ54: 0 | AR54: =AP54+'2026.8'!AR54 -> 1 | AS54: =AQ54+'2026.8'!AS54 -> 0 | AT54: 0 | AU54: 0 | AV54: 0 | AW54: 0 | AX54: =AT54+'2026.8'!AX54 -> 0 | AY54: =AU54+'2026.8'!AY54 -> 0 | AZ54: =AV54+'2026.8'!AZ54 -> 0 | BA54: =AW54+'2026.8'!BA54 -> 0
C55: 阿見 | D55: 0 | E55: 0 | F55: 20 | G55: 18 | H55: 0 | I55: 0 | J55: 0 | K55: 0 | L55: 0 | M55: 0 | N55: 2 | O55: 0 | P55: 5 | Q55: 0 | R55: 0 | S55: 20 | T55: 0 | U55: 0 | V55: 0 | W55: 0 | X55: 0 | Y55: 0 | Z55: 20 | AA55: 0 | AB55: 0 | AC55: 0 | AD55: =AB55+'2026.8'!AD55 -> 323532 | AE55: =AC55+'2026.8'!AE55 -> 2000.0038 | AF55: 0 | AG55: 0 | AH55: =AG55*$AH$5 -> 0 | AI55: 0 | AJ55: =AI55*$AJ$5 -> 0 | AK55: =AF55+'2026.8'!AK55 -> 0 | AL55: =AG55+'2026.8'!AL55 -> 0 | AM55: =AH55+'2026.8'!AM55 -> 0 | AN55: =AI55+'2026.8'!AN55 -> 0 | AO55: =AJ55+'2026.8'!AO55 -> 0 | AP55: 0 | AQ55: 0 | AR55: =AP55+'2026.8'!AR55 -> 0 | AS55: =AQ55+'2026.8'!AS55 -> 0 | AT55: 0 | AU55: 0 | AV55: 0 | AW55: 0 | AX55: =AT55+'2026.8'!AX55 -> 0 | AY55: =AU55+'2026.8'!AY55 -> 0 | AZ55: =AV55+'2026.8'!AZ55 -> 0 | BA55: =AW55+'2026.8'!BA55 -> 0
C56: 土浦環 | D56: 2 | E56: 0 | F56: 89 | G56: 58 | H56: 8 | I56: 0 | J56: 0 | K56: 0 | L56: 0 | M56: 0 | N56: 31 | O56: 0 | P56: 11 | Q56: 22 | R56: 0 | S56: 87 | T56: 0 | U56: 0 | V56: 2 | W56: 0 | X56: 0 | Y56: 0 | Z56: 89 | AA56: 2 | AB56: 0 | AC56: 0 | AD56: =AB56+'2026.8'!AD56 -> 0 | AE56: =AC56+'2026.8'!AE56 -> 0 | AF56: 0 | AG56: 0 | AH56: =AG56*$AH$5 -> 0 | AI56: 0 | AJ56: =AI56*$AJ$5 -> 0 | AK56: =AF56+'2026.8'!AK56 -> 1 | AL56: =AG56+'2026.8'!AL56 -> 0 | AM56: =AH56+'2026.8'!AM56 -> 0 | AN56: =AI56+'2026.8'!AN56 -> 105 | AO56: =AJ56+'2026.8'!AO56 -> 42000 | AP56: 0 | AQ56: 0 | AR56: =AP56+'2026.8'!AR56 -> 0 | AS56: =AQ56+'2026.8'!AS56 -> 0 | AT56: 0 | AU56: 0 | AV56: 0 | AW56: 0 | AX56: =AT56+'2026.8'!AX56 -> 1 | AY56: =AU56+'2026.8'!AY56 -> 50 | AZ56: =AV56+'2026.8'!AZ56 -> 236 | BA56: =AW56+'2026.8'!BA56 -> 10
C57: 土浦北 | D57: 0 | E57: 0 | F57: 78 | G57: 44 | H57: 0 | I57: 0 | J57: 5 | K57: 0 | L57: 0 | M57: 7 | N57: 34 | O57: 0 | P57: 7 | Q57: 21 | R57: 0 | S57: 74 | T57: 0 | U57: 0 | V57: 5 | W57: 0 | X57: 0 | Y57: 1 | Z57: 78 | AA57: 4 | AB57: 10000 | AC57: 62.688525 | AD57: =AB57+'2026.8'!AD57 -> 10000 | AE57: =AC57+'2026.8'!AE57 -> 62.688525 | AF57: 0 | AG57: 0 | AH57: =AG57*$AH$5 -> 0 | AI57: 0 | AJ57: =AI57*$AJ$5 -> 0 | AK57: =AF57+'2026.8'!AK57 -> 0 | AL57: =AG57+'2026.8'!AL57 -> 0 | AM57: =AH57+'2026.8'!AM57 -> 0 | AN57: =AI57+'2026.8'!AN57 -> 0 | AO57: =AJ57+'2026.8'!AO57 -> 0 | AP57: 0 | AQ57: 0 | AR57: =AP57+'2026.8'!AR57 -> 0 | AS57: =AQ57+'2026.8'!AS57 -> 0 | AT57: 1 | AU57: 45 | AV57: 36 | AW57: 5 | AX57: =AT57+'2026.8'!AX57 -> 1 | AY57: =AU57+'2026.8'!AY57 -> 45 | AZ57: =AV57+'2026.8'!AZ57 -> 36 | BA57: =AW57+'2026.8'!BA57 -> 5
C58: 美浦 | D58: 0 | E58: 0 | F58: 22 | G58: 22 | H58: 0 | I58: 0 | J58: 0 | K58: 0 | L58: 0 | M58: 0 | N58: 0 | O58: 0 | P58: 0 | Q58: 0 | R58: 0 | S58: 21 | T58: 0 | U58: 0 | V58: 1 | W58: 0 | X58: 0 | Y58: 0 | Z58: 22 | AA58: 1 | AB58: 0 | AC58: 0 | AD58: =AB58+'2026.8'!AD58 -> 0 | AE58: =AC58+'2026.8'!AE58 -> 0 | AF58: 0 | AG58: 0 | AH58: =AG58*$AH$5 -> 0 | AI58: 0 | AJ58: =AI58*$AJ$5 -> 0 | AK58: =AF58+'2026.8'!AK58 -> 1 | AL58: =AG58+'2026.8'!AL58 -> 0 | AM58: =AH58+'2026.8'!AM58 -> 0 | AN58: =AI58+'2026.8'!AN58 -> 38 | AO58: =AJ58+'2026.8'!AO58 -> 15200 | AP58: 0 | AQ58: 0 | AR58: =AP58+'2026.8'!AR58 -> 0 | AS58: =AQ58+'2026.8'!AS58 -> 0 | AT58: 0 | AU58: 0 | AV58: 0 | AW58: 0 | AX58: =AT58+'2026.8'!AX58 -> 0 | AY58: =AU58+'2026.8'!AY58 -> 0 | AZ58: =AV58+'2026.8'!AZ58 -> 0 | BA58: =AW58+'2026.8'!BA58 -> 0
C59: 霞ヶ浦 | D59: 0 | E59: 0 | F59: 44 | G59: 44 | H59: 0 | I59: 0 | J59: 0 | K59: 0 | L59: 0 | M59: 15 | N59: 0 | O59: 0 | P59: 11 | Q59: 0 | R59: 0 | S59: 42 | T59: 0 | U59: 0 | V59: 2 | W59: 0 | X59: 0 | Y59: 0 | Z59: 44 | AA59: 2 | AB59: 11638 | AC59: 72.956905 | AD59: =AB59+'2026.8'!AD59 -> 11638 | AE59: =AC59+'2026.8'!AE59 -> 72.956905 | AF59: 0 | AG59: 0 | AH59: =AG59*$AH$5 -> 0 | AI59: 0 | AJ59: =AI59*$AJ$5 -> 0 | AK59: =AF59+'2026.8'!AK59 -> 1 | AL59: =AG59+'2026.8'!AL59 -> 3 | AM59: =AH59+'2026.8'!AM59 -> 600 | AN59: =AI59+'2026.8'!AN59 -> 35 | AO59: =AJ59+'2026.8'!AO59 -> 14000 | AP59: 0 | AQ59: 0 | AR59: =AP59+'2026.8'!AR59 -> 0 | AS59: =AQ59+'2026.8'!AS59 -> 0 | AT59: 3 | AU59: 160 | AV59: 305 | AW59: 13 | AX59: =AT59+'2026.8'!AX59 -> 3 | AY59: =AU59+'2026.8'!AY59 -> 160 | AZ59: =AV59+'2026.8'!AZ59 -> 305 | BA59: =AW59+'2026.8'!BA59 -> 13
C60: 土浦SORA | D60: 0 | E60: 0 | F60: 28 | G60: 22 | H60: 0 | I60: 0 | J60: 0 | K60: 0 | L60: 0 | M60: 9 | N60: 3 | O60: 3 | P60: 8 | Q60: 2 | R60: 3 | S60: 28 | T60: 0 | U60: 0 | V60: 0 | W60: 0 | X60: 0 | Y60: 0 | Z60: 28 | AA60: 0 | AB60: 159519 | AC60: 1000.0011 | AD60: =AB60+'2026.8'!AD60 -> 159519 | AE60: =AC60+'2026.8'!AE60 -> 1000.0011 | AF60: 0 | AG60: 0 | AH60: =AG60*$AH$5 -> 0 | AI60: 0 | AJ60: =AI60*$AJ$5 -> 0 | AK60: =AF60+'2026.8'!AK60 -> 0 | AL60: =AG60+'2026.8'!AL60 -> 0 | AM60: =AH60+'2026.8'!AM60 -> 0 | AN60: =AI60+'2026.8'!AN60 -> 0 | AO60: =AJ60+'2026.8'!AO60 -> 0 | AP60: 0 | AQ60: 0 | AR60: =AP60+'2026.8'!AR60 -> 0 | AS60: =AQ60+'2026.8'!AS60 -> 0 | AT60: 0 | AU60: 0 | AV60: 0 | AW60: 0 | AX60: =AT60+'2026.8'!AX60 -> 0 | AY60: =AU60+'2026.8'!AY60 -> 0 | AZ60: =AV60+'2026.8'!AZ60 -> 0 | BA60: =AW60+'2026.8'!BA60 -> 0
B61: 2 | C61: 筑波 | D61: 0 | E61: 0 | F61: 98 | G61: 50 | H61: 0 | I61: 0 | J61: 2 | K61: 0 | L61: 0 | M61: 0 | N61: 48 | O61: 0 | P61: 9 | Q61: 32 | R61: 0 | S61: 98 | T61: 0 | U61: 0 | V61: 0 | W61: 0 | X61: 0 | Y61: 0 | Z61: 98 | AA61: 0 | AB61: 0 | AC61: 0 | AD61: =AB61+'2026.8'!AD61 -> 0 | AE61: =AC61+'2026.8'!AE61 -> 0 | AF61: 0 | AG61: 0 | AH61: =AG61*$AH$5 -> 0 | AI61: 0 | AJ61: =AI61*$AJ$5 -> 0 | AK61: =AF61+'2026.8'!AK61 -> 2 | AL61: =AG61+'2026.8'!AL61 -> 2 | AM61: =AH61+'2026.8'!AM61 -> 400 | AN61: =AI61+'2026.8'!AN61 -> 22 | AO61: =AJ61+'2026.8'!AO61 -> 8800 | AP61: 0 | AQ61: 0 | AR61: =AP61+'2026.8'!AR61 -> 0 | AS61: =AQ61+'2026.8'!AS61 -> 0 | AT61: 0 | AU61: 0 | AV61: 0 | AW61: 0 | AX61: =AT61+'2026.8'!AX61 -> 1 | AY61: =AU61+'2026.8'!AY61 -> 420 | AZ61: =AV61+'2026.8'!AZ61 -> 42 | BA61: =AW61+'2026.8'!BA61 -> 3
C62: つくば中央 | D62: 0 | E62: 0 | F62: 70 | G62: 52 | H62: 0 | I62: 0 | J62: 0 | K62: 0 | L62: 0 | M62: 13 | N62: 18 | O62: 0 | P62: 17 | Q62: 12 | R62: 0 | S62: 68 | T62: 0 | U62: 0 | V62: 4 | W62: 0 | X62: 0 | Y62: 2 | Z62: 70 | AA62: 2 | AB62: 0 | AC62: 0 | AD62: =AB62+'2026.8'!AD62 -> 0 | AE62: =AC62+'2026.8'!AE62 -> 0 | AF62: 0 | AG62: 0 | AH62: =AG62*$AH$5 -> 0 | AI62: 0 | AJ62: =AI62*$AJ$5 -> 0 | AK62: =AF62+'2026.8'!AK62 -> 1 | AL62: =AG62+'2026.8'!AL62 -> 1 | AM62: =AH62+'2026.8'!AM62 -> 200 | AN62: =AI62+'2026.8'!AN62 -> 4 | AO62: =AJ62+'2026.8'!AO62 -> 1600 | AP62: 0 | AQ62: 0 | AR62: =AP62+'2026.8'!AR62 -> 0 | AS62: =AQ62+'2026.8'!AS62 -> 0 | AT62: 0 | AU62: 0 | AV62: 0 | AW62: 0 | AX62: =AT62+'2026.8'!AX62 -> 0 | AY62: =AU62+'2026.8'!AY62 -> 0 | AZ62: =AV62+'2026.8'!AZ62 -> 0 | BA62: =AW62+'2026.8'!BA62 -> 0
C63: つくば西 | D63: 0 | E63: 0 | F63: 28 | G63: 27 | H63: 0 | I63: 0 | J63: 0 | K63: 0 | L63: 0 | M63: 10 | N63: 1 | O63: 0 | P63: 9 | Q63: 1 | R63: 0 | S63: 29 | T63: 0 | U63: 0 | V63: 0 | W63: 0 | X63: 0 | Y63: 1 | Z63: 28 | AA63: -1 | AB63: 212034 | AC63: 1329.2099 | AD63: =AB63+'2026.8'!AD63 -> 244587 | AE63: =AC63+'2026.8'!AE63 -> 1529.2162 | AF63: 0 | AG63: 0 | AH63: =AG63*$AH$5 -> 0 | AI63: 0 | AJ63: =AI63*$AJ$5 -> 0 | AK63: =AF63+'2026.8'!AK63 -> 1 | AL63: =AG63+'2026.8'!AL63 -> 0 | AM63: =AH63+'2026.8'!AM63 -> 0 | AN63: =AI63+'2026.8'!AN63 -> 4 | AO63: =AJ63+'2026.8'!AO63 -> 1600 | AP63: 0 | AQ63: 0 | AR63: =AP63+'2026.8'!AR63 -> 0 | AS63: =AQ63+'2026.8'!AS63 -> 0 | AT63: 0 | AU63: 0 | AV63: 0 | AW63: 0 | AX63: =AT63+'2026.8'!AX63 -> 0 | AY63: =AU63+'2026.8'!AY63 -> 0 | AZ63: =AV63+'2026.8'!AZ63 -> 0 | BA63: =AW63+'2026.8'!BA63 -> 0
C64: つくばＯＡＫ | D64: 0 | E64: 0 | F64: 74 | G64: 74 | H64: 0 | I64: 0 | J64: 0 | K64: 0 | L64: 1 | M64: 12 | N64: 0 | O64: 0 | P64: 21 | Q64: 0 | R64: 0 | S64: 72 | T64: 0 | U64: 0 | V64: 2 | W64: 0 | X64: 0 | Y64: 0 | Z64: 74 | AA64: 2 | AB64: 672127 | AC64: 4213.465 | AD64: =AB64+'2026.8'!AD64 -> 1189779 | AE64: =AC64+'2026.8'!AE64 -> 7413.476 | AF64: 0 | AG64: 0 | AH64: =AG64*$AH$5 -> 0 | AI64: 0 | AJ64: =AI64*$AJ$5 -> 0 | AK64: =AF64+'2026.8'!AK64 -> 1 | AL64: =AG64+'2026.8'!AL64 -> 1 | AM64: =AH64+'2026.8'!AM64 -> 200 | AN64: =AI64+'2026.8'!AN64 -> 4 | AO64: =AJ64+'2026.8'!AO64 -> 1600 | AP64: 0 | AQ64: 0 | AR64: =AP64+'2026.8'!AR64 -> 0 | AS64: =AQ64+'2026.8'!AS64 -> 0 | AT64: 0 | AU64: 0 | AV64: 0 | AW64: 0 | AX64: =AT64+'2026.8'!AX64 -> 0 | AY64: =AU64+'2026.8'!AY64 -> 0 | AZ64: =AV64+'2026.8'!AZ64 -> 0 | BA64: =AW64+'2026.8'!BA64 -> 0
C65: つくばアウル | D65: 1 | E65: 0 | F65: 89 | G65: 64 | H65: 0 | I65: 0 | J65: 0 | K65: 0 | L65: 1 | M65: 0 | N65: 25 | O65: 0 | P65: 16 | Q65: 20 | R65: 0 | S65: 86 | T65: 0 | U65: 0 | V65: 3 | W65: 0 | X65: 0 | Y65: 0 | Z65: 89 | AA65: 3 | AB65: 0 | AC65: 0 | AD65: =AB65+'2026.8'!AD65 -> 0 | AE65: =AC65+'2026.8'!AE65 -> 0 | AF65: 0 | AG65: 0 | AH65: =AG65*$AH$5 -> 0 | AI65: 0 | AJ65: =AI65*$AJ$5 -> 0 | AK65: =AF65+'2026.8'!AK65 -> 1 | AL65: =AG65+'2026.8'!AL65 -> 1 | AM65: =AH65+'2026.8'!AM65 -> 200 | AN65: =AI65+'2026.8'!AN65 -> 4 | AO65: =AJ65+'2026.8'!AO65 -> 1600 | AP65: 0 | AQ65: 0 | AR65: =AP65+'2026.8'!AR65 -> 0 | AS65: =AQ65+'2026.8'!AS65 -> 0 | AT65: 0 | AU65: 0 | AV65: 0 | AW65: 0 | AX65: =AT65+'2026.8'!AX65 -> 0 | AY65: =AU65+'2026.8'!AY65 -> 0 | AZ65: =AV65+'2026.8'!AZ65 -> 0 | BA65: =AW65+'2026.8'!BA65 -> 0
C66: つくば紫峰 | D66: 0 | E66: 0 | F66: 23 | G66: 23 | H66: 0 | I66: 0 | J66: 0 | K66: 0 | L66: 0 | M66: 0 | N66: 0 | O66: 0 | P66: 3 | Q66: 0 | R66: 0 | S66: 23 | T66: 0 | U66: 0 | V66: 0 | W66: 0 | X66: 0 | Y66: 0 | Z66: 23 | AA66: 0 | AB66: 0 | AC66: 0 | AD66: =AB66+'2026.8'!AD66 -> 0 | AE66: =AC66+'2026.8'!AE66 -> 0 | AF66: 0 | AG66: 0 | AH66: =AG66*$AH$5 -> 0 | AI66: 0 | AJ66: =AI66*$AJ$5 -> 0 | AK66: =AF66+'2026.8'!AK66 -> 1 | AL66: =AG66+'2026.8'!AL66 -> 0 | AM66: =AH66+'2026.8'!AM66 -> 0 | AN66: =AI66+'2026.8'!AN66 -> 4 | AO66: =AJ66+'2026.8'!AO66 -> 1600 | AP66: 0 | AQ66: 0 | AR66: =AP66+'2026.8'!AR66 -> 0 | AS66: =AQ66+'2026.8'!AS66 -> 0 | AT66: 0 | AU66: 0 | AV66: 0 | AW66: 0 | AX66: =AT66+'2026.8'!AX66 -> 0 | AY66: =AU66+'2026.8'!AY66 -> 0 | AZ66: =AV66+'2026.8'!AZ66 -> 0 | BA66: =AW66+'2026.8'!BA66 -> 0
C67: つくばHOPE | D67: 0 | E67: 0 | F67: 21 | G67: 21 | H67: 0 | I67: 0 | J67: 0 | K67: 0 | L67: 0 | M67: 0 | N67: 0 | O67: 0 | P67: 6 | Q67: 0 | R67: 0 | S67: 22 | T67: 0 | U67: 0 | V67: 0 | W67: 0 | X67: 0 | Y67: 1 | Z67: 21 | AA67: -1 | AB67: 0 | AC67: 0 | AD67: =AB67+'2026.8'!AD67 -> 0 | AE67: =AC67+'2026.8'!AE67 -> 0 | AF67: 0 | AG67: 0 | AH67: =AG67*$AH$5 -> 0 | AI67: 0 | AJ67: =AI67*$AJ$5 -> 0 | AK67: =AF67+'2026.8'!AK67 -> 1 | AL67: =AG67+'2026.8'!AL67 -> 0 | AM67: =AH67+'2026.8'!AM67 -> 0 | AN67: =AI67+'2026.8'!AN67 -> 4 | AO67: =AJ67+'2026.8'!AO67 -> 1600 | AP67: 0 | AQ67: 0 | AR67: =AP67+'2026.8'!AR67 -> 0 | AS67: =AQ67+'2026.8'!AS67 -> 0 | AT67: 0 | AU67: 0 | AV67: 0 | AW67: 0 | AX67: =AT67+'2026.8'!AX67 -> 0 | AY67: =AU67+'2026.8'!AY67 -> 0 | AZ67: =AV67+'2026.8'!AZ67 -> 0 | BA67: =AW67+'2026.8'!BA67 -> 0
C68: 筑波ヤング | D68: 0 | E68: 0 | F68: 44 | G68: 32 | H68: 0 | I68: 0 | J68: 0 | K68: 0 | L68: 0 | M68: 0 | N68: 12 | O68: 0 | P68: 5 | Q68: 8 | R68: 0 | S68: 42 | T68: 0 | U68: 0 | V68: 2 | W68: 0 | X68: 0 | Y68: 0 | Z68: 44 | AA68: 2 | AB68: 530461 | AC68: 3325.3818 | AD68: =AB68+'2026.8'!AD68 -> 1177537 | AE68: =AC68+'2026.8'!AE68 -> 7325.4636 | AF68: 0 | AG68: 0 | AH68: =AG68*$AH$5 -> 0 | AI68: 0 | AJ68: =AI68*$AJ$5 -> 0 | AK68: =AF68+'2026.8'!AK68 -> 2 | AL68: =AG68+'2026.8'!AL68 -> 2 | AM68: =AH68+'2026.8'!AM68 -> 400 | AN68: =AI68+'2026.8'!AN68 -> 22 | AO68: =AJ68+'2026.8'!AO68 -> 8800 | AP68: 3 | AQ68: 0 | AR68: =AP68+'2026.8'!AR68 -> 3 | AS68: =AQ68+'2026.8'!AS68 -> 0 | AT68: 0 | AU68: 0 | AV68: 0 | AW68: 0 | AX68: =AT68+'2026.8'!AX68 -> 0 | AY68: =AU68+'2026.8'!AY68 -> 0 | AZ68: =AV68+'2026.8'!AZ68 -> 0 | BA68: =AW68+'2026.8'!BA68 -> 0
C69: 筑波グローバルガンズ | D69: 0 | E69: 1 | F69: 15 | G69: 15 | H69: 0 | I69: 0 | J69: 0 | K69: 0 | L69: 0 | M69: 0 | N69: 0 | O69: 0 | P69: 3 | Q69: 0 | R69: 0 | S69: 16 | T69: 0 | U69: 0 | V69: 0 | W69: 0 | X69: 0 | Y69: 1 | Z69: 15 | AA69: -1 | AB69: 0 | AC69: 0 | AD69: =AB69+'2026.8'!AD69 -> 0 | AE69: =AC69+'2026.8'!AE69 -> 0 | AF69: 0 | AG69: 0 | AH69: =AG69*$AH$5 -> 0 | AI69: 0 | AJ69: =AI69*$AJ$5 -> 0 | AK69: =AF69+'2026.8'!AK69 -> 2 | AL69: =AG69+'2026.8'!AL69 -> 1 | AM69: =AH69+'2026.8'!AM69 -> 200 | AN69: =AI69+'2026.8'!AN69 -> 20 | AO69: =AJ69+'2026.8'!AO69 -> 8000 | AP69: 0 | AQ69: 0 | AR69: =AP69+'2026.8'!AR69 -> 0 | AS69: =AQ69+'2026.8'!AS69 -> 0 | AT69: 0 | AU69: 0 | AV69: 0 | AW69: 0 | AX69: =AT69+'2026.8'!AX69 -> 0 | AY69: =AU69+'2026.8'!AY69 -> 0 | AZ69: =AV69+'2026.8'!AZ69 -> 0 | BA69: =AW69+'2026.8'!BA69 -> 0
A70: R合計 | D70: =SUM(D53:D69) -> 3 | E70: =SUM(E53:E69) -> 1 | F70: =SUM(F53:F69) -> 846 | G70: =SUM(G53:G69) -> 669 | H70: =SUM(H53:H69) -> 10 | I70: =SUM(I53:I69) -> 0 | J70: =SUM(J53:J69) -> 7 | K70: =SUM(K53:K69) -> 3 | ... BA70: =SUM(BA53:BA69) -> 39
A71: 5 | B71: 1 | C71: 龍ケ崎 | D71: 0 | E71: 0 | F71: 69 | G71: 42 | H71: 0 | I71: 0 | J71: 0 | K71: 0 | L71: 0 | M71: 0 | N71: 27 | O71: 0 | P71: 2 | Q71: 22 | R71: 0 | S71: 69 | T71: 0 | U71: 0 | V71: 0 | W71: 0 | X71: 0 | Y71: 0 | Z71: 69 | AA71: 0 | AB71: 0 | AC71: 0 | AD71: =AB71+'2026.8'!AD71 -> 0 | AE71: =AC71+'2026.8'!AE71 -> 0 | AF71: 0 | AG71: 0 | AH71: =AG71*$AH$5 -> 0 | AI71: 0 | AJ71: =AI71*$AJ$5 -> 0 | AK71: =AF71+'2026.8'!AK71 -> 2 | AL71: =AG71+'2026.8'!AL71 -> 0 | AM71: =AH71+'2026.8'!AM71 -> 0 | AN71: =AI71+'2026.8'!AN71 -> 91 | AO71: =AJ71+'2026.8'!AO71 -> 36400 | AP71: 0 | AQ71: 0 | AR71: =AP71+'2026.8'!AR71 -> 0 | AS71: =AQ71+'2026.8'!AS71 -> 0 | AT71: 0 | AU71: 0 | AV71: 0 | AW71: 0 | AX71: =AT71+'2026.8'!AX71 -> 0 | AY71: =AU71+'2026.8'!AY71 -> 0 | AZ71: =AV71+'2026.8'!AZ71 -> 0 | BA71: =AW71+'2026.8'!BA71 -> 0
C72: 取手 | D72: 0 | E72: 0 | F72: 82 | G72: 82 | H72: 0 | I72: 0 | J72: 0 | K72: 0 | L72: 0 | M72: 0 | N72: 0 | O72: 0 | P72: 10 | Q72: 0 | R72: 0 | S72: 83 | T72: 0 | U72: 0 | V72: 1 | W72: 0 | X72: 0 | Y72: 2 | Z72: 82 | AA72: -1 | AB72: 638076 | AC72: 4000.0043 | AD72: =AB72+'2026.8'!AD72 -> 638076 | AE72: =AC72+'2026.8'!AE72 -> 4000.0043 | AF72: 0 | AG72: 0 | AH72: =AG72*$AH$5 -> 0 | AI72: 0 | AJ72: =AI72*$AJ$5 -> 0 | AK72: =AF72+'2026.8'!AK72 -> 1 | AL72: =AG72+'2026.8'!AL72 -> 0 | AM72: =AH72+'2026.8'!AM72 -> 0 | AN72: =AI72+'2026.8'!AN72 -> 27 | AO72: =AJ72+'2026.8'!AO72 -> 10800 | AP72: 0 | AQ72: 0 | AR72: =AP72+'2026.8'!AR72 -> 0 | AS72: =AQ72+'2026.8'!AS72 -> 0 | AT72: 1 | AU72: 45 | AV72: 60 | AW72: 2 | AX72: =AT72+'2026.8'!AX72 -> 5 | AY72: =AU72+'2026.8'!AY72 -> 230 | AZ72: =AV72+'2026.8'!AZ72 -> 284 | BA72: =AW72+'2026.8'!BA72 -> 15
C73: 江戸崎 | D73: 0 | E73: 0 | F73: 26 | G73: 25 | H73: 0 | I73: 0 | J73: 0 | K73: 0 | L73: 0 | M73: 0 | N73: 1 | O73: 0 | P73: 6 | Q73: 0 | R73: 0 | S73: 24 | T73: 0 | U73: 0 | V73: 2 | W73: 0 | X73: 0 | Y73: 0 | Z73: 26 | AA73: 2 | AB73: 0 | AC73: 0 | AD73: =AB73+'2026.8'!AD73 -> 0 | AE73: =AC73+'2026.8'!AE73 -> 0 | AF73: 0 | AG73: 0 | AH73: =AG73*$AH$5 -> 0 | AI73: 0 | AJ73: =AI73*$AJ$5 -> 0 | AK73: =AF73+'2026.8'!AK73 -> 2 | AL73: =AG73+'2026.8'!AL73 -> 3 | AM73: =AH73+'2026.8'!AM73 -> 600 | AN73: =AI73+'2026.8'!AN73 -> 108 | AO73: =AJ73+'2026.8'!AO73 -> 43200 | AP73: 0 | AQ73: 0 | AR73: =AP73+'2026.8'!AR73 -> 0 | AS73: =AQ73+'2026.8'!AS73 -> 0 | AT73: 0 | AU73: 0 | AV73: 0 | AW73: 0 | AX73: =AT73+'2026.8'!AX73 -> 0 | AY73: =AU73+'2026.8'!AY73 -> 0 | AZ73: =AV73+'2026.8'!AZ73 -> 0 | BA73: =AW73+'2026.8'!BA73 -> 0
C74: 牛久茎崎 | D74: 0 | E74: 0 | F74: 93 | G74: 60 | H74: 0 | I74: 0 | J74: 1 | K74: 0 | L74: 0 | M74: 5 | N74: 33 | O74: 0 | P74: 8 | Q74: 26 | R74: 0 | S74: 89 | T74: 0 | U74: 0 | V74: 4 | W74: 0 | X74: 0 | Y74: 0 | Z74: 93 | AA74: 4 | AB74: 0 | AC74: 0 | AD74: =AB74+'2026.8'!AD74 -> 485298 | AE74: =AC74+'2026.8'!AE74 -> 3000.0057 | AF74: 0 | AG74: 0 | AH74: =AG74*$AH$5 -> 0 | AI74: 0 | AJ74: =AI74*$AJ$5 -> 0 | AK74: =AF74+'2026.8'!AK74 -> 0 | AL74: =AG74+'2026.8'!AL74 -> 0 | AM74: =AH74+'2026.8'!AM74 -> 0 | AN74: =AI74+'2026.8'!AN74 -> 0 | AO74: =AJ74+'2026.8'!AO74 -> 0 | AP74: 0 | AQ74: 0 | AR74: =AP74+'2026.8'!AR74 -> 0 | AS74: =AQ74+'2026.8'!AS74 -> 0 | AT74: 0 | AU74: 0 | AV74: 0 | AW74: 0 | AX74: =AT74+'2026.8'!AX74 -> 0 | AY74: =AU74+'2026.8'!AY74 -> 0 | AZ74: =AV74+'2026.8'!AZ74 -> 0 | BA74: =AW74+'2026.8'!BA74 -> 0
C75: 守谷 | D75: 0 | E75: 0 | F75: 68 | G75: 59 | H75: 0 | I75: 0 | J75: 3 | K75: 0 | L75: 0 | M75: 0 | N75: 9 | O75: 0 | P75: 7 | Q75: 8 | R75: 0 | S75: 65 | T75: 0 | U75: 0 | V75: 4 | W75: 0 | X75: 0 | Y75: 1 | Z75: 68 | AA75: 3 | AB75: 0 | AC75: 0 | AD75: =AB75+'2026.8'!AD75 -> 0 | AE75: =AC75+'2026.8'!AE75 -> 0 | AF75: 0 | AG75: 0 | AH75: =AG75*$AH$5 -> 0 | AI75: 0 | AJ75: =AI75*$AJ$5 -> 0 | AK75: =AF75+'2026.8'!AK75 -> 1 | AL75: =AG75+'2026.8'!AL75 -> 3 | AM75: =AH75+'2026.8'!AM75 -> 600 | AN75: =AI75+'2026.8'!AN75 -> 98 | AO75: =AJ75+'2026.8'!AO75 -> 39200 | AP75: 0 | AQ75: 0 | AR75: =AP75+'2026.8'!AR75 -> 0 | AS75: =AQ75+'2026.8'!AS75 -> 0 | AT75: 0 | AU75: 0 | AV75: 0 | AW75: 0 | AX75: =AT75+'2026.8'!AX75 -> 0 | AY75: =AU75+'2026.8'!AY75 -> 0 | AZ75: =AV75+'2026.8'!AZ75 -> 0 | BA75: =AW75+'2026.8'!BA75 -> 0
C76: 取手大利根 | D76: 0 | E76: 0 | F76: 22 | G76: 22 | H76: 0 | I76: 0 | J76: 0 | K76: 0 | L76: 0 | M76: 0 | N76: 0 | O76: 0 | P76: 1 | Q76: 0 | R76: 0 | S76: 22 | T76: 0 | U76: 0 | V76: 0 | W76: 0 | X76: 0 | Y76: 0 | Z76: 22 | AA76: 0 | AB76: 0 | AC76: 0 | AD76: =AB76+'2026.8'!AD76 -> 0 | AE76: =AC76+'2026.8'!AE76 -> 0 | AF76: 0 | AG76: 0 | AH76: =AG76*$AH$5 -> 0 | AI76: 0 | AJ76: =AI76*$AJ$5 -> 0 | AK76: =AF76+'2026.8'!AK76 -> 1 | AL76: =AG76+'2026.8'!AL76 -> 2 | AM76: =AH76+'2026.8'!AM76 -> 400 | AN76: =AI76+'2026.8'!AN76 -> 36 | AO76: =AJ76+'2026.8'!AO76 -> 14400 | AP76: 0 | AQ76: 0 | AR76: =AP76+'2026.8'!AR76 -> 0 | AS76: =AQ76+'2026.8'!AS76 -> 0 | AT76: 0 | AU76: 0 | AV76: 0 | AW76: 0 | AX76: =AT76+'2026.8'!AX76 -> 0 | AY76: =AU76+'2026.8'!AY76 -> 0 | AZ76: =AV76+'2026.8'!AZ76 -> 0 | BA76: =AW76+'2026.8'!BA76 -> 0
C77: 竜ケ崎ききょう | D77: 1 | E77: 0 | F77: 28 | G77: 28 | H77: 0 | I77: 0 | J77: 0 | K77: 0 | L77: 0 | M77: 0 | N77: 0 | O77: 0 | P77: 0 | Q77: 0 | R77: 0 | S77: 25 | T77: 0 | U77: 0 | V77: 4 | W77: 0 | X77: 0 | Y77: 1 | Z77: 28 | AA77: 3 | AB77: 0 | AC77: 0 | AD77: =AB77+'2026.8'!AD77 -> 0 | AE77: =AC77+'2026.8'!AE77 -> 0 | AF77: 0 | AG77: 0 | AH77: =AG77*$AH$5 -> 0 | AI77: 0 | AJ77: =AI77*$AJ$5 -> 0 | AK77: =AF77+'2026.8'!AK77 -> 1 | AL77: =AG77+'2026.8'!AL77 -> 1 | AM77: =AH77+'2026.8'!AM77 -> 200 | AN77: =AI77+'2026.8'!AN77 -> 48 | AO77: =AJ77+'2026.8'!AO77 -> 19200 | AP77: 0 | AQ77: 0 | AR77: =AP77+'2026.8'!AR77 -> 0 | AS77: =AQ77+'2026.8'!AS77 -> 0 | AT77: 0 | AU77: 0 | AV77: 0 | AW77: 0 | AX77: =AT77+'2026.8'!AX77 -> 0 | AY77: =AU77+'2026.8'!AY77 -> 0 | AZ77: =AV77+'2026.8'!AZ77 -> 0 | BA77: =AW77+'2026.8'!BA77 -> 0
C78: 取手中央 | D78: 0 | E78: 1 | F78: 70 | G78: 62 | H78: 0 | I78: 0 | J78: 0 | K78: 0 | L78: 0 | M78: 0 | N78: 8 | O78: 0 | P78: 5 | Q78: 5 | R78: 0 | S78: 72 | T78: 0 | U78: 0 | V78: 0 | W78: 0 | X78: 0 | Y78: 2 | Z78: 70 | AA78: -2 | AB78: 0 | AC78: 0 | AD78: =AB78+'2026.8'!AD78 -> 0 | AE78: =AC78+'2026.8'!AE78 -> 0 | AF78: 0 | AG78: 0 | AH78: =AG78*$AH$5 -> 0 | AI78: 0 | AJ78: =AI78*$AJ$5 -> 0 | AK78: =AF78+'2026.8'!AK78 -> 0 | AL78: =AG78+'2026.8'!AL78 -> 0 | AM78: =AH78+'2026.8'!AM78 -> 0 | AN78: =AI78+'2026.8'!AN78 -> 0 | AO78: =AJ78+'2026.8'!AO78 -> 0 | AP78: 0 | AQ78: 0 | AR78: =AP78+'2026.8'!AR78 -> 0 | AS78: =AQ78+'2026.8'!AS78 -> 0 | AT78: 0 | AU78: 0 | AV78: 0 | AW78: 0 | AX78: =AT78+'2026.8'!AX78 -> 0 | AY78: =AU78+'2026.8'!AY78 -> 0 | AZ78: =AV78+'2026.8'!AZ78 -> 0 | BA78: =AW78+'2026.8'!BA78 -> 0
B79: 2 | C79: 古河 | D79: 0 | E79: 0 | F79: 27 | G79: 27 | H79: 0 | I79: 0 | J79: 0 | K79: 1 | L79: 0 | M79: 0 | N79: 0 | O79: 0 | P79: 1 | Q79: 0 | R79: 0 | S79: 27 | T79: 0 | U79: 0 | V79: 0 | W79: 0 | X79: 0 | Y79: 0 | Z79: 27 | AA79: 0 | AB79: 0 | AC79: 0 | AD79: =AB79+'2026.8'!AD79 -> 0 | AE79: =AC79+'2026.8'!AE79 -> 0 | AF79: 0 | AG79: 0 | AH79: =AG79*$AH$5 -> 0 | AI79: 0 | AJ79: =AI79*$AJ$5 -> 0 | AK79: =AF79+'2026.8'!AK79 -> 0 | AL79: =AG79+'2026.8'!AL79 -> 0 | AM79: =AH79+'2026.8'!AM79 -> 0 | AN79: =AI79+'2026.8'!AN79 -> 0 | AO79: =AJ79+'2026.8'!AO79 -> 0 | AP79: 0 | AQ79: 0 | AR79: =AP79+'2026.8'!AR79 -> 0 | AS79: =AQ79+'2026.8'!AS79 -> 0 | AT79: 0 | AU79: 0 | AV79: 0 | AW79: 0 | AX79: =AT79+'2026.8'!AX79 -> 0 | AY79: =AU79+'2026.8'!AY79 -> 0 | AZ79: =AV79+'2026.8'!AZ79 -> 0 | BA79: =AW79+'2026.8'!BA79 -> 0
C80: 岩井 | D80: 0 | E80: 0 | F80: 48 | G80: 40 | H80: 0 | I80: 0 | J80: 0 | K80: 0 | L80: 0 | M80: 6 | N80: 8 | O80: 0 | P80: 9 | Q80: 5 | R80: 0 | S80: 47 | T80: 1 | U80: 0 | V80: 0 | W80: 0 | X80: 0 | Y80: 0 | Z80: 48 | AA80: 1 | AB80: 0 | AC80: 0 | AD80: =AB80+'2026.8'!AD80 -> 0 | AE80: =AC80+'2026.8'!AE80 -> 0 | AF80: 0 | AG80: 0 | AH80: =AG80*$AH$5 -> 0 | AI80: 0 | AJ80: =AI80*$AJ$5 -> 0 | AK80: =AF80+'2026.8'!AK80 -> 0 | AL80: =AG80+'2026.8'!AL80 -> 0 | AM80: =AH80+'2026.8'!AM80 -> 0 | AN80: =AI80+'2026.8'!AN80 -> 0 | AO80: =AJ80+'2026.8'!AO80 -> 0 | AP80: 0 | AQ80: 0 | AR80: =AP80+'2026.8'!AR80 -> 0 | AS80: =AQ80+'2026.8'!AS80 -> 0 | AT80: 0 | AU80: 0 | AV80: 0 | AW80: 0 | AX80: =AT80+'2026.8'!AX80 -> 0 | AY80: =AU80+'2026.8'!AY80 -> 0 | AZ80: =AV80+'2026.8'!AZ80 -> 0 | BA80: =AW80+'2026.8'!BA80 -> 0
C81: 石下 | D81: 0 | E81: 0 | F81: 21 | G81: 11 | H81: 0 | I81: 0 | J81: 0 | K81: 0 | L81: 0 | M81: 0 | N81: 10 | O81: 0 | P81: 0 | Q81: 8 | R81: 0 | S81: 21 | T81: 0 | U81: 0 | V81: 0 | W81: 0 | X81: 0 | Y81: 0 | Z81: 21 | AA81: 0 | AB81: 0 | AC81: 0 | AD81: =AB81+'2026.8'!AD81 -> 0 | AE81: =AC81+'2026.8'!AE81 -> 0 | AF81: 0 | AG81: 0 | AH81: =AG81*$AH$5 -> 0 | AI81: 0 | AJ81: =AI81*$AJ$5 -> 0 | AK81: =AF81+'2026.8'!AK81 -> 0 | AL81: =AG81+'2026.8'!AL81 -> 0 | AM81: =AH81+'2026.8'!AM81 -> 0 | AN81: =AI81+'2026.8'!AN81 -> 0 | AO81: =AJ81+'2026.8'!AO81 -> 0 | AP81: 0 | AQ81: 0 | AR81: =AP81+'2026.8'!AR81 -> 0 | AS81: =AQ81+'2026.8'!AS81 -> 0 | AT81: 0 | AU81: 0 | AV81: 0 | AW81: 0 | AX81: =AT81+'2026.8'!AX81 -> 0 | AY81: =AU81+'2026.8'!AY81 -> 0 | AZ81: =AV81+'2026.8'!AZ81 -> 0 | BA81: =AW81+'2026.8'!BA81 -> 0
C82: 水海道 | D82: 0 | E82: 0 | F82: 15 | G82: 15 | H82: 0 | I82: 0 | J82: 0 | K82: 0 | L82: 0 | M82: 0 | N82: 0 | O82: 0 | P82: 1 | Q82: 0 | R82: 0 | S82: 15 | T82: 0 | U82: 0 | V82: 0 | W82: 0 | X82: 0 | Y82: 0 | Z82: 15 | AA82: 0 | AB82: 0 | AC82: 0 | AD82: =AB82+'2026.8'!AD82 -> 0 | AE82: =AC82+'2026.8'!AE82 -> 0 | AF82: 0 | AG82: 0 | AH82: =AG82*$AH$5 -> 0 | AI82: 0 | AJ82: =AI82*$AJ$5 -> 0 | AK82: =AF82+'2026.8'!AK82 -> 0 | AL82: =AG82+'2026.8'!AL82 -> 0 | AM82: =AH82+'2026.8'!AM82 -> 0 | AN82: =AI82+'2026.8'!AN82 -> 0 | AO82: =AJ82+'2026.8'!AO82 -> 0 | AP82: 0 | AQ82: 0 | AR82: =AP82+'2026.8'!AR82 -> 0 | AS82: =AQ82+'2026.8'!AS82 -> 0 | AT82: 0 | AU82: 0 | AV82: 0 | AW82: 0 | AX82: =AT82+'2026.8'!AX82 -> 0 | AY82: =AU82+'2026.8'!AY82 -> 0 | AZ82: =AV82+'2026.8'!AZ82 -> 0 | BA82: =AW82+'2026.8'!BA82 -> 0
C83: 総和 | D83: 0 | E83: 0 | F83: 26 | G83: 26 | H83: 0 | I83: 0 | J83: 0 | K83: 0 | L83: 0 | M83: 0 | N83: 0 | O83: 0 | P83: 0 | Q83: 0 | R83: 0 | S83: 26 | T83: 0 | U83: 0 | V83: 0 | W83: 0 | X83: 0 | Y83: 0 | Z83: 26 | AA83: 0 | AB83: 319038 | AC83: 2000.0022 | AD83: =AB83+'2026.8'!AD83 -> 319038 | AE83: =AC83+'2026.8'!AE83 -> 2000.0022 | AF83: 2 | AG83: 2 | AH83: =AG83*$AH$5 -> 400 | AI83: 66 | AJ83: =AI83*$AJ$5 -> 26400 | AK83: =AF83+'2026.8'!AK83 -> 2 | AL83: =AG83+'2026.8'!AL83 -> 2 | AM83: =AH83+'2026.8'!AM83 -> 400 | AN83: =AI83+'2026.8'!AN83 -> 66 | AO83: =AJ83+'2026.8'!AO83 -> 26400 | AP83: 2 | AQ83: 0 | AR83: =AP83+'2026.8'!AR83 -> 2 | AS83: =AQ83+'2026.8'!AS83 -> 0 | AT83: 0 | AU83: 0 | AV83: 0 | AW83: 0 | AX83: =AT83+'2026.8'!AX83 -> 0 | AY83: =AU83+'2026.8'!AY83 -> 0 | AZ83: =AV83+'2026.8'!AZ83 -> 0 | BA83: =AW83+'2026.8'!BA83 -> 0
C84: 茨城三和 | D84: 1 | E84: 0 | F84: 38 | G84: 38 | H84: 0 | I84: 0 | J84: 0 | K84: 0 | L84: 0 | M84: 0 | N84: 0 | O84: 0 | P84: 0 | Q84: 0 | R84: 0 | S84: 38 | T84: 0 | U84: 0 | V84: 1 | W84: 0 | X84: 0 | Y84: 1 | Z84: 38 | AA84: 0 | AB84: 0 | AC84: 0 | AD84: =AB84+'2026.8'!AD84 -> 0 | AE84: =AC84+'2026.8'!AE84 -> 0 | AF84: 1 | AG84: 4 | AH84: =AG84*$AH$5 -> 800 | AI84: 31 | AJ84: =AI84*$AJ$5 -> 12400 | AK84: =AF84+'2026.8'!AK84 -> 1 | AL84: =AG84+'2026.8'!AL84 -> 4 | AM84: =AH84+'2026.8'!AM84 -> 800 | AN84: =AI84+'2026.8'!AN84 -> 31 | AO84: =AJ84+'2026.8'!AO84 -> 12400 | AP84: 0 | AQ84: 0 | AR84: =AP84+'2026.8'!AR84 -> 0 | AS84: =AQ84+'2026.8'!AS84 -> 0 | AT84: 2 | AU84: 100 | AV84: 161 | AW84: 25 | AX84: =AT84+'2026.8'!AX84 -> 2 | AY84: =AU84+'2026.8'!AY84 -> 100 | AZ84: =AV84+'2026.8'!AZ84 -> 161 | BA84: =AW84+'2026.8'!BA84 -> 25
C85: 茨城境 | D85: 4 | E85: 0 | F85: 48 | G85: 48 | H85: 0 | I85: 0 | J85: 0 | K85: 0 | L85: 2 | M85: 7 | N85: 0 | O85: 0 | P85: 3 | Q85: 0 | R85: 0 | S85: 45 | T85: 0 | U85: 0 | V85: 4 | W85: 1 | X85: 0 | Y85: 0 | Z85: 48 | AA85: 3 | AB85: 0 | AC85: 0 | AD85: =AB85+'2026.8'!AD85 -> 0 | AE85: =AC85+'2026.8'!AE85 -> 0 | AF85: 0 | AG85: 0 | AH85: =AG85*$AH$5 -> 0 | AI85: 0 | AJ85: =AI85*$AJ$5 -> 0 | AK85: =AF85+'2026.8'!AK85 -> 0 | AL85: =AG85+'2026.8'!AL85 -> 0 | AM85: =AH85+'2026.8'!AM85 -> 0 | AN85: =AI85+'2026.8'!AN85 -> 0 | AO85: =AJ85+'2026.8'!AO85 -> 0 | AP85: 0 | AQ85: 0 | AR85: =AP85+'2026.8'!AR85 -> 0 | AS85: =AQ85+'2026.8'!AS85 -> 0 | AT85: 0 | AU85: 0 | AV85: 0 | AW85: 0 | AX85: =AT85+'2026.8'!AX85 -> 0 | AY85: =AU85+'2026.8'!AY85 -> 0 | AZ85: =AV85+'2026.8'!AZ85 -> 0 | BA85: =AW85+'2026.8'!BA85 -> 0
C86: つくばみらい | D86: 0 | E86: 0 | F86: 44 | G86: 26 | H86: 0 | I86: 0 | J86: 0 | K86: 0 | L86: 0 | M86: 0 | N86: 18 | O86: 0 | P86: 0 | Q86: 14 | R86: 0 | S86: 42 | T86: 0 | U86: 0 | V86: 2 | W86: 0 | X86: 0 | Y86: 0 | Z86: 44 | AA86: 2 | AB86: 0 | AC86: 0 | AD86: =AB86+'2026.8'!AD86 -> 0 | AE86: =AC86+'2026.8'!AE86 -> 0 | AF86: 0 | AG86: 0 | AH86: =AG86*$AH$5 -> 0 | AI86: 0 | AJ86: =AI86*$AJ$5 -> 0 | AK86: =AF86+'2026.8'!AK86 -> 1 | AL86: =AG86+'2026.8'!AL86 -> 0 | AM86: =AH86+'2026.8'!AM86 -> 0 | AN86: =AI86+'2026.8'!AN86 -> 16 | AO86: =AJ86+'2026.8'!AO86 -> 6400 | AP86: 0 | AQ86: 0 | AR86: =AP86+'2026.8'!AR86 -> 0 | AS86: =AQ86+'2026.8'!AS86 -> 0 | AT86: 0 | AU86: 0 | AV86: 0 | AW86: 0 | AX86: =AT86+'2026.8'!AX86 -> 0 | AY86: =AU86+'2026.8'!AY86 -> 0 | AZ86: =AV86+'2026.8'!AZ86 -> 0 | BA86: =AW86+'2026.8'!BA86 -> 0
C87: ごか | D87: 0 | E87: 0 | F87: 13 | G87: 11 | H87: 0 | I87: 0 | J87: 0 | K87: 0 | L87: 0 | M87: 0 | N87: 2 | O87: 0 | P87: 1 | Q87: 2 | R87: 0 | S87: 11 | T87: 0 | U87: 2 | V87: 1 | W87: 0 | X87: 0 | Y87: 1 | Z87: 13 | AA87: 2 | AB87: 0 | AC87: 0 | AD87: =AB87+'2026.8'!AD87 -> 0 | AE87: =AC87+'2026.8'!AE87 -> 0 | AF87: 0 | AG87: 0 | AH87: =AG87*$AH$5 -> 0 | AI87: 0 | AJ87: =AI87*$AJ$5 -> 0 | AK87: =AF87+'2026.8'!AK87 -> 1 | AL87: =AG87+'2026.8'!AL87 -> 3 | AM87: =AH87+'2026.8'!AM87 -> 600 | AN87: =AI87+'2026.8'!AN87 -> 15 | AO87: =AJ87+'2026.8'!AO87 -> 6000 | AP87: 0 | AQ87: 0 | AR87: =AP87+'2026.8'!AR87 -> 0 | AS87: =AQ87+'2026.8'!AS87 -> 0 | AT87: 0 | AU87: 0 | AV87: 0 | AW87: 0 | AX87: =AT87+'2026.8'!AX87 -> 2 | AY87: =AU87+'2026.8'!AY87 -> 90 | AZ87: =AV87+'2026.8'!AZ87 -> 93 | BA87: =AW87+'2026.8'!BA87 -> 10
A88: R合計 | D88: =SUM(D71:D87) -> 6 | E88: =SUM(E71:E87) -> 1 | F88: =SUM(F71:F87) -> 738 | G88: =SUM(G71:G87) -> 622 | H88: =SUM(H71:H87) -> 0 | I88: =SUM(I71:I87) -> 0 | J88: =SUM(J71:J87) -> 4 | K88: =SUM(K71:K87) -> 1 | ... AX88: =SUM(AX71:AX87) -> 9 | AY88: =SUM(AY79:AY87) -> 190 | AZ88: =SUM(AZ79:AZ87) -> 254 | BA88: =SUM(BA79:BA87) -> 35
A89: 総合計 | D89: =SUM(D21,D35,D52,D70,D88) -> 28 | E89: =SUM(E21,E35,E52,E70,E88) -> 13 | F89: =SUM(F21,F35,F52,F70,F88) -> 3349 | G89: =SUM(G21,G35,G52,G70,G88) -> 2790 | H89: =SUM(H21,H35,H52,H70,H88) -> 17 | I89: =SUM(I21,I35,I52,I70,I88) -> 2 | J89: =SUM(J21,J35,J52,J70,J88) -> 29 | K89: =SUM(K21,K35,K52,K70,K88) -> 13 | ... AW89: =SUM(AW21,AW35,AW52,AW70,AW88) -> 69 | AX89: =AX21+AX35+AX52+AX70+AX88 -> 36 | AY89: =AY21+AY35+AY52+AY70+AY88 -> 5180 | AZ89: =AZ21+AZ35+AZ52+AZ70+AZ88 -> 2843 | BA89: =BA21+BA35+BA52+AA70+BA88 -> 192
AH91: 当月 人数 計 （人） | AJ91: =AG89+AI89 -> 782 | AN91: 累計 人数 | AO91: =AL89+AN89 -> 3447
AH92: 当月 数量 計 （CC） | AJ92: =AH89+AJ89 -> 296600 | AN92: 累計 数量 | AO92: =AM89+AO89 -> 1336600

Sheet 2026.10
A1: 46296
A2: R | B2: Z | C2: クラブ名 | D2: 10月 | S2: 会員移動（期首～） | AB2: LCIF寄付 | AD2: LCIF寄付 | AF2: 献血（当月） | AK2: 献血（累計） | AP2: 献眼（当月） | AR2: 献眼（累計） | AT2: 薬物乱用防止（当月） | AX2: 薬物乱用防止（累計）
D3: 当月 | F3: 当月末 | G3: 内訳 | S3: (2026.6.30) | T3: 入会 | W3: 退会 | Z3: 当月末 | AA3: 増減
D4: 入会数 | E4: 退会数 | G4: 正会員 | H4: 左記「正会員」数には下記の会員種別人数を含む | N4: 特典会員 | P4: （内）女性会員 | S4: 前期末 | AB4: 当月 | AD4: 累計 | AF4: 件数 | AG4: 200CC | AH4: 数量（CC） | AI4: 400CC | AJ4: 数量（CC） | AK4: 件数 | AL4: 200CC | AM4: 数量（CC） | AN4: 400CC | AO4: 数量（CC） | AP4: 登録 | AQ4: 提供 | AR4: 登録 | AS4: 提供 | AT4: 回数 | AU4: 活動時間 | AV4: 対象人数 | AW4: メンバー 参加人数 | AX4: 回数 | AY4: 活動時間 | AZ4: 対象人数 | BA4: メンバー 参加人数
H5: 不在 | I5: 名誉 | J5: 終身 | K5: 優待 | L5: 賛助 | M5: 支部 | N5: 家族会員 | O5: 学生会員 | P5: 正会員 | Q5: 家族会員 | R5: 学生会員 | T5: 転入 | U5: 再入 | V5: 新入 | W5: 転出 | X5: 死亡 | Y5: 退会 | AB5: 金額（円） | AC5: 金額（ドル） | AD5: 金額（円） | AE5: 金額（ドル） | AG5: （人） | AH5: 200 | AI5: （人） | AJ5: 400 | AL5: （人） | AM5: 200 | AN5: （人） | AO5: 400 | AU5: （分） | AY5: （分）
A6: 1 | B6: 1 | C6: 日立 | AD6: =AB6+'2026.9'!AD6 -> 1055152 | AE6: =AC6+'2026.9'!AE6 -> 6495.2482 | AH6: =AG6*$AH$5 -> 0 | AJ6: =AI6*$AJ$5 -> 0 | AK6: =AF6+'2026.9'!AK6 -> 2 | AL6: =AG6+'2026.9'!AL6 -> 2 | AM6: =AH6+'2026.9'!AM6 -> 400 | AN6: =AI6+'2026.9'!AN6 -> 97 | AO6: =AJ6+'2026.9'!AO6 -> 38800 | AR6: =AP6+'2026.9'!AR6 -> 0 | AS6: =AQ6+'2026.9'!AS6 -> 0 | AX6: =AT6+'2026.9'!AX6 -> 0 | AY6: =AU6+'2026.9'!AY6 -> 0 | AZ6: =AV6+'2026.9'!AZ6 -> 0 | BA6: =AW6+'2026.9'!BA6 -> 0
C7: 高萩 | AD7: =AB7+'2026.9'!AD7 -> 0 | AE7: =AC7+'2026.9'!AE7 -> 0 | AH7: =AG7*$AH$5 -> 0 | AJ7: =AI7*$AJ$5 -> 0 | AK7: =AF7+'2026.9'!AK7 -> 2 | AL7: =AG7+'2026.9'!AL7 -> 3 | AM7: =AH7+'2026.9'!AM7 -> 600 | AN7: =AI7+'2026.9'!AN7 -> 48 | AO7: =AJ7+'2026.9'!AO7 -> 19200 | AR7: =AP7+'2026.9'!AR7 -> 0 | AS7: =AQ7+'2026.9'!AS7 -> 0 | AX7: =AT7+'2026.9'!AX7 -> 0 | AY7: =AU7+'2026.9'!AY7 -> 0 | AZ7: =AV7+'2026.9'!AZ7 -> 0 | BA7: =AW7+'2026.9'!BA7 -> 0
C8: 日立中央 | AD8: =AB8+'2026.9'!AD8 -> 1535386 | AE8: =AC8+'2026.9'!AE8 -> 9462.79 | AH8: =AG8*$AH$5 -> 0 | AJ8: =AI8*$AJ$5 -> 0 | AK8: =AF8+'2026.9'!AK8 -> 2 | AL8: =AG8+'2026.9'!AL8 -> 5 | AM8: =AH8+'2026.9'!AM8 -> 1000 | AN8: =AI8+'2026.9'!AN8 -> 87 | AO8: =AJ8+'2026.9'!AO8 -> 34800 | AR8: =AP8+'2026.9'!AR8 -> 0 | AS8: =AQ8+'2026.9'!AS8 -> 0 | AX8: =AT8+'2026.9'!AX8 -> 1 | AY8: =AU8+'2026.9'!AY8 -> 120 | AZ8: =AV8+'2026.9'!AZ8 -> 37 | BA8: =AW8+'2026.9'!BA8 -> 2
C9: 日立桜 | AD9: =AB9+'2026.9'!AD9 -> 0 | AE9: =AC9+'2026.9'!AE9 -> 0 | AH9: =AG9*$AH$5 -> 0 | AJ9: =AI9*$AJ$5 -> 0 | AK9: =AF9+'2026.9'!AK9 -> 3 | AL9: =AG9+'2026.9'!AL9 -> 1 | AM9: =AH9+'2026.9'!AM9 -> 200 | AN9: =AI9+'2026.9'!AN9 -> 150 | AO9: =AJ9+'2026.9'!AO9 -> 60000 | AR9: =AP9+'2026.9'!AR9 -> 0 | AS9: =AQ9+'2026.9'!AS9 -> 0 | AX9: =AT9+'2026.9'!AX9 -> 0 | AY9: =AU9+'2026.9'!AY9 -> 0 | AZ9: =AV9+'2026.9'!AZ9 -> 0 | BA9: =AW9+'2026.9'!BA9 -> 0
C10: 日立きらら | AD10: =AB10+'2026.9'!AD10 -> 0 | AE10: =AC10+'2026.9'!AE10 -> 0 | AH10: =AG10*$AH$5 -> 0 | AJ10: =AI10*$AJ$5 -> 0 | AK10: =AF10+'2026.9'!AK10 -> 3 | AL10: =AG10+'2026.9'!AL10 -> 0 | AM10: =AH10+'2026.9'!AM10 -> 0 | AN10: =AI10+'2026.9'!AN10 -> 120 | AO10: =AJ10+'2026.9'!AO10 -> 48000 | AR10: =AP10+'2026.9'!AR10 -> 0 | AS10: =AQ10+'2026.9'!AS10 -> 0 | AX10: =AT10+'2026.9'!AX10 -> 1 | AY10: =AU10+'2026.9'!AY10 -> 80 | AZ10: =AV10+'2026.9'!AZ10 -> 32 | BA10: =AW10+'2026.9'!BA10 -> 5
C11: 北茨城桜 | AD11: =AB11+'2026.9'!AD11 -> 54247 | AE11: =AC11+'2026.9'!AE11 -> 340.06644 | AH11: =AG11*$AH$5 -> 0 | AJ11: =AI11*$AJ$5 -> 0 | AK11: =AF11+'2026.9'!AK11 -> 1 | AL11: =AG11+'2026.9'!AL11 -> 1 | AM11: =AH11+'2026.9'!AM11 -> 200 | AN11: =AI11+'2026.9'!AN11 -> 46 | AO11: =AJ11+'2026.9'!AO11 -> 18400 | AR11: =AP11+'2026.9'!AR11 -> 0 | AS11: =AQ11+'2026.9'!AS11 -> 0 | AX11: =AT11+'2026.9'!AX11 -> 0 | AY11: =AU11+'2026.9'!AY11 -> 0 | AZ11: =AV11+'2026.9'!AZ11 -> 0 | BA11: =AW11+'2026.9'!BA11 -> 0
B12: 2 | C12: 勝田 | AD12: =AB12+'2026.9'!AD12 -> 1605195 | AE12: =AC12+'2026.9'!AE12 -> 10062.731 | AH12: =AG12*$AH$5 -> 0 | AJ12: =AI12*$AJ$5 -> 0 | AK12: =AF12+'2026.9'!AK12 -> 1 | AL12: =AG12+'2026.9'!AL12 -> 2 | AM12: =AH12+'2026.9'!AM12 -> 400 | AN12: =AI12+'2026.9'!AN12 -> 56 | AO12: =AJ12+'2026.9'!AO12 -> 22400 | AR12: =AP12+'2026.9'!AR12 -> 0 | AS12: =AQ12+'2026.9'!AS12 -> 0 | AX12: =AT12+'2026.9'!AX12 -> 0 | AY12: =AU12+'2026.9'!AY12 -> 0 | AZ12: =AV12+'2026.9'!AZ12 -> 0 | BA12: =AW12+'2026.9'!BA12 -> 0
C13: 那珂湊 | AD13: =AB13+'2026.9'!AD13 -> 0 | AE13: =AC13+'2026.9'!AE13 -> 0 | AH13: =AG13*$AH$5 -> 0 | AJ13: =AI13*$AJ$5 -> 0 | AK13: =AF13+'2026.9'!AK13 -> 1 | AL13: =AG13+'2026.9'!AL13 -> 1 | AM13: =AH13+'2026.9'!AM13 -> 200 | AN13: =AI13+'2026.9'!AN13 -> 32 | AO13: =AJ13+'2026.9'!AO13 -> 12800 | AR13: =AP13+'2026.9'!AR13 -> 0 | AS13: =AQ13+'2026.9'!AS13 -> 0 | AX13: =AT13+'2026.9'!AX13 -> 0 | AY13: =AU13+'2026.9'!AY13 -> 0 | AZ13: =AV13+'2026.9'!AZ13 -> 0 | BA13: =AW13+'2026.9'!BA13 -> 0
C14: 東海 | AD14: =AB14+'2026.9'!AD14 -> 0 | AE14: =AC14+'2026.9'!AE14 -> 0 | AH14: =AG14*$AH$5 -> 0 | AJ14: =AI14*$AJ$5 -> 0 | AK14: =AF14+'2026.9'!AK14 -> 1 | AL14: =AG14+'2026.9'!AL14 -> 2 | AM14: =AH14+'2026.9'!AM14 -> 400 | AN14: =AI14+'2026.9'!AN14 -> 37 | AO14: =AJ14+'2026.9'!AO14 -> 14800 | AR14: =AP14+'2026.9'!AR14 -> 0 | AS14: =AQ14+'2026.9'!AS14 -> 0 | AX14: =AT14+'2026.9'!AX14 -> 0 | AY14: =AU14+'2026.9'!AY14 -> 0 | AZ14: =AV14+'2026.9'!AZ14 -> 0 | BA14: =AW14+'2026.9'!BA14 -> 0
C15: 勝田グリーン | AD15: =AB15+'2026.9'!AD15 -> 0 | AE15: =AC15+'2026.9'!AE15 -> 0 | AH15: =AG15*$AH$5 -> 0 | AJ15: =AI15*$AJ$5 -> 0 | AK15: =AF15+'2026.9'!AK15 -> 3 | AL15: =AG15+'2026.9'!AL15 -> 0 | AM15: =AH15+'2026.9'!AM15 -> 0 | AN15: =AI15+'2026.9'!AN15 -> 105 | AO15: =AJ15+'2026.9'!AO15 -> 42000 | AR15: =AP15+'2026.9'!AR15 -> 0 | AS15: =AQ15+'2026.9'!AS15 -> 0 | AX15: =AT15+'2026.9'!AX15 -> 0 | AY15: =AU15+'2026.9'!AY15 -> 0 | AZ15: =AV15+'2026.9'!AZ15 -> 0 | BA15: =AW15+'2026.9'!BA15 -> 0
C16: ひたちなかベスト | AD16: =AB16+'2026.9'!AD16 -> 0 | AE16: =AC16+'2026.9'!AE16 -> 0 | AH16: =AG16*$AH$5 -> 0 | AJ16: =AI16*$AJ$5 -> 0 | AK16: =AF16+'2026.9'!AK16 -> 0 | AL16: =AG16+'2026.9'!AL16 -> 0 | AM16: =AH16+'2026.9'!AM16 -> 0 | AN16: =AI16+'2026.9'!AN16 -> 0 | AO16: =AJ16+'2026.9'!AO16 -> 0 | AR16: =AP16+'2026.9'!AR16 -> 0 | AS16: =AQ16+'2026.9'!AS16 -> 0 | AX16: =AT16+'2026.9'!AX16 -> 0 | AY16: =AU16+'2026.9'!AY16 -> 0 | AZ16: =AV16+'2026.9'!AZ16 -> 0 | BA16: =AW16+'2026.9'!BA16 -> 0
B17: 3 | C17: 常陸太田 | AD17: =AB17+'2026.9'!AD17 -> 0 | AE17: =AC17+'2026.9'!AE17 -> 0 | AH17: =AG17*$AH$5 -> 0 | AJ17: =AI17*$AJ$5 -> 0 | AK17: =AF17+'2026.9'!AK17 -> 1 | AL17: =AG17+'2026.9'!AL17 -> 2 | AM17: =AH17+'2026.9'!AM17 -> 400 | AN17: =AI17+'2026.9'!AN17 -> 35 | AO17: =AJ17+'2026.9'!AO17 -> 14000 | AR17: =AP17+'2026.9'!AR17 -> 0 | AS17: =AQ17+'2026.9'!AS17 -> 0 | AX17: =AT17+'2026.9'!AX17 -> 0 | AY17: =AU17+'2026.9'!AY17 -> 0 | AZ17: =AV17+'2026.9'!AZ17 -> 0 | BA17: =AW17+'2026.9'!BA17 -> 0
C18: 常陸大宮 | AD18: =AB18+'2026.9'!AD18 -> 0 | AE18: =AC18+'2026.9'!AE18 -> 0 | AH18: =AG18*$AH$5 -> 0 | AJ18: =AI18*$AJ$5 -> 0 | AK18: =AF18+'2026.9'!AK18 -> 6 | AL18: =AG18+'2026.9'!AL18 -> 6 | AM18: =AH18+'2026.9'!AM18 -> 1200 | AN18: =AI18+'2026.9'!AN18 -> 282 | AO18: =AJ18+'2026.9'!AO18 -> 112800 | AR18: =AP18+'2026.9'!AR18 -> 0 | AS18: =AQ18+'2026.9'!AS18 -> 0 | AX18: =AT18+'2026.9'!AX18 -> 0 | AY18: =AU18+'2026.9'!AY18 -> 0 | AZ18: =AV18+'2026.9'!AZ18 -> 0 | BA18: =AW18+'2026.9'!BA18 -> 0
C19: 那珂 | AD19: =AB19+'2026.9'!AD19 -> 48530 | AE19: =AC19+'2026.9'!AE19 -> 300.00181 | AH19: =AG19*$AH$5 -> 0 | AJ19: =AI19*$AJ$5 -> 0 | AK19: =AF19+'2026.9'!AK19 -> 6 | AL19: =AG19+'2026.9'!AL19 -> 6 | AM19: =AH19+'2026.9'!AM19 -> 1200 | AN19: =AI19+'2026.9'!AN19 -> 168 | AO19: =AJ19+'2026.9'!AO19 -> 67200 | AR19: =AP19+'2026.9'!AR19 -> 0 | AS19: =AQ19+'2026.9'!AS19 -> 0 | AX19: =AT19+'2026.9'!AX19 -> 0 | AY19: =AU19+'2026.9'!AY19 -> 0 | AZ19: =AV19+'2026.9'!AZ19 -> 0 | BA19: =AW19+'2026.9'!BA19 -> 0
C20: 常陸大子 | AD20: =AB20+'2026.9'!AD20 -> 0 | AE20: =AC20+'2026.9'!AE20 -> 0 | AH20: =AG20*$AH$5 -> 0 | AJ20: =AI20*$AJ$5 -> 0 | AK20: =AF20+'2026.9'!AK20 -> 0 | AL20: =AG20+'2026.9'!AL20 -> 0 | AM20: =AH20+'2026.9'!AM20 -> 0 | AN20: =AI20+'2026.9'!AN20 -> 0 | AO20: =AJ20+'2026.9'!AO20 -> 0 | AR20: =AP20+'2026.9'!AR20 -> 0 | AS20: =AQ20+'2026.9'!AS20 -> 0 | AX20: =AT20+'2026.9'!AX20 -> 0 | AY20: =AU20+'2026.9'!AY20 -> 0 | AZ20: =AV20+'2026.9'!AZ20 -> 0 | BA20: =AW20+'2026.9'!BA20 -> 0
A21: R合計 | D21: =SUM(D6:D20) -> 0 | E21: =SUM(E6:E20) -> 0 | F21: =SUM(F6:F20) -> 0 | G21: =SUM(G6:G20) -> 0 | H21: =SUM(H6:H20) -> 0 | I21: =SUM(I6:I20) -> 0 | J21: =SUM(J6:J20) -> 0 | K21: =SUM(K6:K20) -> 0 | ... BA21: =SUM(BA6:BA20) -> 7
A22: 2 | B22: 1 | C22: 水戸 | AD22: =AB22+'2026.9'!AD22 -> 657064 | AE22: =AC22+'2026.9'!AE22 -> 4062.6961 | AH22: =AG22*$AH$5 -> 0 | AJ22: =AI22*$AJ$5 -> 0 | AK22: =AF22+'2026.9'!AK22 -> 2 | AL22: =AG22+'2026.9'!AL22 -> 39 | AM22: =AH22+'2026.9'!AM22 -> 7800 | AN22: =AI22+'2026.9'!AN22 -> 48 | AO22: =AJ22+'2026.9'!AO22 -> 19200 | AR22: =AP22+'2026.9'!AR22 -> 0 | AS22: =AQ22+'2026.9'!AS22 -> 0 | AX22: =AT22+'2026.9'!AX22 -> 2 | AY22: =AU22+'2026.9'!AY22 -> 470 | AZ22: =AV22+'2026.9'!AZ22 -> 174 | BA22: =AW22+'2026.9'!BA22 -> 10
C23: 水戸葵 | AD23: =AB23+'2026.9'!AD23 -> 319038 | AE23: =AC23+'2026.9'!AE23 -> 2000.0022 | AH23: =AG23*$AH$5 -> 0 | AJ23: =AI23*$AJ$5 -> 0 | AK23: =AF23+'2026.9'!AK23 -> 0 | AL23: =AG23+'2026.9'!AL23 -> 0 | AM23: =AH23+'2026.9'!AM23 -> 0 | AN23: =AI23+'2026.9'!AN23 -> 0 | AO23: =AJ23+'2026.9'!AO23 -> 0 | AR23: =AP23+'2026.9'!AR23 -> 0 | AS23: =AQ23+'2026.9'!AS23 -> 0 | AX23: =AT23+'2026.9'!AX23 -> 0 | AY23: =AU23+'2026.9'!AY23 -> 0 | AZ23: =AV23+'2026.9'!AZ23 -> 0 | BA23: =AW23+'2026.9'!BA23 -> 0
C24: 水戸西 | AD24: =AB24+'2026.9'!AD24 -> 0 | AE24: =AC24+'2026.9'!AE24 -> 0 | AH24: =AG24*$AH$5 -> 0 | AJ24: =AI24*$AJ$5 -> 0 | AK24: =AF24+'2026.9'!AK24 -> 1 | AL24: =AG24+'2026.9'!AL24 -> 17 | AM24: =AH24+'2026.9'!AM24 -> 3400 | AN24: =AI24+'2026.9'!AN24 -> 42 | AO24: =AJ24+'2026.9'!AO24 -> 16800 | AR24: =AP24+'2026.9'!AR24 -> 0 | AS24: =AQ24+'2026.9'!AS24 -> 0 | AX24: =AT24+'2026.9'!AX24 -> 0 | AY24: =AU24+'2026.9'!AY24 -> 0 | AZ24: =AV24+'2026.9'!AZ24 -> 0 | BA24: =AW24+'2026.9'!BA24 -> 0
C25: 水戸東 | AD25: =AB25+'2026.9'!AD25 -> 303088 | AE25: =AC25+'2026.9'!AE25 -> 1900.014 | AH25: =AG25*$AH$5 -> 0 | AJ25: =AI25*$AJ$5 -> 0 | AK25: =AF25+'2026.9'!AK25 -> 1 | AL25: =AG25+'2026.9'!AL25 -> 10 | AM25: =AH25+'2026.9'!AM25 -> 2000 | AN25: =AI25+'2026.9'!AN25 -> 29 | AO25: =AJ25+'2026.9'!AO25 -> 11600 | AR25: =AP25+'2026.9'!AR25 -> 0 | AS25: =AQ25+'2026.9'!AS25 -> 0 | AX25: =AT25+'2026.9'!AX25 -> 0 | AY25: =AU25+'2026.9'!AY25 -> 0 | AZ25: =AV25+'2026.9'!AZ25 -> 0 | BA25: =AW25+'2026.9'!BA25 -> 0
C26: 水戸南 | AD26: =AB26+'2026.9'!AD26 -> 0 | AE26: =AC26+'2026.9'!AE26 -> 0 | AH26: =AG26*$AH$5 -> 0 | AJ26: =AI26*$AJ$5 -> 0 | AK26: =AF26+'2026.9'!AK26 -> 0 | AL26: =AG26+'2026.9'!AL26 -> 0 | AM26: =AH26+'2026.9'!AM26 -> 0 | AN26: =AI26+'2026.9'!AN26 -> 0 | AO26: =AJ26+'2026.9'!AO26 -> 0 | AR26: =AP26+'2026.9'!AR26 -> 0 | AS26: =AQ26+'2026.9'!AS26 -> 0 | AX26: =AT26+'2026.9'!AX26 -> 2 | AY26: =AU26+'2026.9'!AY26 -> 120 | AZ26: =AV26+'2026.9'!AZ26 -> 503 | BA26: =AW26+'2026.9'!BA26 -> 4
C27: 水戸北 | AD27: =AB27+'2026.9'!AD27 -> 0 | AE27: =AC27+'2026.9'!AE27 -> 0 | AH27: =AG27*$AH$5 -> 0 | AJ27: =AI27*$AJ$5 -> 0 | AK27: =AF27+'2026.9'!AK27 -> 1 | AL27: =AG27+'2026.9'!AL27 -> 21 | AM27: =AH27+'2026.9'!AM27 -> 4200 | AN27: =AI27+'2026.9'!AN27 -> 21 | AO27: =AJ27+'2026.9'!AO27 -> 8400 | AR27: =AP27+'2026.9'!AR27 -> 0 | AS27: =AQ27+'2026.9'!AS27 -> 0 | AX27: =AT27+'2026.9'!AX27 -> 0 | AY27: =AU27+'2026.9'!AY27 -> 0 | AZ27: =AV27+'2026.9'!AZ27 -> 0 | BA27: =AW27+'2026.9'!BA27 -> 0
C28: 水戸チアフル | AD28: =AB28+'2026.9'!AD28 -> 0 | AE28: =AC28+'2026.9'!AE28 -> 0 | AH28: =AG28*$AH$5 -> 0 | AJ28: =AI28*$AJ$5 -> 0 | AK28: =AF28+'2026.9'!AK28 -> 0 | AL28: =AG28+'2026.9'!AL28 -> 0 | AM28: =AH28+'2026.9'!AM28 -> 0 | AN28: =AI28+'2026.9'!AN28 -> 0 | AO28: =AJ28+'2026.9'!AO28 -> 0 | AR28: =AP28+'2026.9'!AR28 -> 0 | AS28: =AQ28+'2026.9'!AS28 -> 0 | AX28: =AT28+'2026.9'!AX28 -> 1 | AY28: =AU28+'2026.9'!AY28 -> 50 | AZ28: =AV28+'2026.9'!AZ28 -> 252 | BA28: =AW28+'2026.9'!BA28 -> 3
B29: 2 | C29: 大洗 | AD29: =AB29+'2026.9'!AD29 -> 0 | AE29: =AC29+'2026.9'!AE29 -> 0 | AH29: =AG29*$AH$5 -> 0 | AJ29: =AI29*$AJ$5 -> 0 | AK29: =AF29+'2026.9'!AK29 -> 2 | AL29: =AG29+'2026.9'!AL29 -> 3 | AM29: =AH29+'2026.9'!AM29 -> 600 | AN29: =AI29+'2026.9'!AN29 -> 40 | AO29: =AJ29+'2026.9'!AO29 -> 16000 | AR29: =AP29+'2026.9'!AR29 -> 0 | AS29: =AQ29+'2026.9'!AS29 -> 0 | AX29: =AT29+'2026.9'!AX29 -> 0 | AY29: =AU29+'2026.9'!AY29 -> 0 | AZ29: =AV29+'2026.9'!AZ29 -> 0 | BA29: =AW29+'2026.9'!BA29 -> 0
C30: 鹿島 | AD30: =AB30+'2026.9'!AD30 -> 966102 | AE30: =AC30+'2026.9'!AE30 -> 6000.0098 | AH30: =AG30*$AH$5 -> 0 | AJ30: =AI30*$AJ$5 -> 0 | AK30: =AF30+'2026.9'!AK30 -> 2 | AL30: =AG30+'2026.9'!AL30 -> 2 | AM30: =AH30+'2026.9'!AM30 -> 400 | AN30: =AI30+'2026.9'!AN30 -> 89 | AO30: =AJ30+'2026.9'!AO30 -> 35600 | AR30: =AP30+'2026.9'!AR30 -> 0 | AS30: =AQ30+'2026.9'!AS30 -> 0 | AX30: =AT30+'2026.9'!AX30 -> 2 | AY30: =AU30+'2026.9'!AY30 -> 990 | AZ30: =AV30+'2026.9'!AZ30 -> 71 | BA30: =AW30+'2026.9'!BA30 -> 28
C31: 鉾田 | AD31: =AB31+'2026.9'!AD31 -> 1783142 | AE31: =AC31+'2026.9'!AE31 -> 11000.008 | AH31: =AG31*$AH$5 -> 0 | AJ31: =AI31*$AJ$5 -> 0 | AK31: =AF31+'2026.9'!AK31 -> 3 | AL31: =AG31+'2026.9'!AL31 -> 6 | AM31: =AH31+'2026.9'!AM31 -> 1200 | AN31: =AI31+'2026.9'!AN31 -> 99 | AO31: =AJ31+'2026.9'!AO31 -> 39600 | AR31: =AP31+'2026.9'!AR31 -> 0 | AS31: =AQ31+'2026.9'!AS31 -> 0 | AX31: =AT31+'2026.9'!AX31 -> 1 | AY31: =AU31+'2026.9'!AY31 -> 60 | AZ31: =AV31+'2026.9'!AZ31 -> 70 | BA31: =AW31+'2026.9'!BA31 -> 10
C32: 潮来 | AD32: =AB32+'2026.9'!AD32 -> 0 | AE32: =AC32+'2026.9'!AE32 -> 0 | AH32: =AG32*$AH$5 -> 0 | AJ32: =AI32*$AJ$5 -> 0 | AK32: =AF32+'2026.9'!AK32 -> 2 | AL32: =AG32+'2026.9'!AL32 -> 3 | AM32: =AH32+'2026.9'!AM32 -> 600 | AN32: =AI32+'2026.9'!AN32 -> 62 | AO32: =AJ32+'2026.9'!AO32 -> 24800 | AR32: =AP32+'2026.9'!AR32 -> 0 | AS32: =AQ32+'2026.9'!AS32 -> 0 | AX32: =AT32+'2026.9'!AX32 -> 1 | AY32: =AU32+'2026.9'!AY32 -> 480 | AZ32: =AV32+'2026.9'!AZ32 -> 14 | BA32: =AW32+'2026.9'!BA32 -> 16
C33: 神栖 | AD33: =AB33+'2026.9'!AD33 -> 321285 | AE33: =AC33+'2026.9'!AE33 -> 2000.003 | AH33: =AG33*$AH$5 -> 0 | AJ33: =AI33*$AJ$5 -> 0 | AK33: =AF33+'2026.9'!AK33 -> 1 | AL33: =AG33+'2026.9'!AL33 -> 0 | AM33: =AH33+'2026.9'!AM33 -> 0 | AN33: =AI33+'2026.9'!AN33 -> 48 | AO33: =AJ33+'2026.9'!AO33 -> 19200 | AR33: =AP33+'2026.9'!AR33 -> 0 | AS33: =AQ33+'2026.9'!AS33 -> 0 | AX33: =AT33+'2026.9'!AX33 -> 3 | AY33: =AU33+'2026.9'!AY33 -> 460 | AZ33: =AV33+'2026.9'!AZ33 -> 634 | BA33: =AW33+'2026.9'!BA33 -> 27
C34: 行方 | AD34: =AB34+'2026.9'!AD34 -> 0 | AE34: =AC34+'2026.9'!AE34 -> 0 | AH34: =AG34*$AH$5 -> 0 | AJ34: =AI34*$AJ$5 -> 0 | AK34: =AF34+'2026.9'!AK34 -> 1 | AL34: =AG34+'2026.9'!AL34 -> 3 | AM34: =AH34+'2026.9'!AM34 -> 600 | AN34: =AI34+'2026.9'!AN34 -> 40 | AO34: =AJ34+'2026.9'!AO34 -> 16000 | AR34: =AP34+'2026.9'!AR34 -> 1 | AS34: =AQ34+'2026.9'!AS34 -> 0 | AX34: =AT34+'2026.9'!AX34 -> 1 | AY34: =AU34+'2026.9'!AY34 -> 480 | AZ34: =AV34+'2026.9'!AZ34 -> 14 | BA34: =AW34+'2026.9'!BA34 -> 20
A35: R合計 | D35: =SUM(D22:D34) -> 0 | E35: =SUM(E22:E34) -> 0 | F35: =SUM(F22:F34) -> 0 | G35: =SUM(G22:G34) -> 0 | H35: =SUM(H22:H34) -> 0 | I35: =SUM(I22:I34) -> 0 | J35: =SUM(J22:J34) -> 0 | K35: =SUM(K22:K34) -> 0 | ... BA35: =SUM(BA22:BA34) -> 118
A36: 3 | B36: 1 | C36: 石岡 | AD36: =AB36+'2026.9'!AD36 -> 0 | AE36: =AC36+'2026.9'!AE36 -> 0 | AH36: =AG36*$AH$5 -> 0 | AJ36: =AI36*$AJ$5 -> 0 | AK36: =AF36+'2026.9'!AK36 -> 1 | AL36: =AG36+'2026.9'!AL36 -> 4 | AM36: =AH36+'2026.9'!AM36 -> 800 | AN36: =AI36+'2026.9'!AN36 -> 59 | AO36: =AJ36+'2026.9'!AO36 -> 23600 | AR36: =AP36+'2026.9'!AR36 -> 0 | AS36: =AQ36+'2026.9'!AS36 -> 0 | AX36: =AT36+'2026.9'!AX36 -> 1 | AY36: =AU36+'2026.9'!AY36 -> 40 | AZ36: =AV36+'2026.9'!AZ36 -> 93 | BA36: =AW36+'2026.9'!BA36 -> 10
C37: 八郷 | AD37: =AB37+'2026.9'!AD37 -> 0 | AE37: =AC37+'2026.9'!AE37 -> 0 | AH37: =AG37*$AH$5 -> 0 | AJ37: =AI37*$AJ$5 -> 0 | AK37: =AF37+'2026.9'!AK37 -> 0 | AL37: =AG37+'2026.9'!AL37 -> 0 | AM37: =AH37+'2026.9'!AM37 -> 0 | AN37: =AI37+'2026.9'!AN37 -> 0 | AO37: =AJ37+'2026.9'!AO37 -> 0 | AR37: =AP37+'2026.9'!AR37 -> 0 | AS37: =AQ37+'2026.9'!AS37 -> 0 | AX37: =AT37+'2026.9'!AX37 -> 1 | AY37: =AU37+'2026.9'!AY37 -> 60 | AZ37: =AV37+'2026.9'!AZ37 -> 42 | BA37: =AW37+'2026.9'!BA37 -> 5
C38: 岩間 | AD38: =AB38+'2026.9'!AD38 -> 0 | AE38: =AC38+'2026.9'!AE38 -> 0 | AH38: =AG38*$AH$5 -> 0 | AJ38: =AI38*$AJ$5 -> 0 | AK38: =AF38+'2026.9'!AK38 -> 2 | AL38: =AG38+'2026.9'!AL38 -> 0 | AM38: =AH38+'2026.9'!AM38 -> 0 | AN38: =AI38+'2026.9'!AN38 -> 53 | AO38: =AJ38+'2026.9'!AO38 -> 21200 | AR38: =AP38+'2026.9'!AR38 -> 0 | AS38: =AQ38+'2026.9'!AS38 -> 0 | AX38: =AT38+'2026.9'!AX38 -> 0 | AY38: =AU38+'2026.9'!AY38 -> 0 | AZ38: =AV38+'2026.9'!AZ38 -> 0 | BA38: =AW38+'2026.9'!BA38 -> 0
C39: 笠間 | AD39: =AB39+'2026.9'!AD39 -> 0 | AE39: =AC39+'2026.9'!AE39 -> 0 | AH39: =AG39*$AH$5 -> 0 | AJ39: =AI39*$AJ$5 -> 0 | AK39: =AF39+'2026.9'!AK39 -> 0 | AL39: =AG39+'2026.9'!AL39 -> 0 | AM39: =AH39+'2026.9'!AM39 -> 0 | AN39: =AI39+'2026.9'!AN39 -> 0 | AO39: =AJ39+'2026.9'!AO39 -> 0 | AR39: =AP39+'2026.9'!AR39 -> 0 | AS39: =AQ39+'2026.9'!AS39 -> 0 | AX39: =AT39+'2026.9'!AX39 -> 0 | AY39: =AU39+'2026.9'!AY39 -> 0 | AZ39: =AV39+'2026.9'!AZ39 -> 0 | BA39: =AW39+'2026.9'!BA39 -> 0
C40: 美野里 | AD40: =AB40+'2026.9'!AD40 -> 159519 | AE40: =AC40+'2026.9'!AE40 -> 1000.0011 | AH40: =AG40*$AH$5 -> 0 | AJ40: =AI40*$AJ$5 -> 0 | AK40: =AF40+'2026.9'!AK40 -> 1 | AL40: =AG40+'2026.9'!AL40 -> 6 | AM40: =AH40+'2026.9'!AM40 -> 1200 | AN40: =AI40+'2026.9'!AN40 -> 45 | AO40: =AJ40+'2026.9'!AO40 -> 18000 | AR40: =AP40+'2026.9'!AR40 -> 0 | AS40: =AQ40+'2026.9'!AS40 -> 0 | AX40: =AT40+'2026.9'!AX40 -> 0 | AY40: =AU40+'2026.9'!AY40 -> 0 | AZ40: =AV40+'2026.9'!AZ40 -> 0 | BA40: =AW40+'2026.9'!BA40 -> 0
C41: 常陸小川 | AD41: =AB41+'2026.9'!AD41 -> 0 | AE41: =AC41+'2026.9'!AE41 -> 0 | AH41: =AG41*$AH$5 -> 0 | AJ41: =AI41*$AJ$5 -> 0 | AK41: =AF41+'2026.9'!AK41 -> 2 | AL41: =AG41+'2026.9'!AL41 -> 0 | AM41: =AH41+'2026.9'!AM41 -> 0 | AN41: =AI41+'2026.9'!AN41 -> 70 | AO41: =AJ41+'2026.9'!AO41 -> 28000 | AR41: =AP41+'2026.9'!AR41 -> 0 | AS41: =AQ41+'2026.9'!AS41 -> 0 | AX41: =AT41+'2026.9'!AX41 -> 0 | AY41: =AU41+'2026.9'!AY41 -> 0 | AZ41: =AV41+'2026.9'!AZ41 -> 0 | BA41: =AW41+'2026.9'!BA41 -> 0
C42: 内原 | AD42: =AB42+'2026.9'!AD42 -> 63808 | AE42: =AC42+'2026.9'!AE42 -> 400.00294 | AH42: =AG42*$AH$5 -> 0 | AJ42: =AI42*$AJ$5 -> 0 | AK42: =AF42+'2026.9'!AK42 -> 0 | AL42: =AG42+'2026.9'!AL42 -> 0 | AM42: =AH42+'2026.9'!AM42 -> 0 | AN42: =AI42+'2026.9'!AN42 -> 0 | AO42: =AJ42+'2026.9'!AO42 -> 0 | AR42: =AP42+'2026.9'!AR42 -> 0 | AS42: =AQ42+'2026.9'!AS42 -> 0 | AX42: =AT42+'2026.9'!AX42 -> 0 | AY42: =AU42+'2026.9'!AY42 -> 0 | AZ42: =AV42+'2026.9'!AZ42 -> 0 | BA42: =AW42+'2026.9'!BA42 -> 0
C43: 茨城ひぬま | AD43: =AB43+'2026.9'!AD43 -> 0 | AE43: =AC43+'2026.9'!AE43 -> 0 | AH43: =AG43*$AH$5 -> 0 | AJ43: =AI43*$AJ$5 -> 0 | AK43: =AF43+'2026.9'!AK43 -> 0 | AL43: =AG43+'2026.9'!AL43 -> 0 | AM43: =AH43+'2026.9'!AM43 -> 0 | AN43: =AI43+'2026.9'!AN43 -> 0 | AO43: =AJ43+'2026.9'!AO43 -> 0 | AR43: =AP43+'2026.9'!AR43 -> 0 | AS43: =AQ43+'2026.9'!AS43 -> 0 | AX43: =AT43+'2026.9'!AX43 -> 1 | AY43: =AU43+'2026.9'!AY43 -> 50 | AZ43: =AV43+'2026.9'!AZ43 -> 104 | BA43: =AW43+'2026.9'!BA43 -> 2
B44: 2 | C44: 岩瀬 | AD44: =AB44+'2026.9'!AD44 -> 0 | AE44: =AC44+'2026.9'!AE44 -> 0 | AH44: =AG44*$AH$5 -> 0 | AJ44: =AI44*$AJ$5 -> 0 | AK44: =AF44+'2026.9'!AK44 -> 0 | AL44: =AG44+'2026.9'!AL44 -> 0 | AM44: =AH44+'2026.9'!AM44 -> 0 | AN44: =AI44+'2026.9'!AN44 -> 0 | AO44: =AJ44+'2026.9'!AO44 -> 0 | AR44: =AP44+'2026.9'!AR44 -> 0 | AS44: =AQ44+'2026.9'!AS44 -> 0 | AX44: =AT44+'2026.9'!AX44 -> 0 | AY44: =AU44+'2026.9'!AY44 -> 0 | AZ44: =AV44+'2026.9'!AZ44 -> 0 | BA44: =AW44+'2026.9'!BA44 -> 0
C45: 真壁 | AD45: =AB45+'2026.9'!AD45 -> 0 | AE45: =AC45+'2026.9'!AE45 -> 0 | AH45: =AG45*$AH$5 -> 0 | AJ45: =AI45*$AJ$5 -> 0 | AK45: =AF45+'2026.9'!AK45 -> 2 | AL45: =AG45+'2026.9'!AL45 -> 3 | AM45: =AH45+'2026.9'!AM45 -> 600 | AN45: =AI45+'2026.9'!AN45 -> 70 | AO45: =AJ45+'2026.9'!AO45 -> 28000 | AR45: =AP45+'2026.9'!AR45 -> 0 | AS45: =AQ45+'2026.9'!AS45 -> 0 | AX45: =AT45+'2026.9'!AX45 -> 0 | AY45: =AU45+'2026.9'!AY45 -> 0 | AZ45: =AV45+'2026.9'!AZ45 -> 0 | BA45: =AW45+'2026.9'!BA45 -> 0
C46: 常陸大和 | AD46: =AB46+'2026.9'!AD46 -> 0 | AE46: =AC46+'2026.9'!AE46 -> 0 | AH46: =AG46*$AH$5 -> 0 | AJ46: =AI46*$AJ$5 -> 0 | AK46: =AF46+'2026.9'!AK46 -> 1 | AL46: =AG46+'2026.9'!AL46 -> 0 | AM46: =AH46+'2026.9'!AM46 -> 0 | AN46: =AI46+'2026.9'!AN46 -> 7 | AO46: =AJ46+'2026.9'!AO46 -> 2800 | AR46: =AP46+'2026.9'!AR46 -> 0 | AS46: =AQ46+'2026.9'!AS46 -> 0 | AX46: =AT46+'2026.9'!AX46 -> 0 | AY46: =AU46+'2026.9'!AY46 -> 0 | AZ46: =AV46+'2026.9'!AZ46 -> 0 | BA46: =AW46+'2026.9'!BA46 -> 0
C47: 茨城八千代 | AD47: =AB47+'2026.9'!AD47 -> 0 | AE47: =AC47+'2026.9'!AE47 -> 0 | AH47: =AG47*$AH$5 -> 0 | AJ47: =AI47*$AJ$5 -> 0 | AK47: =AF47+'2026.9'!AK47 -> 0 | AL47: =AG47+'2026.9'!AL47 -> 0 | AM47: =AH47+'2026.9'!AM47 -> 0 | AN47: =AI47+'2026.9'!AN47 -> 0 | AO47: =AJ47+'2026.9'!AO47 -> 0 | AR47: =AP47+'2026.9'!AR47 -> 0 | AS47: =AQ47+'2026.9'!AS47 -> 0 | AX47: =AT47+'2026.9'!AX47 -> 1 | AY47: =AU47+'2026.9'!AY47 -> 480 | AZ47: =AV47+'2026.9'!AZ47 -> 31 | BA47: =AW47+'2026.9'!BA47 -> 3
C48: 下館巴 | AD48: =AB48+'2026.9'!AD48 -> 0 | AE48: =AC48+'2026.9'!AE48 -> 0 | AH48: =AG48*$AH$5 -> 0 | AJ48: =AI48*$AJ$5 -> 0 | AK48: =AF48+'2026.9'!AK48 -> 1 | AL48: =AG48+'2026.9'!AL48 -> 7 | AM48: =AH48+'2026.9'!AM48 -> 1400 | AN48: =AI48+'2026.9'!AN48 -> 112 | AO48: =AJ48+'2026.9'!AO48 -> 44800 | AR48: =AP48+'2026.9'!AR48 -> 0 | AS48: =AQ48+'2026.9'!AS48 -> 0 | AX48: =AT48+'2026.9'!AX48 -> 0 | AY48: =AU48+'2026.9'!AY48 -> 0 | AZ48: =AV48+'2026.9'!AZ48 -> 0 | BA48: =AW48+'2026.9'!BA48 -> 0
C49: しもつま | AD49: =AB49+'2026.9'!AD49 -> 0 | AE49: =AC49+'2026.9'!AE49 -> 0 | AH49: =AG49*$AH$5 -> 0 | AJ49: =AI49*$AJ$5 -> 0 | AK49: =AF49+'2026.9'!AK49 -> 1 | AL49: =AG49+'2026.9'!AL49 -> 4 | AM49: =AH49+'2026.9'!AM49 -> 800 | AN49: =AI49+'2026.9'!AN49 -> 53 | AO49: =AJ49+'2026.9'!AO49 -> 21200 | AR49: =AP49+'2026.9'!AR49 -> 0 | AS49: =AQ49+'2026.9'!AS49 -> 0 | AX49: =AT49+'2026.9'!AX49 -> 1 | AY49: =AU49+'2026.9'!AY49 -> 480 | AZ49: =AV49+'2026.9'!AZ49 -> 31 | BA49: =AW49+'2026.9'!BA49 -> 12
C50: 下館シニア | AD50: =AB50+'2026.9'!AD50 -> 0 | AE50: =AC50+'2026.9'!AE50 -> 0 | AH50: =AG50*$AH$5 -> 0 | AJ50: =AI50*$AJ$5 -> 0 | AK50: =AF50+'2026.9'!AK50 -> 0 | AL50: =AG50+'2026.9'!AL50 -> 0 | AM50: =AH50+'2026.9'!AM50 -> 0 | AN50: =AI50+'2026.9'!AN50 -> 0 | AO50: =AJ50+'2026.9'!AO50 -> 0 | AR50: =AP50+'2026.9'!AR50 -> 0 | AS50: =AQ50+'2026.9'!AS50 -> 0 | AX50: =AT50+'2026.9'!AX50 -> 0 | AY50: =AU50+'2026.9'!AY50 -> 0 | AZ50: =AV50+'2026.9'!AZ50 -> 0 | BA50: =AW50+'2026.9'!BA50 -> 0
C51: 筑西 | AD51: =AB51+'2026.9'!AD51 -> 0 | AE51: =AC51+'2026.9'!AE51 -> 0 | AH51: =AG51*$AH$5 -> 0 | AJ51: =AI51*$AJ$5 -> 0 | AK51: =AF51+'2026.9'!AK51 -> 1 | AL51: =AG51+'2026.9'!AL51 -> 2 | AM51: =AH51+'2026.9'!AM51 -> 400 | AN51: =AI51+'2026.9'!AN51 -> 39 | AO51: =AJ51+'2026.9'!AO51 -> 15600 | AR51: =AP51+'2026.9'!AR51 -> 0 | AS51: =AQ51+'2026.9'!AS51 -> 0 | AX51: =AT51+'2026.9'!AX51 -> 0 | AY51: =AU51+'2026.9'!AY51 -> 0 | AZ51: =AV51+'2026.9'!AZ51 -> 0 | BA51: =AW51+'2026.9'!BA51 -> 0
A52: R合計 | D52: =SUM(D36:D51) -> 0 | E52: =SUM(E36:E51) -> 0 | F52: =SUM(F36:F51) -> 0 | G52: =SUM(G36:G51) -> 0 | H52: =SUM(H36:H51) -> 0 | I52: =SUM(I36:I51) -> 0 | J52: =SUM(J36:J51) -> 0 | K52: =SUM(K36:K51) -> 0 | ... AX52: =SUM(AX36:AX51) -> 5 | AY52: =SUM(AY44:AY51) -> 960 | AZ52: =SUM(AZ44:AZ51) -> 62 | BA52: =SUM(BA44:BA51) -> 15
A53: 4 | B53: 1 | C53: 土浦 | AD53: =AB53+'2026.9'!AD53 -> 0 | AE53: =AC53+'2026.9'!AE53 -> 0 | AH53: =AG53*$AH$5 -> 0 | AJ53: =AI53*$AJ$5 -> 0 | AK53: =AF53+'2026.9'!AK53 -> 1 | AL53: =AG53+'2026.9'!AL53 -> 4 | AM53: =AH53+'2026.9'!AM53 -> 800 | AN53: =AI53+'2026.9'!AN53 -> 49 | AO53: =AJ53+'2026.9'!AO53 -> 19600 | AR53: =AP53+'2026.9'!AR53 -> 1 | AS53: =AQ53+'2026.9'!AS53 -> 0 | AX53: =AT53+'2026.9'!AX53 -> 1 | AY53: =AU53+'2026.9'!AY53 -> 45 | AZ53: =AV53+'2026.9'!AZ53 -> 107 | BA53: =AW53+'2026.9'!BA53 -> 8
C54: 土浦亀城 | AD54: =AB54+'2026.9'!AD54 -> 161766 | AE54: =AC54+'2026.9'!AE54 -> 1000.0019 | AH54: =AG54*$AH$5 -> 0 | AJ54: =AI54*$AJ$5 -> 0 | AK54: =AF54+'2026.9'!AK54 -> 2 | AL54: =AG54+'2026.9'!AL54 -> 17 | AM54: =AH54+'2026.9'!AM54 -> 3400 | AN54: =AI54+'2026.9'!AN54 -> 96 | AO54: =AJ54+'2026.9'!AO54 -> 38400 | AR54: =AP54+'2026.9'!AR54 -> 1 | AS54: =AQ54+'2026.9'!AS54 -> 0 | AX54: =AT54+'2026.9'!AX54 -> 0 | AY54: =AU54+'2026.9'!AY54 -> 0 | AZ54: =AV54+'2026.9'!AZ54 -> 0 | BA54: =AW54+'2026.9'!BA54 -> 0
C55: 阿見 | AD55: =AB55+'2026.9'!AD55 -> 323532 | AE55: =AC55+'2026.9'!AE55 -> 2000.0038 | AH55: =AG55*$AH$5 -> 0 | AJ55: =AI55*$AJ$5 -> 0 | AK55: =AF55+'2026.9'!AK55 -> 0 | AL55: =AG55+'2026.9'!AL55 -> 0 | AM55: =AH55+'2026.9'!AM55 -> 0 | AN55: =AI55+'2026.9'!AN55 -> 0 | AO55: =AJ55+'2026.9'!AO55 -> 0 | AR55: =AP55+'2026.9'!AR55 -> 0 | AS55: =AQ55+'2026.9'!AS55 -> 0 | AX55: =AT55+'2026.9'!AX55 -> 0 | AY55: =AU55+'2026.9'!AY55 -> 0 | AZ55: =AV55+'2026.9'!AZ55 -> 0 | BA55: =AW55+'2026.9'!BA55 -> 0
