Workbook

Sheet 2026.7
A1: 46204
A2: R | B2: Z | C2: クラブ名 | D2: 7月 | S2: 会員移動（期首～） | AB2: LCIF寄付 | AD2: 献血（当月） | AI2: 献血（累計） | AN2: 献眼（当月） | AP2: 献眼（累計） | AT2: 薬物乱用防止（当月） | AX2: 例会出席率
D3: 当月 | F3: 当月末 | G3: 内訳 | S3: (2026.6.30) | T3: 入会 | W3: 退会 | Z3: 当月末 | AA3: 増減 | AI3: 件数 | AJ3: 200CC（人） | AK3: 400CC（人） | AL3: 成分（人） | AM3: 数量（CC）
D4: 入会数 | E4: 退会数 | G4: 正会員 | H4: 左記「正会員」数には下記の会員種別人数を含む | N4: 特典会員 | P4: （内）女性会員 | S4: 前期末 | AB4: 当月 | AD4: 件数 | AE4: 200CC | AF4: 数量（CC） | AG4: 400CC | AH4: 数量（CC） | AN4: 登録 | AO4: 提供 | AP4: 登録 | AR4: 提供 | AT4: 回数 | AU4: 活動時間 | AV4: 対象人数 | AW4: メンバー 参加人数
H5: 不在 | I5: 名誉 | J5: 終身 | K5: 優待 | L5: 賛助 | M5: 支部 | N5: 家族会員 | O5: 学生会員 | P5: 正会員 | Q5: 家族会員 | R5: 学生会員 | T5: 転入 | U5: 再入 | V5: 新入 | W5: 転出 | X5: 死亡 | Y5: 退会 | AB5: 金額（円） | AC5: 金額（ドル） | AE5: （人） | AF5: 200 | AG5: （人） | AH5: 400 | AK5: 200 | AM5: 400 | AP5: 会員 | AQ5: 一般 | AR5: 会員 | AS5: 一般 | AU5: （分）
A6: 1 | B6: 1 | C6: 日立 | D6: 0 | E6: 0 | F6: 22 | G6: 15 | H6: 0 | I6: 0 | J6: 1 | K6: 0 | L6: 2 | M6: 0 | N6: 7 | O6: 0 | P6: 3 | Q6: 6 | R6: 0 | S6: 22 | T6: 0 | U6: 0 | V6: 0 | W6: 0 | X6: 0 | Y6: 0 | Z6: 22 | AA6: 0 | AB6: 455890 | AC6: 2818.2119 | AD6: 0 | AE6: 0 | AF6: =AE6*$AF$5 -> 0 | AG6: 0 | AH6: =AG6*$AH$5 -> 0 | AI6: 0 | AJ6: 0 | AK6: 0 | AL6: 0 | AM6: 0 | AN6: 0 | AO6: 0 | AT6: 0 | AU6: 0 | AV6: 0 | AW6: 0 | AX6: 0
C7: 高萩 | D7: 0 | E7: 0 | F7: 25 | G7: 24 | H7: 0 | I7: 0 | J7: 0 | K7: 0 | L7: 0 | M7: 0 | N7: 1 | O7: 0 | P7: 2 | Q7: 1 | R7: 0 | S7: 25 | T7: 0 | U7: 0 | V7: 0 | W7: 0 | X7: 0 | Y7: 0 | Z7: 25 | AA7: 0 | AB7: 0 | AC7: 0 | AD7: 1 | AE7: 3 | AF7: =AE7*$AF$5 -> 600 | AG7: 11 | AH7: =AG7*$AH$5 -> 4400 | AI7: 0 | AJ7: 0 | AK7: 0 | AL7: 0 | AM7: 0 | AN7: 0 | AO7: 0 | AT7: 0 | AU7: 0 | AV7: 0 | AW7: 0 | AX7: 0
C8: 日立中央 | D8: 2 | E8: 0 | F8: 33 | G8: 23 | H8: 0 | I8: 0 | J8: 0 | K8: 0 | L8: 0 | M8: 0 | N8: 10 | O8: 0 | P8: 1 | Q8: 8 | R8: 0 | S8: 31 | T8: 0 | U8: 1 | V8: 1 | W8: 0 | X8: 0 | Y8: 0 | Z8: 33 | AA8: 2 | AB8: 1132362 | AC8: 7000.0133 | AD8: 1 | AE8: 1 | AF8: =AE8*$AF$5 -> 200 | AG8: 61 | AH8: =AG8*$AH$5 -> 24400 | AI8: 0 | AJ8: 0 | AK8: 0 | AL8: 0 | AM8: 0 | AN8: 0 | AO8: 0 | AT8: 1 | AU8: 120 | AV8: 37 | AW8: 2 | AX8: 0
C9: 日立桜 | D9: 1 | E9: 0 | F9: 36 | G9: 27 | H9: 0 | I9: 0 | J9: 1 | K9: 0 | L9: 0 | M9: 0 | N9: 9 | O9: 0 | P9: 0 | Q9: 8 | R9: 0 | S9: 35 | T9: 0 | U9: 0 | V9: 1 | W9: 0 | X9: 0 | Y9: 0 | Z9: 36 | AA9: 1 | AB9: 0 | AC9: 0 | AD9: 1 | AE9: 1 | AF9: =AE9*$AF$5 -> 200 | AG9: 53 | AH9: =AG9*$AH$5 -> 21200 | AI9: 0 | AJ9: 0 | AK9: 0 | AL9: 0 | AM9: 0 | AN9: 0 | AO9: 0 | AT9: 0 | AU9: 0 | AV9: 0 | AW9: 0 | AX9: 0
C10: 日立きらら | D10: 0 | E10: 0 | F10: 33 | G10: 21 | H10: 0 | I10: 0 | J10: 0 | K10: 0 | L10: 0 | M10: 0 | N10: 12 | O10: 0 | P10: 5 | Q10: 10 | R10: 0 | S10: 33 | T10: 0 | U10: 0 | V10: 0 | W10: 0 | X10: 0 | Y10: 0 | Z10: 33 | AA10: 0 | AB10: 0 | AC10: 0 | AD10: 2 | AE10: 0 | AF10: =AE10*$AF$5 -> 0 | AG10: 87 | AH10: =AG10*$AH$5 -> 34800 | AI10: 0 | AJ10: 0 | AK10: 0 | AL10: 0 | AM10: 0 | AN10: 0 | AO10: 0 | AT10: 0 | AU10: 0 | AV10: 0 | AW10: 0 | AX10: 0
C11: 北茨城桜 | D11: 0 | E11: 0 | F11: 19 | G11: 17 | H11: 0 | I11: 0 | J11: 0 | K11: 0 | L11: 0 | M11: 0 | N11: 2 | O11: 0 | P11: 3 | Q11: 2 | R11: 0 | S11: 19 | T11: 0 | U11: 0 | V11: 0 | W11: 0 | X11: 0 | Y11: 0 | Z11: 19 | AA11: 0 | AB11: 0 | AC11: 0 | AD11: 0 | AE11: 0 | AF11: =AE11*$AF$5 -> 0 | AG11: 0 | AH11: =AG11*$AH$5 -> 0 | AI11: 0 | AJ11: 0 | AK11: 0 | AL11: 0 | AM11: 0 | AN11: 0 | AO11: 0 | AT11: 0 | AU11: 0 | AV11: 0 | AW11: 0 | AX11: 0
B12: 2 | C12: 勝田 | D12: 1 | E12: 0 | F12: 57 | G12: 53 | H12: 0 | I12: 0 | J12: 2 | K12: 0 | L12: 1 | M12: 0 | N12: 4 | O12: 0 | P12: 6 | Q12: 3 | R12: 0 | S12: 56 | T12: 0 | U12: 0 | V12: 1 | W12: 0 | X12: 0 | Y12: 0 | Z12: 57 | AA12: 1 | AB12: 0 | AC12: 0 | AD12: 0 | AE12: 0 | AF12: =AE12*$AF$5 -> 0 | AG12: 0 | AH12: =AG12*$AH$5 -> 0 | AI12: 0 | AJ12: 0 | AK12: 0 | AL12: 0 | AM12: 0 | AN12: 0 | AO12: 0 | AT12: 0 | AU12: 0 | AV12: 0 | AW12: 0 | AX12: 0
C13: 那珂湊 | D13: 0 | E13: 0 | F13: 17 | G13: 13 | H13: 0 | I13: 0 | J13: 0 | K13: 0 | L13: 0 | M13: 0 | N13: 4 | O13: 0 | P13: 0 | Q13: 4 | R13: 0 | S13: 17 | T13: 0 | U13: 0 | V13: 0 | W13: 0 | X13: 0 | Y13: 0 | Z13: 17 | AA13: 0 | AB13: 0 | AC13: 0 | AD13: 0 | AE13: 0 | AF13: =AE13*$AF$5 -> 0 | AG13: 0 | AH13: =AG13*$AH$5 -> 0 | AI13: 0 | AJ13: 0 | AK13: 0 | AL13: 0 | AM13: 0 | AN13: 0 | AO13: 0 | AT13: 0 | AU13: 0 | AV13: 0 | AW13: 0 | AX13: 0
C14: 東海 | D14: 2 | E14: 0 | F14: 59 | G14: 59 | H14: 0 | I14: 0 | J14: 2 | K14: 0 | L14: 1 | M14: 0 | N14: 0 | O14: 0 | P14: 9 | Q14: 0 | R14: 0 | S14: 57 | T14: 0 | U14: 0 | V14: 2 | W14: 0 | X14: 0 | Y14: 0 | Z14: 59 | AA14: 2 | AB14: 0 | AC14: 0 | AD14: 1 | AE14: 2 | AF14: =AE14*$AF$5 -> 400 | AG14: 37 | AH14: =AG14*$AH$5 -> 14800 | AI14: 0 | AJ14: 0 | AK14: 0 | AL14: 0 | AM14: 0 | AN14: 0 | AO14: 0 | AT14: 0 | AU14: 0 | AV14: 0 | AW14: 0 | AX14: 0
C15: 勝田グリーン | D15: 0 | E15: 0 | F15: 18 | G15: 17 | H15: 0 | I15: 0 | J15: 0 | K15: 1 | L15: 0 | M15: 0 | N15: 1 | O15: 0 | P15: 1 | Q15: 1 | R15: 0 | S15: 18 | T15: 0 | U15: 0 | V15: 0 | W15: 0 | X15: 0 | Y15: 0 | Z15: 18 | AA15: 0 | AB15: 0 | AC15: 0 | AD15: 1 | AE15: 0 | AF15: =AE15*$AF$5 -> 0 | AG15: 22 | AH15: =AG15*$AH$5 -> 8800 | AI15: 0 | AJ15: 0 | AK15: 0 | AL15: 0 | AM15: 0 | AN15: 0 | AO15: 0 | AT15: 0 | AU15: 0 | AV15: 0 | AW15: 0 | AX15: 0
C16: ひたちなかベスト | D16: 1 | E16: 0 | F16: 43 | G16: 43 | H16: 0 | I16: 0 | J16: 0 | K16: 0 | L16: 0 | M16: 0 | N16: 0 | O16: 0 | P16: 7 | Q16: 0 | R16: 0 | S16: 42 | T16: 0 | U16: 0 | V16: 1 | W16: 0 | X16: 0 | Y16: 0 | Z16: 43 | AA16: 1 | AB16: 0 | AC16: 0 | AD16: 0 | AE16: 0 | AF16: =AE16*$AF$5 -> 0 | AH16: =AG16*$AH$5 -> 0 | AI16: 0 | AJ16: 0 | AK16: 0 | AL16: 0 | AM16: 0 | AN16: 0 | AO16: 0 | AT16: 0 | AU16: 0 | AV16: 0 | AW16: 0 | AX16: 0
B17: 3 | C17: 常陸太田 | D17: 1 | E17: 0 | F17: 46 | G17: 39 | H17: 0 | I17: 0 | J17: 0 | K17: 1 | L17: 6 | M17: 0 | N17: 7 | O17: 0 | P17: 3 | Q17: 4 | R17: 0 | S17: 45 | T17: 0 | U17: 0 | V17: 1 | W17: 0 | X17: 0 | Y17: 0 | Z17: 46 | AA17: 1 | AB17: 0 | AC17: 0 | AD17: 0 | AE17: 0 | AF17: =AE17*$AF$5 -> 0 | AG17: 0 | AH17: =AG17*$AH$5 -> 0 | AI17: 0 | AJ17: 0 | AK17: 0 | AL17: 0 | AM17: 0 | AN17: 0 | AO17: 0 | AT17: 0 | AU17: 0 | AV17: 0 | AW17: 0 | AX17: 0
C18: 常陸大宮 | D18: 0 | E18: 0 | F18: 27 | G18: 26 | H18: 0 | I18: 0 | J18: 0 | K18: 0 | L18: 0 | M18: 0 | N18: 1 | O18: 0 | P18: 2 | Q18: 0 | R18: 0 | S18: 27 | T18: 0 | U18: 0 | V18: 0 | W18: 0 | X18: 0 | Y18: 0 | Z18: 27 | AA18: 0 | AB18: 0 | AC18: 0 | AD18: 2 | AE18: 0 | AF18: =AE18*$AF$5 -> 0 | AG18: 77 | AH18: =AG18*$AH$5 -> 30800 | AI18: 0 | AJ18: 0 | AK18: 0 | AL18: 0 | AM18: 0 | AN18: 0 | AO18: 0 | AT18: 0 | AU18: 0 | AV18: 0 | AW18: 0 | AX18: 0
C19: 那珂 | D19: 0 | E19: 0 | F19: 27 | G19: 23 | H19: 0 | I19: 0 | J19: 0 | K19: 0 | L19: 1 | M19: 5 | N19: 4 | O19: 0 | P19: 4 | Q19: 3 | R19: 0 | S19: 27 | T19: 0 | U19: 0 | V19: 0 | W19: 0 | X19: 0 | Y19: 0 | Z19: 27 | AA19: 0 | AB19: 48530 | AC19: 300.00181 | AD19: 3 | AE19: 1 | AF19: =AE19*$AF$5 -> 200 | AG19: 96 | AH19: =AG19*$AH$5 -> 38400 | AI19: 0 | AJ19: 0 | AK19: 0 | AL19: 0 | AM19: 0 | AN19: 0 | AO19: 0 | AT19: 0 | AU19: 0 | AV19: 0 | AW19: 0 | AX19: 0
C20: 常陸大子 | D20: 0 | E20: 1 | F20: 33 | G20: 31 | H20: 0 | I20: 0 | J20: 0 | K20: 2 | L20: 0 | M20: 0 | N20: 2 | O20: 0 | P20: 0 | Q20: 1 | R20: 0 | S20: 34 | T20: 0 | U20: 0 | V20: 0 | W20: 0 | X20: 0 | Y20: 1 | Z20: 33 | AA20: -1 | AB20: 0 | AC20: 0 | AD20: 0 | AE20: 0 | AF20: =AE20*$AF$5 -> 0 | AG20: 0 | AH20: =AG20*$AH$5 -> 0 | AI20: 0 | AJ20: 0 | AK20: 0 | AL20: 0 | AM20: 0 | AN20: 0 | AO20: 0 | AT20: 0 | AU20: 0 | AV20: 0 | AW20: 0 | AX20: 0
A21: R合計 | D21: =SUM(D6:D20) -> 8 | E21: =SUM(E6:E20) -> 1 | F21: =SUM(F6:F20) -> 495 | G21: =SUM(G6:G20) -> 431 | H21: =SUM(H6:H20) -> 0 | I21: =SUM(I6:I20) -> 0 | J21: =SUM(J6:J20) -> 6 | K21: =SUM(K6:K20) -> 4 | ... AX21: =SUM(AX6:AX20) -> 0
A22: 2 | B22: 1 | C22: 水戸 | D22: 0 | E22: 0 | F22: 59 | G22: 56 | H22: 4 | I22: 0 | J22: 3 | K22: 0 | L22: 0 | M22: 0 | N22: 3 | O22: 0 | P22: 1 | Q22: 2 | R22: 0 | S22: 59 | T22: 0 | U22: 0 | V22: 0 | W22: 0 | X22: 0 | Y22: 0 | Z22: 59 | AA22: 0 | AB22: 647064 | AC22: 4000.0076 | AD22: 1 | AE22: 3 | AF22: =AE22*$AF$5 -> 600 | AG22: 35 | AH22: =AG22*$AH$5 -> 14000 | AI22: 0 | AJ22: 0 | AK22: 0 | AL22: 0 | AM22: 0 | AN22: 0 | AO22: 0 | AT22: 1 | AU22: 50 | AV22: 149 | AW22: 6 | AX22: 0
C23: 水戸葵 | D23: 0 | E23: 0 | F23: 93 | G23: 85 | H23: 0 | I23: 0 | J23: 0 | K23: 0 | L23: 4 | M23: 16 | N23: 8 | O23: 0 | P23: 7 | Q23: 7 | R23: 0 | S23: 93 | T23: 0 | U23: 0 | V23: 0 | W23: 0 | X23: 0 | Y23: 0 | Z23: 93 | AA23: 0 | AB23: 0 | AC23: 0 | AD23: 0 | AE23: 0 | AF23: =AE23*$AF$5 -> 0 | AG23: 0 | AH23: =AG23*$AH$5 -> 0 | AI23: 0 | AJ23: 0 | AK23: 0 | AL23: 0 | AM23: 0 | AN23: 0 | AO23: 0 | AT23: 0 | AU23: 0 | AV23: 0 | AW23: 0 | AX23: 0
C24: 水戸西 | D24: 0 | E24: 0 | F24: 62 | G24: 62 | H24: 0 | I24: 0 | J24: 3 | K24: 0 | L24: 0 | M24: 0 | N24: 0 | O24: 0 | P24: 0 | Q24: 0 | R24: 0 | S24: 62 | T24: 0 | U24: 0 | V24: 0 | W24: 0 | X24: 0 | Y24: 0 | Z24: 62 | AA24: 0 | AB24: 0 | AC24: 0 | AD24: 0 | AE24: 0 | AF24: =AE24*$AF$5 -> 0 | AG24: 0 | AH24: =AG24*$AH$5 -> 0 | AI24: 0 | AJ24: 0 | AK24: 0 | AL24: 0 | AM24: 0 | AN24: 0 | AO24: 0 | AT24: 0 | AU24: 0 | AV24: 0 | AW24: 0 | AX24: 0
C25: 水戸東 | D25: 0 | E25: 1 | F25: 29 | G25: 28 | H25: 1 | I25: 1 | J25: 0 | K25: 4 | L25: 3 | M25: 0 | N25: 1 | O25: 0 | P25: 1 | Q25: 1 | R25: 0 | S25: 30 | T25: 0 | U25: 0 | V25: 0 | W25: 0 | X25: 0 | Y25: 1 | Z25: 29 | AA25: -1 | AB25: 0 | AC25: 0 | AD25: 1 | AE25: 10 | AF25: =AE25*$AF$5 -> 2000 | AG25: 29 | AH25: =AG25*$AH$5 -> 11600 | AI25: 0 | AJ25: 0 | AK25: 0 | AL25: 0 | AM25: 0 | AN25: 0 | AO25: 0 | AT25: 0 | AU25: 0 | AV25: 0 | AW25: 0 | AX25: 0
C26: 水戸南 | D26: 0 | E26: 0 | F26: 23 | G26: 18 | H26: 0 | I26: 0 | J26: 0 | K26: 0 | L26: 0 | M26: 0 | N26: 5 | O26: 0 | P26: 0 | Q26: 4 | R26: 0 | S26: 23 | T26: 0 | U26: 0 | V26: 0 | W26: 0 | X26: 0 | Y26: 0 | Z26: 23 | AA26: 0 | AB26: 0 | AC26: 0 | AD26: 0 | AE26: 0 | AF26: =AE26*$AF$5 -> 0 | AG26: 0 | AH26: =AG26*$AH$5 -> 0 | AI26: 0 | AJ26: 0 | AK26: 0 | AL26: 0 | AM26: 0 | AN26: 0 | AO26: 0 | AT26: 1 | AU26: 60 | AV26: 45 | AW26: 2 | AX26: 0
C27: 水戸北 | D27: 0 | E27: 0 | F27: 19 | G27: 19 | H27: 2 | I27: 0 | J27: 0 | K27: 0 | L27: 4 | M27: 0 | N27: 0 | O27: 0 | P27: 2 | Q27: 0 | R27: 0 | S27: 19 | T27: 0 | U27: 0 | V27: 0 | W27: 0 | X27: 0 | Y27: 0 | Z27: 19 | AA27: 0 | AB27: 0 | AC27: 0 | AD27: 1 | AE27: 21 | AF27: =AE27*$AF$5 -> 4200 | AG27: 21 | AH27: =AG27*$AH$5 -> 8400 | AI27: 0 | AJ27: 0 | AK27: 0 | AL27: 0 | AM27: 0 | AN27: 0 | AO27: 0 | AT27: 0 | AU27: 0 | AV27: 0 | AW27: 0 | AX27: 0
C28: 水戸チアフル | D28: 0 | E28: 0 | F28: 24 | G28: 24 | H28: 0 | I28: 0 | J28: 0 | K28: 0 | L28: 1 | M28: 5 | N28: 0 | O28: 0 | P28: 24 | Q28: 0 | R28: 0 | S28: 24 | T28: 0 | U28: 0 | V28: 0 | W28: 0 | X28: 0 | Y28: 0 | Z28: 24 | AA28: 0 | AB28: 0 | AC28: 0 | AD28: 0 | AE28: 0 | AF28: =AE28*$AF$5 -> 0 | AG28: 0 | AH28: =AG28*$AH$5 -> 0 | AI28: 0 | AJ28: 0 | AK28: 0 | AL28: 0 | AM28: 0 | AN28: 0 | AO28: 0 | AT28: 1 | AU28: 50 | AV28: 252 | AW28: 3 | AX28: 0
B29: 2 | C29: 大洗 | D29: 0 | E29: 0 | F29: 16 | G29: 16 | H29: 0 | I29: 0 | J29: 1 | K29: 0 | L29: 3 | M29: 0 | N29: 0 | O29: 0 | P29: 0 | Q29: 0 | R29: 0 | S29: 16 | T29: 0 | U29: 0 | V29: 0 | W29: 0 | X29: 0 | Y29: 0 | Z29: 16 | AA29: 0 | AB29: 0 | AC29: 0 | AD29: 1 | AE29: 3 | AF29: =AE29*$AF$5 -> 600 | AG29: 20 | AH29: =AG29*$AH$5 -> 8000 | AI29: 0 | AJ29: 0 | AK29: 0 | AL29: 0 | AM29: 0 | AN29: 0 | AO29: 0 | AT29: 0 | AU29: 0 | AV29: 0 | AW29: 0 | AX29: 0
C30: 鹿島 | D30: 2 | E30: 0 | F30: 130 | G30: 82 | H30: 0 | I30: 1 | J30: 0 | K30: 0 | L30: 0 | M30: 0 | N30: 48 | O30: 0 | P30: 9 | Q30: 32 | R30: 0 | S30: 128 | T30: 0 | U30: 0 | V30: 2 | W30: 0 | X30: 0 | Y30: 0 | Z30: 130 | AA30: 2 | AB30: 647064 | AC30: 4000.0076 | AD30: 2 | AE30: 2 | AF30: =AE30*$AF$5 -> 400 | AG30: 89 | AH30: =AG30*$AH$5 -> 35600 | AI30: 0 | AJ30: 0 | AK30: 0 | AL30: 0 | AM30: 0 | AN30: 0 | AO30: 0 | AT30: 0 | AU30: 0 | AV30: 0 | AW30: 0 | AX30: 0
C31: 鉾田 | D31: 0 | E31: 0 | F31: 58 | G31: 47 | H31: 0 | I31: 0 | J31: 3 | K31: 0 | L31: 0 | M31: 0 | N31: 11 | O31: 0 | P31: 8 | Q31: 8 | R31: 0 | S31: 58 | T31: 0 | U31: 0 | V31: 0 | W31: 0 | X31: 0 | Y31: 0 | Z31: 58 | AA31: 0 | AB31: 1132361 | AC31: 7000.0071 | AD31: 1 | AE31: 1 | AF31: =AE31*$AF$5 -> 200 | AG31: 16 | AH31: =AG31*$AH$5 -> 6400 | AI31: 0 | AJ31: 0 | AK31: 0 | AL31: 0 | AM31: 0 | AN31: 0 | AO31: 0 | AT31: 1 | AU31: 60 | AV31: 70 | AW31: 10 | AX31: 0
C32: 潮来 | D32: 1 | E32: 0 | F32: 102 | G32: 85 | H32: 0 | I32: 0 | J32: 0 | K32: 0 | L32: 0 | M32: 0 | N32: 17 | O32: 0 | P32: 8 | Q32: 15 | R32: 0 | S32: 101 | T32: 0 | U32: 0 | V32: 1 | W32: 0 | X32: 0 | Y32: 0 | Z32: 102 | AA32: 1 | AB32: 0 | AC32: 0 | AD32: 1 | AE32: 2 | AF32: =AE32*$AF$5 -> 400 | AG32: 24 | AH32: =AG32*$AH$5 -> 9600 | AI32: 0 | AJ32: 0 | AK32: 0 | AL32: 0 | AM32: 0 | AN32: 0 | AO32: 0 | AT32: 0 | AU32: 0 | AV32: 0 | AW32: 0 | AX32: 0
C33: 神栖 | D33: 2 | E33: 0 | F33: 111 | G33: 95 | H33: 0 | I33: 0 | J33: 0 | K33: 0 | L33: 0 | M33: 0 | N33: 16 | O33: 0 | P33: 11 | Q33: 8 | R33: 0 | S33: 109 | T33: 0 | U33: 0 | V33: 2 | W33: 0 | X33: 0 | Y33: 0 | Z33: 111 | AA33: 2 | AB33: 161766 | AC33: 1000.0019 | AD33: 0 | AE33: 0 | AF33: =AE33*$AF$5 -> 0 | AG33: 0 | AH33: =AG33*$AH$5 -> 0 | AI33: 0 | AJ33: 0 | AK33: 0 | AL33: 0 | AM33: 0 | AN33: 0 | AO33: 0 | AT33: 1 | AU33: 50 | AV33: 54 | AW33: 10 | AX33: 0
C34: 行方 | D34: 1 | E34: 0 | F34: 67 | G34: 55 | H34: 0 | I34: 0 | J34: 0 | K34: 0 | L34: 0 | M34: 0 | N34: 12 | O34: 0 | P34: 0 | Q34: 12 | R34: 0 | S34: 66 | T34: 0 | U34: 0 | V34: 1 | W34: 0 | X34: 0 | Y34: 0 | Z34: 67 | AA34: 1 | AB34: 0 | AC34: 0 | AD34: 0 | AE34: 0 | AF34: =AE34*$AF$5 -> 0 | AG34: 0 | AH34: =AG34*$AH$5 -> 0 | AI34: 0 | AJ34: 0 | AK34: 0 | AL34: 0 | AM34: 0 | AN34: 1 | AO34: 0 | AT34: 0 | AU34: 0 | AV34: 0 | AW34: 0 | AX34: 0
A35: R合計 | D35: =SUM(D22:D34) -> 6 | E35: =SUM(E22:E34) -> 1 | F35: =SUM(F22:F34) -> 793 | G35: =SUM(G22:G34) -> 672 | H35: =SUM(H22:H34) -> 7 | I35: =SUM(I22:I34) -> 2 | J35: =SUM(J22:J34) -> 10 | K35: =SUM(K22:K34) -> 4 | ... AW35: =SUM(AW22:AW34) -> 31
A36: 3 | B36: 1 | C36: 石岡 | D36: 5 | E36: 0 | F36: 42 | G36: 41 | H36: 0 | I36: 0 | J36: 0 | K36: 0 | L36: 0 | M36: 0 | N36: 1 | O36: 0 | P36: 6 | Q36: 1 | R36: 0 | S36: 37 | T36: 0 | U36: 0 | V36: 5 | W36: 0 | X36: 0 | Y36: 0 | Z36: 42 | AA36: 5 | AB36: 0 | AC36: 0 | AD36: 1 | AE36: 4 | AF36: =AE36*$AF$5 -> 800 | AG36: 59 | AH36: =AG36*$AH$5 -> 23600 | AI36: 0 | AJ36: 0 | AK36: 0 | AL36: 0 | AM36: 0 | AN36: 0 | AO36: 0 | AT36: 1 | AU36: 40 | AV36: 93 | AW36: 10 | AX36: 0
C37: 八郷 | D37: 0 | E37: 0 | F37: 16 | G37: 12 | H37: 0 | I37: 0 | J37: 0 | K37: 0 | L37: 0 | M37: 0 | N37: 4 | O37: 0 | P37: 0 | Q37: 4 | R37: 0 | S37: 16 | T37: 0 | U37: 0 | V37: 0 | W37: 0 | X37: 0 | Y37: 0 | Z37: 16 | AA37: 0 | AB37: 0 | AC37: 0 | AD37: 0 | AE37: 0 | AF37: =AE37*$AF$5 -> 0 | AG37: 0 | AH37: =AG37*$AH$5 -> 0 | AI37: 0 | AJ37: 0 | AK37: 0 | AL37: 0 | AM37: 0 | AN37: 0 | AO37: 0 | AT37: 1 | AU37: 60 | AV37: 42 | AW37: 5 | AX37: 0
C38: 岩間 | D38: 0 | E38: 0 | F38: 16 | G38: 16 | H38: 0 | I38: 0 | J38: 0 | K38: 0 | L38: 0 | M38: 0 | N38: 0 | O38: 0 | P38: 0 | Q38: 0 | R38: 0 | S38: 16 | T38: 0 | U38: 0 | V38: 0 | W38: 0 | X38: 0 | Y38: 0 | Z38: 16 | AA38: 0 | AB38: 0 | AC38: 0 | AD38: 0 | AE38: 0 | AF38: =AE38*$AF$5 -> 0 | AG38: 0 | AH38: =AG38*$AH$5 -> 0 | AI38: 0 | AJ38: 0 | AK38: 0 | AL38: 0 | AM38: 0 | AN38: 0 | AO38: 0 | AT38: 0 | AU38: 0 | AV38: 0 | AW38: 0 | AX38: 0
C39: 笠間 | D39: 1 | E39: 0 | F39: 33 | G39: 23 | H39: 0 | I39: 0 | J39: 0 | K39: 0 | L39: 0 | M39: 0 | N39: 10 | O39: 0 | P39: 1 | Q39: 10 | R39: 0 | S39: 32 | T39: 0 | U39: 0 | V39: 1 | W39: 0 | X39: 0 | Y39: 0 | Z39: 33 | AA39: 1 | AB39: 0 | AC39: 0 | AD39: 0 | AE39: 0 | AF39: =AE39*$AF$5 -> 0 | AG39: 0 | AH39: =AG39*$AH$5 -> 0 | AI39: 0 | AJ39: 0 | AK39: 0 | AL39: 0 | AM39: 0 | AN39: 0 | AO39: 0 | AT39: 0 | AU39: 0 | AV39: 0 | AW39: 0 | AX39: 0
C40: 美野里 | D40: 0 | E40: 0 | F40: 17 | G40: 14 | H40: 0 | I40: 0 | J40: 0 | K40: 0 | L40: 0 | M40: 0 | N40: 3 | O40: 0 | P40: 3 | Q40: 3 | R40: 0 | S40: 17 | T40: 0 | U40: 0 | V40: 0 | W40: 0 | X40: 0 | Y40: 0 | Z40: 17 | AA40: 0 | AB40: 0 | AC40: 0 | AD40: 0 | AE40: 0 | AF40: =AE40*$AF$5 -> 0 | AG40: 0 | AH40: =AG40*$AH$5 -> 0 | AI40: 0 | AJ40: 0 | AK40: 0 | AL40: 0 | AM40: 0 | AN40: 0 | AO40: 0 | AT40: 0 | AU40: 0 | AV40: 0 | AW40: 0 | AX40: 0
...

Sheet 2026.8
A1: 46235
A2: R | B2: Z | C2: クラブ名 | D2: 8月 | S2: 会員移動（期首～） | AB2: LCIF寄付 | AD2: LCIF寄付 | AF2: 献血（当月） | AK2: 献血（累計） | AP2: 献眼（当月） | AR2: 献眼（累計） | AT2: 薬物乱用防止（当月） | AX2: 薬物乱用防止（累計）
D3: 当月 | F3: 当月末 | G3: 内訳 | S3: (2026.6.30) | T3: 入会 | W3: 退会 | Z3: 当月末 | AA3: 増減
D4: 入会数 | E4: 退会数 | G4: 正会員 | H4: 左記「正会員」数には下記の会員種別人数を含む | N4: 特典会員 | P4: （内）女性会員 | S4: 前期末 | AB4: 当月 | AD4: 累計 | AF4: 件数 | AG4: 200CC | AH4: 数量（CC） | AI4: 400CC | AJ4: 数量（CC） | AK4: 件数 | AL4: 200CC | AM4: 数量（CC） | AN4: 400CC | AO4: 数量（CC） | AP4: 登録 | AQ4: 提供 | AR4: 登録 | AS4: 提供 | AT4: 回数 | AU4: 活動時間 | AV4: 対象人数 | AW4: メンバー 参加人数 | AX4: 回数 | AY4: 活動時間 | AZ4: 対象人数 | BA4: メンバー 参加人数
H5: 不在 | I5: 名誉 | J5: 終身 | K5: 優待 | L5: 賛助 | M5: 支部 | N5: 家族会員 | O5: 学生会員 | P5: 正会員 | Q5: 家族会員 | R5: 学生会員 | T5: 転入 | U5: 再入 | V5: 新入 | W5: 転出 | X5: 死亡 | Y5: 退会 | AB5: 金額（円） | AC5: 金額（ドル） | AD5: 金額（円） | AE5: 金額（ドル） | AG5: （人） | AH5: 200 | AI5: （人） | AJ5: 400 | AL5: （人） | AM5: 200 | AN5: （人） | AO5: 400 | AU5: （分） | AY5: （分）
A6: 1 | B6: 1 | C6: 日立 | D6: 0 | E6: 0 | F6: 22 | G6: 15 | H6: 0 | I6: 0 | J6: 1 | K6: 0 | L6: 2 | M6: 0 | N6: 7 | O6: 0 | P6: 3 | Q6: 6 | R6: 0 | S6: 22 | T6: 0 | U6: 0 | V6: 0 | W6: 0 | X6: 0 | Y6: 0 | Z6: 22 | AA6: 0 | AB6: 491262 | AC6: 3000.0002 | AD6: =AB6+'2026.7'!AB6 -> 947152 | AE6: =AC6+'2026.7'!AC6 -> 5818.2121 | AF6: 1 | AG6: 0 | AH6: =AG6*$AH$5 -> 0 | AI6: 56 | AJ6: =AI6*$AJ$5 -> 22400 | AK6: =AF6+'2026.7'!AD6 -> 1 | AL6: =AG6+'2026.7'!AE6 -> 0 | AM6: =AH6+'2026.7'!AF6 -> 0 | AN6: =AI6+'2026.7'!AG6 -> 56 | AO6: =AJ6+'2026.7'!AH6 -> 22400 | AP6: 0 | AQ6: 0 | AR6: =AP6+'2026.7'!AN6 -> 0 | AS6: =AQ6+'2026.7'!AO6 -> 0 | AT6: 0 | AU6: 0 | AV6: 0 | AW6: 0 | AX6: =AT6+'2026.7'!AT6 -> 0 | AY6: =AU6+'2026.7'!AU6 -> 0 | AZ6: =AV6+'2026.7'!AV6 -> 0 | BA6: =AW6+'2026.7'!AW6 -> 0
C7: 高萩 | D7: 0 | E7: 0 | F7: 25 | G7: 24 | H7: 0 | I7: 0 | J7: 0 | K7: 0 | L7: 0 | M7: 0 | N7: 1 | O7: 0 | P7: 2 | Q7: 1 | R7: 0 | S7: 25 | T7: 0 | U7: 0 | V7: 0 | W7: 0 | X7: 0 | Y7: 0 | Z7: 25 | AA7: 0 | AB7: 0 | AC7: 0 | AD7: =AB7+'2026.7'!AB7 -> 0 | AE7: =AC7+'2026.7'!AC7 -> 0 | AF7: 0 | AG7: 0 | AH7: =AG7*$AH$5 -> 0 | AI7: 0 | AJ7: =AI7*$AJ$5 -> 0 | AK7: =AF7+'2026.7'!AD7 -> 1 | AL7: =AG7+'2026.7'!AE7 -> 3 | AM7: =AH7+'2026.7'!AF7 -> 600 | AN7: =AI7+'2026.7'!AG7 -> 11 | AO7: =AJ7+'2026.7'!AH7 -> 4400 | AP7: 0 | AQ7: 0 | AR7: =AP7+'2026.7'!AN7 -> 0 | AS7: =AQ7+'2026.7'!AO7 -> 0 | AT7: 0 | AU7: 0 | AV7: 0 | AW7: 0 | AX7: =AT7+'2026.7'!AT7 -> 0 | AY7: =AU7+'2026.7'!AU7 -> 0 | AZ7: =AV7+'2026.7'!AV7 -> 0 | BA7: =AW7+'2026.7'!AW7 -> 0
C8: 日立中央 | D8: 1 | E8: 0 | F8: 34 | G8: 24 | H8: 0 | I8: 0 | J8: 0 | K8: 0 | L8: 0 | M8: 0 | N8: 10 | O8: 0 | P8: 1 | Q8: 8 | R8: 0 | S8: 31 | T8: 0 | U8: 1 | V8: 2 | W8: 0 | X8: 0 | Y8: 0 | Z8: 34 | AA8: 3 | AB8: 393024 | AC8: 2400.0881 | AD8: =AB8+'2026.7'!AB8 -> 1525386 | AE8: =AC8+'2026.7'!AC8 -> 9400.1014 | AF8: 0 | AG8: 0 | AH8: =AG8*$AH$5 -> 0 | AI8: 0 | AJ8: =AI8*$AJ$5 -> 0 | AK8: =AF8+'2026.7'!AD8 -> 1 | AL8: =AG8+'2026.7'!AE8 -> 1 | AM8: =AH8+'2026.7'!AF8 -> 200 | AN8: =AI8+'2026.7'!AG8 -> 61 | AO8: =AJ8+'2026.7'!AH8 -> 24400 | AP8: 0 | AQ8: 0 | AR8: =AP8+'2026.7'!AN8 -> 0 | AS8: =AQ8+'2026.7'!AO8 -> 0 | AT8: 0 | AU8: 0 | AV8: 0 | AW8: 0 | AX8: =AT8+'2026.7'!AT8 -> 1 | AY8: =AU8+'2026.7'!AU8 -> 120 | AZ8: =AV8+'2026.7'!AV8 -> 37 | BA8: =AW8+'2026.7'!AW8 -> 2
C9: 日立桜 | D9: 0 | E9: 0 | F9: 36 | G9: 27 | H9: 0 | I9: 0 | J9: 1 | K9: 0 | L9: 0 | M9: 0 | N9: 9 | O9: 0 | P9: 0 | Q9: 8 | R9: 0 | S9: 35 | T9: 0 | U9: 0 | V9: 1 | W9: 0 | X9: 0 | Y9: 0 | Z9: 36 | AA9: 1 | AB9: 0 | AC9: 0 | AD9: =AB9+'2026.7'!AB9 -> 0 | AE9: =AC9+'2026.7'!AC9 -> 0 | AF9: 1 | AG9: 0 | AH9: =AG9*$AH$5 -> 0 | AI9: 47 | AJ9: =AI9*$AJ$5 -> 18800 | AK9: =AF9+'2026.7'!AD9 -> 2 | AL9: =AG9+'2026.7'!AE9 -> 1 | AM9: =AH9+'2026.7'!AF9 -> 200 | AN9: =AI9+'2026.7'!AG9 -> 100 | AO9: =AJ9+'2026.7'!AH9 -> 40000 | AP9: 0 | AQ9: 0 | AR9: =AP9+'2026.7'!AN9 -> 0 | AS9: =AQ9+'2026.7'!AO9 -> 0 | AT9: 0 | AU9: 0 | AV9: 0 | AW9: 0 | AX9: =AT9+'2026.7'!AT9 -> 0 | AY9: =AU9+'2026.7'!AU9 -> 0 | AZ9: =AV9+'2026.7'!AV9 -> 0 | BA9: =AW9+'2026.7'!AW9 -> 0
C10: 日立きらら | D10: 0 | E10: 0 | F10: 33 | G10: 21 | H10: 0 | I10: 0 | J10: 0 | K10: 0 | L10: 0 | M10: 0 | N10: 12 | O10: 0 | P10: 5 | Q10: 10 | R10: 0 | S10: 33 | T10: 0 | U10: 0 | V10: 0 | W10: 0 | X10: 0 | Y10: 0 | Z10: 33 | AA10: 0 | AB10: 0 | AC10: 0 | AD10: =AB10+'2026.7'!AB10 -> 0 | AE10: =AC10+'2026.7'!AC10 -> 0 | AF10: 1 | AG10: 0 | AH10: =AG10*$AH$5 -> 0 | AI10: 33 | AJ10: =AI10*$AJ$5 -> 13200 | AK10: =AF10+'2026.7'!AD10 -> 3 | AL10: =AG10+'2026.7'!AE10 -> 0 | AM10: =AH10+'2026.7'!AF10 -> 0 | AN10: =AI10+'2026.7'!AG10 -> 120 | AO10: =AJ10+'2026.7'!AH10 -> 48000 | AP10: 0 | AQ10: 0 | AR10: =AP10+'2026.7'!AN10 -> 0 | AS10: =AQ10+'2026.7'!AO10 -> 0 | AT10: 0 | AU10: 0 | AV10: 0 | AW10: 0 | AX10: =AT10+'2026.7'!AT10 -> 0 | AY10: =AU10+'2026.7'!AU10 -> 0 | AZ10: =AV10+'2026.7'!AV10 -> 0 | BA10: =AW10+'2026.7'!AW10 -> 0
C11: 北茨城桜 | D11: 0 | E11: 0 | F11: 19 | G11: 17 | H11: 0 | I11: 0 | J11: 0 | K11: 0 | L11: 0 | M11: 0 | N11: 2 | O11: 0 | P11: 3 | Q11: 2 | R11: 0 | S11: 19 | T11: 0 | U11: 0 | V11: 0 | W11: 0 | X11: 0 | Y11: 0 | Z11: 19 | AA11: 0 | AB11: 0 | AC11: 0 | AD11: =AB11+'2026.7'!AB11 -> 0 | AE11: =AC11+'2026.7'!AC11 -> 0 | AF11: 1 | AG11: 1 | AH11: =AG11*$AH$5 -> 200 | AI11: 46 | AJ11: =AI11*$AJ$5 -> 18400 | AK11: =AF11+'2026.7'!AD11 -> 1 | AL11: =AG11+'2026.7'!AE11 -> 1 | AM11: =AH11+'2026.7'!AF11 -> 200 | AN11: =AI11+'2026.7'!AG11 -> 46 | AO11: =AJ11+'2026.7'!AH11 -> 18400 | AP11: 0 | AQ11: 0 | AR11: =AP11+'2026.7'!AN11 -> 0 | AS11: =AQ11+'2026.7'!AO11 -> 0 | AT11: 0 | AU11: 0 | AV11: 0 | AW11: 0 | AX11: =AT11+'2026.7'!AT11 -> 0 | AY11: =AU11+'2026.7'!AU11 -> 0 | AZ11: =AV11+'2026.7'!AV11 -> 0 | BA11: =AW11+'2026.7'!AW11 -> 0
B12: 2 | C12: 勝田 | D12: 0 | E12: 0 | F12: 57 | G12: 53 | H12: 0 | I12: 0 | J12: 2 | K12: 0 | L12: 1 | M12: 0 | N12: 4 | O12: 0 | P12: 6 | Q12: 3 | R12: 0 | S12: 56 | T12: 0 | U12: 0 | V12: 1 | W12: 0 | X12: 0 | Y12: 0 | Z12: 57 | AA12: 1 | AB12: 0 | AC12: 0 | AD12: =AB12+'2026.7'!AB12 -> 0 | AE12: =AC12+'2026.7'!AC12 -> 0 | AF12: 1 | AG12: 2 | AH12: =AG12*$AH$5 -> 400 | AI12: 56 | AJ12: =AI12*$AJ$5 -> 22400 | AK12: =AF12+'2026.7'!AD12 -> 1 | AL12: =AG12+'2026.7'!AE12 -> 2 | AM12: =AH12+'2026.7'!AF12 -> 400 | AN12: =AI12+'2026.7'!AG12 -> 56 | AO12: =AJ12+'2026.7'!AH12 -> 22400 | AP12: 0 | AQ12: 0 | AR12: =AP12+'2026.7'!AN12 -> 0 | AS12: =AQ12+'2026.7'!AO12 -> 0 | AT12: 0 | AU12: 0 | AV12: 0 | AW12: 0 | AX12: =AT12+'2026.7'!AT12 -> 0 | AY12: =AU12+'2026.7'!AU12 -> 0 | AZ12: =AV12+'2026.7'!AV12 -> 0 | BA12: =AW12+'2026.7'!AW12 -> 0
C13: 那珂湊 | D13: 0 | E13: 0 | F13: 17 | G13: 13 | H13: 0 | I13: 0 | J13: 0 | K13: 0 | L13: 0 | M13: 0 | N13: 4 | O13: 0 | P13: 0 | Q13: 4 | R13: 0 | S13: 17 | T13: 0 | U13: 0 | V13: 0 | W13: 0 | X13: 0 | Y13: 0 | Z13: 17 | AA13: 0 | AB13: 0 | AC13: 0 | AD13: =AB13+'2026.7'!AB13 -> 0 | AE13: =AC13+'2026.7'!AC13 -> 0 | AF13: 1 | AG13: 1 | AH13: =AG13*$AH$5 -> 200 | AI13: 32 | AJ13: =AI13*$AJ$5 -> 12800 | AK13: =AF13+'2026.7'!AD13 -> 1 | AL13: =AG13+'2026.7'!AE13 -> 1 | AM13: =AH13+'2026.7'!AF13 -> 200 | AN13: =AI13+'2026.7'!AG13 -> 32 | AO13: =AJ13+'2026.7'!AH13 -> 12800 | AP13: 0 | AQ13: 0 | AR13: =AP13+'2026.7'!AN13 -> 0 | AS13: =AQ13+'2026.7'!AO13 -> 0 | AT13: 0 | AU13: 0 | AV13: 0 | AW13: 0 | AX13: =AT13+'2026.7'!AT13 -> 0 | AY13: =AU13+'2026.7'!AU13 -> 0 | AZ13: =AV13+'2026.7'!AV13 -> 0 | BA13: =AW13+'2026.7'!AW13 -> 0
C14: 東海 | D14: 2 | E14: 1 | F14: 60 | G14: 60 | H14: 0 | I14: 0 | J14: 2 | K14: 0 | L14: 1 | M14: 0 | N14: 0 | O14: 0 | P14: 10 | Q14: 0 | R14: 0 | S14: 57 | T14: 0 | U14: 0 | V14: 4 | W14: 0 | X14: 0 | Y14: 1 | Z14: 60 | AA14: 3 | AB14: 0 | AC14: 0 | AD14: =AB14+'2026.7'!AB14 -> 0 | AE14: =AC14+'2026.7'!AC14 -> 0 | AF14: 0 | AG14: 0 | AH14: =AG14*$AH$5 -> 0 | AI14: 0 | AJ14: =AI14*$AJ$5 -> 0 | AK14: =AF14+'2026.7'!AD14 -> 1 | AL14: =AG14+'2026.7'!AE14 -> 2 | AM14: =AH14+'2026.7'!AF14 -> 400 | AN14: =AI14+'2026.7'!AG14 -> 37 | AO14: =AJ14+'2026.7'!AH14 -> 14800 | AP14: 0 | AQ14: 0 | AR14: =AP14+'2026.7'!AN14 -> 0 | AS14: =AQ14+'2026.7'!AO14 -> 0 | AT14: 0 | AU14: 0 | AV14: 0 | AW14: 0 | AX14: =AT14+'2026.7'!AT14 -> 0 | AY14: =AU14+'2026.7'!AU14 -> 0 | AZ14: =AV14+'2026.7'!AV14 -> 0 | BA14: =AW14+'2026.7'!AW14 -> 0
C15: 勝田グリーン | D15: 0 | E15: 0 | F15: 18 | G15: 17 | H15: 0 | I15: 0 | J15: 0 | K15: 1 | L15: 0 | M15: 0 | N15: 1 | O15: 0 | P15: 1 | Q15: 1 | R15: 0 | S15: 18 | T15: 0 | U15: 0 | V15: 0 | W15: 0 | X15: 0 | Y15: 0 | Z15: 18 | AA15: 0 | AB15: 0 | AC15: 0 | AD15: =AB15+'2026.7'!AB15 -> 0 | AE15: =AC15+'2026.7'!AC15 -> 0 | AF15: 1 | AG15: 0 | AH15: =AG15*$AH$5 -> 0 | AI15: 49 | AJ15: =AI15*$AJ$5 -> 19600 | AK15: =AF15+'2026.7'!AD15 -> 2 | AL15: =AG15+'2026.7'!AE15 -> 0 | AM15: =AH15+'2026.7'!AF15 -> 0 | AN15: =AI15+'2026.7'!AG15 -> 71 | AO15: =AJ15+'2026.7'!AH15 -> 28400 | AP15: 0 | AQ15: 0 | AR15: =AP15+'2026.7'!AN15 -> 0 | AS15: =AQ15+'2026.7'!AO15 -> 0 | AT15: 0 | AU15: 0 | AV15: 0 | AW15: 0 | AX15: =AT15+'2026.7'!AT15 -> 0 | AY15: =AU15+'2026.7'!AU15 -> 0 | AZ15: =AV15+'2026.7'!AV15 -> 0 | BA15: =AW15+'2026.7'!AW15 -> 0
C16: ひたちなかベスト | D16: 0 | E16: 0 | F16: 43 | G16: 43 | H16: 0 | I16: 0 | J16: 0 | K16: 0 | L16: 0 | M16: 0 | N16: 0 | O16: 0 | P16: 7 | Q16: 0 | R16: 0 | S16: 42 | T16: 0 | U16: 0 | V16: 1 | W16: 0 | X16: 0 | Y16: 0 | Z16: 43 | AA16: 1 | AB16: 0 | AC16: 0 | AD16: =AB16+'2026.7'!AB16 -> 0 | AE16: =AC16+'2026.7'!AC16 -> 0 | AF16: 0 | AG16: 0 | AH16: =AG16*$AH$5 -> 0 | AI16: 0 | AJ16: =AI16*$AJ$5 -> 0 | AK16: =AF16+'2026.7'!AD16 -> 0 | AL16: =AG16+'2026.7'!AE16 -> 0 | AM16: =AH16+'2026.7'!AF16 -> 0 | AN16: =AI16+'2026.7'!AG16 -> 0 | AO16: =AJ16+'2026.7'!AH16 -> 0 | AP16: 0 | AQ16: 0 | AR16: =AP16+'2026.7'!AN16 -> 0 | AS16: =AQ16+'2026.7'!AO16 -> 0 | AT16: 0 | AU16: 0 | AV16: 0 | AW16: 0 | AX16: =AT16+'2026.7'!AT16 -> 0 | AY16: =AU16+'2026.7'!AU16 -> 0 | AZ16: =AV16+'2026.7'!AV16 -> 0 | BA16: =AW16+'2026.7'!AW16 -> 0
B17: 3 | C17: 常陸太田 | D17: 0 | E17: 0 | F17: 46 | G17: 39 | H17: 0 | I17: 0 | J17: 0 | K17: 1 | L17: 6 | M17: 0 | N17: 7 | O17: 0 | P17: 3 | Q17: 4 | R17: 0 | S17: 45 | T17: 0 | U17: 0 | V17: 1 | W17: 0 | X17: 0 | Y17: 0 | Z17: 46 | AA17: 1 | AB17: 0 | AC17: 0 | AD17: =AB17+'2026.7'!AB17 -> 0 | AE17: =AC17+'2026.7'!AC17 -> 0 | AF17: 0 | AG17: 0 | AH17: =AG17*$AH$5 -> 0 | AI17: 0 | AJ17: =AI17*$AJ$5 -> 0 | AK17: =AF17+'2026.7'!AD17 -> 0 | AL17: =AG17+'2026.7'!AE17 -> 0 | AM17: =AH17+'2026.7'!AF17 -> 0 | AN17: =AI17+'2026.7'!AG17 -> 0 | AO17: =AJ17+'2026.7'!AH17 -> 0 | AP17: 0 | AQ17: 0 | AR17: =AP17+'2026.7'!AN17 -> 0 | AS17: =AQ17+'2026.7'!AO17 -> 0 | AT17: 0 | AU17: 0 | AV17: 0 | AW17: 0 | AX17: =AT17+'2026.7'!AT17 -> 0 | AY17: =AU17+'2026.7'!AU17 -> 0 | AZ17: =AV17+'2026.7'!AV17 -> 0 | BA17: =AW17+'2026.7'!AW17 -> 0
C18: 常陸大宮 | D18: 0 | E18: 1 | F18: 26 | G18: 25 | H18: 0 | I18: 0 | J18: 0 | K18: 0 | L18: 0 | M18: 0 | N18: 1 | O18: 0 | P18: 2 | Q18: 0 | R18: 0 | S18: 27 | T18: 0 | U18: 0 | V18: 0 | W18: 0 | X18: 0 | Y18: 1 | Z18: 26 | AA18: -1 | AB18: 0 | AC18: 0 | AD18: =AB18+'2026.7'!AB18 -> 0 | AE18: =AC18+'2026.7'!AC18 -> 0 | AF18: 1 | AG18: 1 | AH18: =AG18*$AH$5 -> 200 | AI18: 44 | AJ18: =AI18*$AJ$5 -> 17600 | AK18: =AF18+'2026.7'!AD18 -> 3 | AL18: =AG18+'2026.7'!AE18 -> 1 | AM18: =AH18+'2026.7'!AF18 -> 200 | AN18: =AI18+'2026.7'!AG18 -> 121 | AO18: =AJ18+'2026.7'!AH18 -> 48400 | AP18: 0 | AQ18: 0 | AR18: =AP18+'2026.7'!AN18 -> 0 | AS18: =AQ18+'2026.7'!AO18 -> 0 | AT18: 0 | AU18: 0 | AV18: 0 | AW18: 0 | AX18: =AT18+'2026.7'!AT18 -> 0 | AY18: =AU18+'2026.7'!AU18 -> 0 | AZ18: =AV18+'2026.7'!AV18 -> 0 | BA18: =AW18+'2026.7'!AW18 -> 0
C19: 那珂 | D19: 0 | E19: 0 | F19: 27 | G19: 23 | H19: 0 | I19: 0 | J19: 0 | K19: 0 | L19: 1 | M19: 5 | N19: 4 | O19: 0 | P19: 4 | Q19: 3 | R19: 0 | S19: 27 | T19: 0 | U19: 0 | V19: 0 | W19: 0 | X19: 0 | Y19: 0 | Z19: 27 | AA19: 0 | AB19: 0 | AC19: 0 | AD19: =AB19+'2026.7'!AB19 -> 48530 | AE19: =AC19+'2026.7'!AC19 -> 300.00181 | AF19: 2 | AG19: 2 | AH19: =AG19*$AH$5 -> 400 | AI19: 46 | AJ19: =AI19*$AJ$5 -> 18400 | AK19: =AF19+'2026.7'!AD19 -> 5 | AL19: =AG19+'2026.7'!AE19 -> 3 | AM19: =AH19+'2026.7'!AF19 -> 600 | AN19: =AI19+'2026.7'!AG19 -> 142 | AO19: =AJ19+'2026.7'!AH19 -> 56800 | AP19: 0 | AQ19: 0 | AR19: =AP19+'2026.7'!AN19 -> 0 | AS19: =AQ19+'2026.7'!AO19 -> 0 | AT19: 0 | AU19: 0 | AV19: 0 | AW19: 0 | AX19: =AT19+'2026.7'!AT19 -> 0 | AY19: =AU19+'2026.7'!AU19 -> 0 | AZ19: =AV19+'2026.7'!AV19 -> 0 | BA19: =AW19+'2026.7'!AW19 -> 0
C20: 常陸大子 | D20: 0 | E20: 0 | F20: 33 | G20: 31 | H20: 0 | I20: 0 | J20: 0 | K20: 2 | L20: 0 | M20: 0 | N20: 2 | O20: 0 | P20: 0 | Q20: 1 | R20: 0 | S20: 34 | T20: 0 | U20: 0 | V20: 0 | W20: 0 | X20: 0 | Y20: 1 | Z20: 33 | AA20: -1 | AB20: 0 | AC20: 0 | AD20: =AB20+'2026.7'!AB20 -> 0 | AE20: =AC20+'2026.7'!AC20 -> 0 | AF20: 0 | AG20: 0 | AH20: =AG20*$AH$5 -> 0 | AI20: 0 | AJ20: =AI20*$AJ$5 -> 0 | AK20: =AF20+'2026.7'!AD20 -> 0 | AL20: =AG20+'2026.7'!AE20 -> 0 | AM20: =AH20+'2026.7'!AF20 -> 0 | AN20: =AI20+'2026.7'!AG20 -> 0 | AO20: =AJ20+'2026.7'!AH20 -> 0 | AP20: 0 | AQ20: 0 | AR20: =AP20+'2026.7'!AN20 -> 0 | AS20: =AQ20+'2026.7'!AO20 -> 0 | AT20: 0 | AU20: 0 | AV20: 0 | AW20: 0 | AX20: =AT20+'2026.7'!AT20 -> 0 | AY20: =AU20+'2026.7'!AU20 -> 0 | AZ20: =AV20+'2026.7'!AV20 -> 0 | BA20: =AW20+'2026.7'!AW20 -> 0
A21: R合計 | D21: =SUM(D6:D20) -> 3 | E21: =SUM(E6:E20) -> 2 | F21: =SUM(F6:F20) -> 496 | G21: =SUM(G6:G20) -> 432 | H21: =SUM(H6:H20) -> 0 | I21: =SUM(I6:I20) -> 0 | J21: =SUM(J6:J20) -> 6 | K21: =SUM(K6:K20) -> 4 | ... BA21: =SUM(BA6:BA20) -> 2
A22: 2 | B22: 1 | C22: 水戸 | D22: 0 | E22: 0 | F22: 59 | G22: 56 | H22: 4 | I22: 0 | J22: 3 | K22: 0 | L22: 0 | M22: 0 | N22: 3 | O22: 0 | P22: 1 | Q22: 2 | R22: 0 | S22: 59 | T22: 0 | U22: 0 | V22: 0 | W22: 0 | X22: 0 | Y22: 0 | Z22: 59 | AA22: 0 | AB22: 0 | AC22: 0 | AD22: =AB22+'2026.7'!AB22 -> 647064 | AE22: =AC22+'2026.7'!AC22 -> 4000.0076 | AF22: 0 | AG22: 0 | AH22: =AG22*$AH$5 -> 0 | AI22: 0 | AJ22: =AI22*$AJ$5 -> 0 | AK22: =AF22+'2026.7'!AD22 -> 1 | AL22: =AG22+'2026.7'!AE22 -> 3 | AM22: =AH22+'2026.7'!AF22 -> 600 | AN22: =AI22+'2026.7'!AG22 -> 35 | AO22: =AJ22+'2026.7'!AH22 -> 14000 | AP22: 0 | AQ22: 0 | AR22: =AP22+'2026.7'!AN22 -> 0 | AS22: =AQ22+'2026.7'!AO22 -> 0 | AT22: 1 | AU22: 420 | AV22: 25 | AW22: 4 | AX22: =AT22+'2026.7'!AT22 -> 2 | AY22: =AU22+'2026.7'!AU22 -> 470 | AZ22: =AV22+'2026.7'!AV22 -> 174 | BA22: =AW22+'2026.7'!AW22 -> 10
C23: 水戸葵 | D23: 0 | E23: 0 | F23: 93 | G23: 85 | H23: 0 | I23: 0 | J23: 0 | K23: 0 | L23: 4 | M23: 16 | N23: 8 | O23: 0 | P23: 7 | Q23: 7 | R23: 0 | S23: 93 | T23: 0 | U23: 0 | V23: 0 | W23: 0 | X23: 0 | Y23: 0 | Z23: 93 | AA23: 0 | AB23: 0 | AC23: 0 | AD23: =AB23+'2026.7'!AB23 -> 0 | AE23: =AC23+'2026.7'!AC23 -> 0 | AF23: 0 | AG23: 0 | AH23: =AG23*$AH$5 -> 0 | AI23: 0 | AJ23: =AI23*$AJ$5 -> 0 | AK23: =AF23+'2026.7'!AD23 -> 0 | AL23: =AG23+'2026.7'!AE23 -> 0 | AM23: =AH23+'2026.7'!AF23 -> 0 | AN23: =AI23+'2026.7'!AG23 -> 0 | AO23: =AJ23+'2026.7'!AH23 -> 0 | AP23: 0 | AQ23: 0 | AR23: =AP23+'2026.7'!AN23 -> 0 | AS23: =AQ23+'2026.7'!AO23 -> 0 | AT23: 0 | AU23: 0 | AV23: 0 | AW23: 0 | AX23: =AT23+'2026.7'!AT23 -> 0 | AY23: =AU23+'2026.7'!AU23 -> 0 | AZ23: =AV23+'2026.7'!AV23 -> 0 | BA23: =AW23+'2026.7'!AW23 -> 0
C24: 水戸西 | D24: 0 | E24: 0 | F24: 62 | G24: 62 | H24: 0 | I24: 0 | J24: 3 | K24: 0 | L24: 0 | M24: 0 | N24: 0 | O24: 0 | P24: 0 | Q24: 0 | R24: 0 | S24: 62 | T24: 0 | U24: 0 | V24: 0 | W24: 0 | X24: 0 | Y24: 0 | Z24: 62 | AA24: 0 | AB24: 0 | AC24: 0 | AD24: =AB24+'2026.7'!AB24 -> 0 | AE24: =AC24+'2026.7'!AC24 -> 0 | AF24: 0 | AG24: 0 | AH24: =AG24*$AH$5 -> 0 | AI24: 0 | AJ24: =AI24*$AJ$5 -> 0 | AK24: =AF24+'2026.7'!AD24 -> 0 | AL24: =AG24+'2026.7'!AE24 -> 0 | AM24: =AH24+'2026.7'!AF24 -> 0 | AN24: =AI24+'2026.7'!AG24 -> 0 | AO24: =AJ24+'2026.7'!AH24 -> 0 | AP24: 0 | AQ24: 0 | AR24: =AP24+'2026.7'!AN24 -> 0 | AS24: =AQ24+'2026.7'!AO24 -> 0 | AT24: 0 | AU24: 0 | AV24: 0 | AW24: 0 | AX24: =AT24+'2026.7'!AT24 -> 0 | AY24: =AU24+'2026.7'!AU24 -> 0 | AZ24: =AV24+'2026.7'!AV24 -> 0 | BA24: =AW24+'2026.7'!AW24 -> 0
C25: 水戸東 | D25: 0 | E25: 0 | F25: 29 | G25: 28 | H25: 1 | I25: 1 | J25: 0 | K25: 4 | L25: 3 | M25: 0 | N25: 1 | O25: 0 | P25: 1 | Q25: 1 | R25: 0 | S25: 30 | T25: 0 | U25: 0 | V25: 0 | W25: 0 | X25: 0 | Y25: 1 | Z25: 29 | AA25: -1 | AB25: 0 | AC25: 0 | AD25: =AB25+'2026.7'!AB25 -> 0 | AE25: =AC25+'2026.7'!AC25 -> 0 | AF25: 0 | AG25: 0 | AH25: =AG25*$AH$5 -> 0 | AI25: 0 | AJ25: =AI25*$AJ$5 -> 0 | AK25: =AF25+'2026.7'!AD25 -> 1 | AL25: =AG25+'2026.7'!AE25 -> 10 | AM25: =AH25+'2026.7'!AF25 -> 2000 | AN25: =AI25+'2026.7'!AG25 -> 29 | AO25: =AJ25+'2026.7'!AH25 -> 11600 | AP25: 0 | AQ25: 0 | AR25: =AP25+'2026.7'!AN25 -> 0 | AS25: =AQ25+'2026.7'!AO25 -> 0 | AT25: 0 | AU25: 0 | AV25: 0 | AW25: 0 | AX25: =AT25+'2026.7'!AT25 -> 0 | AY25: =AU25+'2026.7'!AU25 -> 0 | AZ25: =AV25+'2026.7'!AV25 -> 0 | BA25: =AW25+'2026.7'!AW25 -> 0
C26: 水戸南 | D26: 0 | E26: 0 | F26: 23 | G26: 18 | H26: 0 | I26: 0 | J26: 0 | K26: 0 | L26: 0 | M26: 0 | N26: 5 | O26: 0 | P26: 0 | Q26: 4 | R26: 0 | S26: 23 | T26: 0 | U26: 0 | V26: 0 | W26: 0 | X26: 0 | Y26: 0 | Z26: 23 | AA26: 0 | AB26: 0 | AC26: 0 | AD26: =AB26+'2026.7'!AB26 -> 0 | AE26: =AC26+'2026.7'!AC26 -> 0 | AF26: 0 | AG26: 0 | AH26: =AG26*$AH$5 -> 0 | AI26: 0 | AJ26: =AI26*$AJ$5 -> 0 | AK26: =AF26+'2026.7'!AD26 -> 0 | AL26: =AG26+'2026.7'!AE26 -> 0 | AM26: =AH26+'2026.7'!AF26 -> 0 | AN26: =AI26+'2026.7'!AG26 -> 0 | AO26: =AJ26+'2026.7'!AH26 -> 0 | AP26: 0 | AQ26: 0 | AR26: =AP26+'2026.7'!AN26 -> 0 | AS26: =AQ26+'2026.7'!AO26 -> 0 | AT26: 0 | AU26: 0 | AV26: 0 | AW26: 0 | AX26: =AT26+'2026.7'!AT26 -> 1 | AY26: =AU26+'2026.7'!AU26 -> 60 | AZ26: =AV26+'2026.7'!AV26 -> 45 | BA26: =AW26+'2026.7'!AW26 -> 2
C27: 水戸北 | D27: 0 | E27: 0 | F27: 19 | G27: 19 | H27: 2 | I27: 0 | J27: 0 | K27: 0 | L27: 4 | M27: 0 | N27: 0 | O27: 0 | P27: 2 | Q27: 0 | R27: 0 | S27: 19 | T27: 0 | U27: 0 | V27: 0 | W27: 0 | X27: 0 | Y27: 0 | Z27: 19 | AA27: 0 | AB27: 0 | AC27: 0 | AD27: =AB27+'2026.7'!AB27 -> 0 | AE27: =AC27+'2026.7'!AC27 -> 0 | AF27: 0 | AG27: 0 | AH27: =AG27*$AH$5 -> 0 | AI27: 0 | AJ27: =AI27*$AJ$5 -> 0 | AK27: =AF27+'2026.7'!AD27 -> 1 | AL27: =AG27+'2026.7'!AE27 -> 21 | AM27: =AH27+'2026.7'!AF27 -> 4200 | AN27: =AI27+'2026.7'!AG27 -> 21 | AO27: =AJ27+'2026.7'!AH27 -> 8400 | AP27: 0 | AQ27: 0 | AR27: =AP27+'2026.7'!AN27 -> 0 | AS27: =AQ27+'2026.7'!AO27 -> 0 | AT27: 0 | AU27: 0 | AV27: 0 | AW27: 0 | AX27: =AT27+'2026.7'!AT27 -> 0 | AY27: =AU27+'2026.7'!AU27 -> 0 | AZ27: =AV27+'2026.7'!AV27 -> 0 | BA27: =AW27+'2026.7'!AW27 -> 0
C28: 水戸チアフル | D28: 0 | E28: 0 | F28: 24 | G28: 24 | H28: 0 | I28: 0 | J28: 0 | K28: 0 | L28: 1 | M28: 5 | N28: 0 | O28: 0 | P28: 24 | Q28: 0 | R28: 0 | S28: 24 | T28: 0 | U28: 0 | V28: 0 | W28: 0 | X28: 0 | Y28: 0 | Z28: 24 | AA28: 0 | AB28: 0 | AC28: 0 | AD28: =AB28+'2026.7'!AB28 -> 0 | AE28: =AC28+'2026.7'!AC28 -> 0 | AF28: 0 | AG28: 0 | AH28: =AG28*$AH$5 -> 0 | AI28: 0 | AJ28: =AI28*$AJ$5 -> 0 | AK28: =AF28+'2026.7'!AD28 -> 0 | AL28: =AG28+'2026.7'!AE28 -> 0 | AM28: =AH28+'2026.7'!AF28 -> 0 | AN28: =AI28+'2026.7'!AG28 -> 0 | AO28: =AJ28+'2026.7'!AH28 -> 0 | AP28: 0 | AQ28: 0 | AR28: =AP28+'2026.7'!AN28 -> 0 | AS28: =AQ28+'2026.7'!AO28 -> 0 | AT28: 0 | AU28: 0 | AV28: 0 | AW28: 0 | AX28: =AT28+'2026.7'!AT28 -> 1 | AY28: =AU28+'2026.7'!AU28 -> 50 | AZ28: =AV28+'2026.7'!AV28 -> 252 | BA28: =AW28+'2026.7'!AW28 -> 3
B29: 2 | C29: 大洗 | D29: 0 | E29: 0 | F29: 16 | G29: 16 | H29: 0 | I29: 0 | J29: 1 | K29: 0 | L29: 3 | M29: 0 | N29: 0 | O29: 0 | P29: 0 | Q29: 0 | R29: 0 | S29: 16 | T29: 0 | U29: 0 | V29: 0 | W29: 0 | X29: 0 | Y29: 0 | Z29: 16 | AA29: 0 | AB29: 0 | AC29: 0 | AD29: =AB29+'2026.7'!AB29 -> 0 | AE29: =AC29+'2026.7'!AC29 -> 0 | AF29: 0 | AG29: 0 | AH29: =AG29*$AH$5 -> 0 | AI29: 0 | AJ29: =AI29*$AJ$5 -> 0 | AK29: =AF29+'2026.7'!AD29 -> 1 | AL29: =AG29+'2026.7'!AE29 -> 3 | AM29: =AH29+'2026.7'!AF29 -> 600 | AN29: =AI29+'2026.7'!AG29 -> 20 | AO29: =AJ29+'2026.7'!AH29 -> 8000 | AP29: 0 | AQ29: 0 | AR29: =AP29+'2026.7'!AN29 -> 0 | AS29: =AQ29+'2026.7'!AO29 -> 0 | AT29: 0 | AU29: 0 | AV29: 0 | AW29: 0 | AX29: =AT29+'2026.7'!AT29 -> 0 | AY29: =AU29+'2026.7'!AU29 -> 0 | AZ29: =AV29+'2026.7'!AV29 -> 0 | BA29: =AW29+'2026.7'!AW29 -> 0
C30: 鹿島 | D30: 0 | E30: 0 | F30: 130 | G30: 82 | H30: 0 | I30: 1 | J30: 0 | K30: 0 | L30: 0 | M30: 0 | N30: 48 | O30: 0 | P30: 9 | Q30: 32 | R30: 0 | S30: 128 | T30: 0 | U30: 0 | V30: 2 | W30: 0 | X30: 0 | Y30: 0 | Z30: 130 | AA30: 2 | AB30: 0 | AC30: 0 | AD30: =AB30+'2026.7'!AB30 -> 647064 | AE30: =AC30+'2026.7'!AC30 -> 4000.0076 | AF30: 0 | AG30: 0 | AH30: =AG30*$AH$5 -> 0 | AI30: 0 | AJ30: =AI30*$AJ$5 -> 0 | AK30: =AF30+'2026.7'!AD30 -> 2 | AL30: =AG30+'2026.7'!AE30 -> 2 | AM30: =AH30+'2026.7'!AF30 -> 400 | AN30: =AI30+'2026.7'!AG30 -> 89 | AO30: =AJ30+'2026.7'!AH30 -> 35600 | AP30: 0 | AQ30: 0 | AR30: =AP30+'2026.7'!AN30 -> 0 | AS30: =AQ30+'2026.7'!AO30 -> 0 | AT30: 1 | AU30: 840 | AV30: 30 | AW30: 20 | AX30: =AT30+'2026.7'!AT30 -> 1 | AY30: =AU30+'2026.7'!AU30 -> 840 | AZ30: =AV30+'2026.7'!AV30 -> 30 | BA30: =AW30+'2026.7'!AW30 -> 20
C31: 鉾田 | D31: 0 | E31: 0 | F31: 58 | G31: 47 | H31: 0 | I31: 0 | J31: 3 | K31: 0 | L31: 0 | M31: 0 | N31: 11 | O31: 0 | P31: 8 | Q31: 8 | R31: 0 | S31: 58 | T31: 0 | U31: 0 | V31: 0 | W31: 0 | X31: 0 | Y31: 0 | Z31: 58 | AA31: 0 | AB31: 491262 | AC31: 3000.0002 | AD31: =AB31+'2026.7'!AB31 -> 1623623 | AE31: =AC31+'2026.7'!AC31 -> 10000.007 | AF31: 1 | AG31: 3 | AH31: =AG31*$AH$5 -> 600 | AI31: 60 | AJ31: =AI31*$AJ$5 -> 24000 | AK31: =AF31+'2026.7'!AD31 -> 2 | AL31: =AG31+'2026.7'!AE31 -> 4 | AM31: =AH31+'2026.7'!AF31 -> 800 | AN31: =AI31+'2026.7'!AG31 -> 76 | AO31: =AJ31+'2026.7'!AH31 -> 30400 | AP31: 0 | AQ31: 0 | AR31: =AP31+'2026.7'!AN31 -> 0 | AS31: =AQ31+'2026.7'!AO31 -> 0 | AT31: 0 | AU31: 0 | AV31: 0 | AW31: 0 | AX31: =AT31+'2026.7'!AT31 -> 1 | AY31: =AU31+'2026.7'!AU31 -> 60 | AZ31: =AV31+'2026.7'!AV31 -> 70 | BA31: =AW31+'2026.7'!AW31 -> 10
C32: 潮来 | D32: 0 | E32: 1 | F32: 101 | G32: 84 | H32: 0 | I32: 0 | J32: 0 | K32: 0 | L32: 0 | M32: 0 | N32: 17 | O32: 0 | P32: 8 | Q32: 15 | R32: 0 | S32: 101 | T32: 0 | U32: 0 | V32: 1 | W32: 0 | X32: 1 | Y32: 0 | Z32: 101 | AA32: 0 | AB32: 0 | AC32: 0 | AD32: =AB32+'2026.7'!AB32 -> 0 | AE32: =AC32+'2026.7'!AC32 -> 0 | AF32: 1 | AG32: 1 | AH32: =AG32*$AH$5 -> 200 | AI32: 38 | AJ32: =AI32*$AJ$5 -> 15200 | AK32: =AF32+'2026.7'!AD32 -> 2 | AL32: =AG32+'2026.7'!AE32 -> 3 | AM32: =AH32+'2026.7'!AF32 -> 600 | AN32: =AI32+'2026.7'!AG32 -> 62 | AO32: =AJ32+'2026.7'!AH32 -> 24800 | AP32: 0 | AQ32: 0 | AR32: =AP32+'2026.7'!AN32 -> 0 | AS32: =AQ32+'2026.7'!AO32 -> 0 | AT32: 1 | AU32: 480 | AV32: 14 | AW32: 16 | AX32: =AT32+'2026.7'!AT32 -> 1 | AY32: =AU32+'2026.7'!AU32 -> 480 | AZ32: =AV32+'2026.7'!AV32 -> 14 | BA32: =AW32+'2026.7'!AW32 -> 16
C33: 神栖 | D33: 0 | E33: 0 | F33: 111 | G33: 95 | H33: 0 | I33: 0 | J33: 0 | K33: 0 | L33: 0 | M33: 0 | N33: 16 | O33: 0 | P33: 11 | Q33: 8 | R33: 0 | S33: 109 | T33: 0 | U33: 0 | V33: 2 | W33: 0 | X33: 0 | Y33: 0 | Z33: 111 | AA33: 2 | AB33: 0 | AC33: 0 | AD33: =AB33+'2026.7'!AB33 -> 161766 | AE33: =AC33+'2026.7'!AC33 -> 1000.0019 | AF33: 1 | AG33: 0 | AH33: =AG33*$AH$5 -> 0 | AI33: 48 | AJ33: =AI33*$AJ$5 -> 19200 | AK33: =AF33+'2026.7'!AD33 -> 1 | AL33: =AG33+'2026.7'!AE33 -> 0 | AM33: =AH33+'2026.7'!AF33 -> 0 | AN33: =AI33+'2026.7'!AG33 -> 48 | AO33: =AJ33+'2026.7'!AH33 -> 19200 | AP33: 0 | AQ33: 0 | AR33: =AP33+'2026.7'!AN33 -> 0 | AS33: =AQ33+'2026.7'!AO33 -> 0 | AT33: 1 | AU33: 360 | AV33: 26 | AW33: 8 | AX33: =AT33+'2026.7'!AT33 -> 2 | AY33: =AU33+'2026.7'!AU33 -> 410 | AZ33: =AV33+'2026.7'!AV33 -> 80 | BA33: =AW33+'2026.7'!AW33 -> 18
C34: 行方 | D34: 0 | E34: 0 | F34: 67 | G34: 55 | H34: 0 | I34: 0 | J34: 0 | K34: 0 | L34: 0 | M34: 0 | N34: 12 | O34: 0 | P34: 0 | Q34: 12 | R34: 0 | S34: 66 | T34: 0 | U34: 0 | V34: 1 | W34: 0 | X34: 0 | Y34: 0 | Z34: 67 | AA34: 1 | AB34: 0 | AC34: 0 | AD34: =AB34+'2026.7'!AB34 -> 0 | AE34: =AC34+'2026.7'!AC34 -> 0 | AF34: 1 | AG34: 3 | AH34: =AG34*$AH$5 -> 600 | AI34: 40 | AJ34: =AI34*$AJ$5 -> 16000 | AK34: =AF34+'2026.7'!AD34 -> 1 | AL34: =AG34+'2026.7'!AE34 -> 3 | AM34: =AH34+'2026.7'!AF34 -> 600 | AN34: =AI34+'2026.7'!AG34 -> 40 | AO34: =AJ34+'2026.7'!AH34 -> 16000 | AP34: 0 | AQ34: 0 | AR34: =AP34+'2026.7'!AN34 -> 1 | AS34: =AQ34+'2026.7'!AO34 -> 0 | AT34: 1 | AU34: 480 | AV34: 14 | AW34: 20 | AX34: =AT34+'2026.7'!AT34 -> 1 | AY34: =AU34+'2026.7'!AU34 -> 480 | AZ34: =AV34+'2026.7'!AV34 -> 14 | BA34: =AW34+'2026.7'!AW34 -> 20
A35: R合計 | D35: =SUM(D22:D34) -> 0 | E35: =SUM(E22:E34) -> 1 | F35: =SUM(F22:F34) -> 792 | G35: =SUM(G22:G34) -> 671 | H35: =SUM(H22:H34) -> 7 | I35: =SUM(I22:I34) -> 2 | J35: =SUM(J22:J34) -> 10 | K35: =SUM(K22:K34) -> 4 | ... BA35: =SUM(BA22:BA34) -> 99
A36: 3 | B36: 1 | C36: 石岡 | D36: 0 | E36: 0 | F36: 42 | G36: 41 | H36: 0 | I36: 0 | J36: 0 | K36: 0 | L36: 0 | M36: 0 | N36: 1 | O36: 0 | P36: 6 | Q36: 1 | R36: 0 | S36: 37 | T36: 0 | U36: 0 | V36: 5 | W36: 0 | X36: 0 | Y36: 0 | Z36: 42 | AA36: 5 | AB36: 0 | AC36: 0 | AD36: =AB36+'2026.7'!AB36 -> 0 | AE36: =AC36+'2026.7'!AC36 -> 0 | AF36: 0 | AG36: 0 | AH36: =AG36*$AH$5 -> 0 | AI36: 0 | AJ36: =AI36*$AJ$5 -> 0 | AK36: =AF36+'2026.7'!AD36 -> 1 | AL36: =AG36+'2026.7'!AE36 -> 4 | AM36: =AH36+'2026.7'!AF36 -> 800 | AN36: =AI36+'2026.7'!AG36 -> 59 | AO36: =AJ36+'2026.7'!AH36 -> 23600 | AP36: 0 | AQ36: 0 | AR36: =AP36+'2026.7'!AN36 -> 0 | AS36: =AQ36+'2026.7'!AO36 -> 0 | AT36: 0 | AU36: 0 | AV36: 0 | AW36: 0 | AX36: =AT36+'2026.7'!AT36 -> 1 | AY36: =AU36+'2026.7'!AU36 -> 40 | AZ36: =AV36+'2026.7'!AV36 -> 93 | BA36: =AW36+'2026.7'!AW36 -> 10
C37: 八郷 | D37: 0 | E37: 0 | F37: 16 | G37: 12 | H37: 0 | I37: 0 | J37: 0 | K37: 0 | L37: 0 | M37: 0 | N37: 4 | O37: 0 | P37: 0 | Q37: 4 | R37: 0 | S37: 16 | T37: 0 | U37: 0 | V37: 0 | W37: 0 | X37: 0 | Y37: 0 | Z37: 16 | AA37: 0 | AB37: 0 | AC37: 0 | AD37: =AB37+'2026.7'!AB37 -> 0 | AE37: =AC37+'2026.7'!AC37 -> 0 | AF37: 0 | AG37: 0 | AH37: =AG37*$AH$5 -> 0 | AI37: 0 | AJ37: =AI37*$AJ$5 -> 0 | AK37: =AF37+'2026.7'!AD37 -> 0 | AL37: =AG37+'2026.7'!AE37 -> 0 | AM37: =AH37+'2026.7'!AF37 -> 0 | AN37: =AI37+'2026.7'!AG37 -> 0 | AO37: =AJ37+'2026.7'!AH37 -> 0 | AP37: 0 | AQ37: 0 | AR37: =AP37+'2026.7'!AN37 -> 0 | AS37: =AQ37+'2026.7'!AO37 -> 0 | AT37: 0 | AU37: 0 | AV37: 0 | AW37: 0 | AX37: =AT37+'2026.7'!AT37 -> 1 | AY37: =AU37+'2026.7'!AU37 -> 60 | AZ37: =AV37+'2026.7'!AV37 -> 42 | BA37: =AW37+'2026.7'!AW37 -> 5
C38: 岩間 | D38: 0 | E38: 0 | F38: 16 | G38: 16 | H38: 0 | I38: 0 | J38: 0 | K38: 0 | L38: 0 | M38: 0 | N38: 0 | O38: 0 | P38: 0 | Q38: 0 | R38: 0 | S38: 16 | T38: 0 | U38: 0 | V38: 0 | W38: 0 | X38: 0 | Y38: 0 | Z38: 16 | AA38: 0 | AB38: 0 | AC38: 0 | AD38: =AB38+'2026.7'!AB38 -> 0 | AE38: =AC38+'2026.7'!AC38 -> 0 | AF38: 1 | AG38: 0 | AH38: =AG38*$AH$5 -> 0 | AI38: 29 | AJ38: =AI38*$AJ$5 -> 11600 | AK38: =AF38+'2026.7'!AD38 -> 1 | AL38: =AG38+'2026.7'!AE38 -> 0 | AM38: =AH38+'2026.7'!AF38 -> 0 | AN38: =AI38+'2026.7'!AG38 -> 29 | AO38: =AJ38+'2026.7'!AH38 -> 11600 | AP38: 0 | AQ38: 0 | AR38: =AP38+'2026.7'!AN38 -> 0 | AS38: =AQ38+'2026.7'!AO38 -> 0 | AT38: 0 | AU38: 0 | AV38: 0 | AW38: 0 | AX38: =AT38+'2026.7'!AT38 -> 0 | AY38: =AU38+'2026.7'!AU38 -> 0 | AZ38: =AV38+'2026.7'!AV38 -> 0 | BA38: =AW38+'2026.7'!AW38 -> 0
C39: 笠間 | D39: 0 | E39: 0 | F39: 33 | G39: 23 | H39: 0 | I39: 0 | J39: 0 | K39: 0 | L39: 0 | M39: 0 | N39: 10 | O39: 0 | P39: 1 | Q39: 10 | R39: 0 | S39: 32 | T39: 0 | U39: 0 | V39: 1 | W39: 0 | X39: 0 | Y39: 0 | Z39: 33 | AA39: 1 | AB39: 0 | AC39: 0 | AD39: =AB39+'2026.7'!AB39 -> 0 | AE39: =AC39+'2026.7'!AC39 -> 0 | AF39: 0 | AG39: 0 | AH39: =AG39*$AH$5 -> 0 | AI39: 0 | AJ39: =AI39*$AJ$5 -> 0 | AK39: =AF39+'2026.7'!AD39 -> 0 | AL39: =AG39+'2026.7'!AE39 -> 0 | AM39: =AH39+'2026.7'!AF39 -> 0 | AN39: =AI39+'2026.7'!AG39 -> 0 | AO39: =AJ39+'2026.7'!AH39 -> 0 | AP39: 0 | AQ39: 0 | AR39: =AP39+'2026.7'!AN39 -> 0 | AS39: =AQ39+'2026.7'!AO39 -> 0 | AT39: 0 | AU39: 0 | AV39: 0 | AW39: 0 | AX39: =AT39+'2026.7'!AT39 -> 0 | AY39: =AU39+'2026.7'!AU39 -> 0 | AZ39: =AV39+'2026.7'!AV39 -> 0 | BA39: =AW39+'2026.7'!AW39 -> 0
C40: 美野里 | D40: 0 | E40: 0 | F40: 17 | G40: 14 | H40: 0 | I40: 0 | J40: 0 | K40: 0 | L40: 0 | M40: 0 | N40: 3 | O40: 0 | P40: 3 | Q40: 3 | R40: 0 | S40: 17 | T40: 0 | U40: 0 | V40: 0 | W40: 0 | X40: 0 | Y40: 0 | Z40: 17 | AA40: 0 | AB40: 0 | AC40: 0 | AD40: =AB40+'2026.7'!AB40 -> 0 | AE40: =AC40+'2026.7'!AC40 -> 0 | AF40: 1 | AG40: 6 | AH40: =AG40*$AH$5 -> 1200 | AI40: 45 | AJ40: =AI40*$AJ$5 -> 18000 | AK40: =AF40+'2026.7'!AD40 -> 1 | AL40: =AG40+'2026.7'!AE40 -> 6 | AM40: =AH40+'2026.7'!AF40 -> 1200 | AN40: =AI40+'2026.7'!AG40 -> 45 | AO40: =AJ40+'2026.7'!AH40 -> 18000 | AP40: 0 | AQ40: 0 | AR40: =AP40+'2026.7'!AN40 -> 0 | AS40: =AQ40+'2026.7'!AO40 -> 0 | AT40: 0 | AU40: 0 | AV40: 0 | AW40: 0 | AX40: =AT40+'2026.7'!AT40 -> 0 | AY40: =AU40+'2026.7'!AU40 -> 0 | AZ40: =AV40+'2026.7'!AV40 -> 0 | BA40: =AW40+'2026.7'!AW40 -> 0
...

Sheet 2026.9
A1: 46266
A2: R | B2: Z | C2: クラブ名 | D2: 9月 | S2: 会員移動（期首～） | AB2: LCIF寄付 | AD2: LCIF寄付 | AF2: 献血（当月） | AK2: 献血（累計） | AP2: 献眼（当月） | AR2: 献眼（累計） | AT2: 薬物乱用防止（当月） | AX2: 薬物乱用防止（累計）
D3: 当月 | F3: 当月末 | G3: 内訳 | S3: (2026.6.30) | T3: 入会 | W3: 退会 | Z3: 当月末 | AA3: 増減
D4: 入会数 | E4: 退会数 | G4: 正会員 | H4: 左記「正会員」数には下記の会員種別人数を含む | N4: 特典会員 | P4: （内）女性会員 | S4: 前期末 | AB4: 当月 | AD4: 累計 | AF4: 件数 | AG4: 200CC | AH4: 数量（CC） | AI4: 400CC | AJ4: 数量（CC） | AK4: 件数 | AL4: 200CC | AM4: 数量（CC） | AN4: 400CC | AO4: 数量（CC） | AP4: 登録 | AQ4: 提供 | AR4: 登録 | AS4: 提供 | AT4: 回数 | AU4: 活動時間 | AV4: 対象人数 | AW4: メンバー 参加人数 | AX4: 回数 | AY4: 活動時間 | AZ4: 対象人数 | BA4: メンバー 参加人数
H5: 不在 | I5: 名誉 | J5: 終身 | K5: 優待 | L5: 賛助 | M5: 支部 | N5: 家族会員 | O5: 学生会員 | P5: 正会員 | Q5: 家族会員 | R5: 学生会員 | T5: 転入 | U5: 再入 | V5: 新入 | W5: 転出 | X5: 死亡 | Y5: 退会 | AB5: 金額（円） | AC5: 金額（ドル） | AD5: 金額（円） | AE5: 金額（ドル） | AG5: （人） | AH5: 200 | AI5: （人） | AJ5: 400 | AL5: （人） | AM5: 200 | AN5: （人） | AO5: 400 | AU5: （分） | AY5: （分）
A6: 1 | B6: 1 | C6: 日立 | D6: 0 | E6: 0 | F6: 22 | G6: 15 | H6: 0 | I6: 0 | J6: 1 | K6: 0 | L6: 2 | M6: 0 | N6: 7 | O6: 0 | P6: 3 | Q6: 6 | R6: 0 | S6: 22 | T6: 0 | U6: 0 | V6: 0 | W6: 0 | X6: 0 | Y6: 0 | Z6: 22 | AA6: 0 | AB6: 108000 | AC6: 677.03607 | AD6: =AB6+'2026.8'!AD6 -> 1055152 | AE6: =AC6+'2026.8'!AE6 -> 6495.2482 | AF6: 1 | AG6: 2 | AH6: =AG6*$AH$5 -> 400 | AI6: 41 | AJ6: =AI6*$AJ$5 -> 16400 | AK6: =AF6+'2026.8'!AK6 -> 2 | AL6: =AG6+'2026.8'!AL6 -> 2 | AM6: =AH6+'2026.8'!AM6 -> 400 | AN6: =AI6+'2026.8'!AN6 -> 97 | AO6: =AJ6+'2026.8'!AO6 -> 38800 | AP6: 0 | AQ6: 0 | AR6: =AP6+'2026.8'!AR6 -> 0 | AS6: =AQ6+'2026.8'!AS6 -> 0 | AT6: 0 | AU6: 0 | AV6: 0 | AW6: 0 | AX6: =AT6+'2026.8'!AX6 -> 0 | AY6: =AU6+'2026.8'!AY6 -> 0 | AZ6: =AV6+'2026.8'!AZ6 -> 0 | BA6: =AW6+'2026.8'!BA6 -> 0
C7: 高萩 | D7: 0 | E7: 1 | F7: 24 | G7: 23 | H7: 0 | I7: 0 | J7: 0 | K7: 0 | L7: 0 | M7: 0 | N7: 1 | O7: 0 | P7: 1 | Q7: 1 | R7: 0 | S7: 25 | T7: 0 | U7: 0 | V7: 0 | W7: 0 | X7: 0 | Y7: 1 | Z7: 24 | AA7: -1 | AB7: 0 | AC7: 0 | AD7: =AB7+'2026.8'!AD7 -> 0 | AE7: =AC7+'2026.8'!AE7 -> 0 | AF7: 1 | AG7: 0 | AH7: =AG7*$AH$5 -> 0 | AI7: 37 | AJ7: =AI7*$AJ$5 -> 14800 | AK7: =AF7+'2026.8'!AK7 -> 2 | AL7: =AG7+'2026.8'!AL7 -> 3 | AM7: =AH7+'2026.8'!AM7 -> 600 | AN7: =AI7+'2026.8'!AN7 -> 48 | AO7: =AJ7+'2026.8'!AO7 -> 19200 | AP7: 0 | AQ7: 0 | AR7: =AP7+'2026.8'!AR7 -> 0 | AS7: =AQ7+'2026.8'!AS7 -> 0 | AT7: 0 | AU7: 0 | AV7: 0 | AW7: 0 | AX7: =AT7+'2026.8'!AX7 -> 0 | AY7: =AU7+'2026.8'!AY7 -> 0 | AZ7: =AV7+'2026.8'!AZ7 -> 0 | BA7: =AW7+'2026.8'!BA7 -> 0
C8: 日立中央 | D8: 0 | E8: 0 | F8: 34 | G8: 24 | H8: 0 | I8: 0 | J8: 0 | K8: 0 | L8: 0 | M8: 0 | N8: 10 | O8: 0 | P8: 1 | Q8: 8 | R8: 0 | S8: 31 | T8: 0 | U8: 1 | V8: 2 | W8: 0 | X8: 0 | Y8: 0 | Z8: 34 | AA8: 3 | AB8: 10000 | AC8: 62.688525 | AD8: =AB8+'2026.8'!AD8 -> 1535386 | AE8: =AC8+'2026.8'!AE8 -> 9462.79 | AF8: 1 | AG8: 4 | AH8: =AG8*$AH$5 -> 800 | AI8: 26 | AJ8: =AI8*$AJ$5 -> 10400 | AK8: =AF8+'2026.8'!AK8 -> 2 | AL8: =AG8+'2026.8'!AL8 -> 5 | AM8: =AH8+'2026.8'!AM8 -> 1000 | AN8: =AI8+'2026.8'!AN8 -> 87 | AO8: =AJ8+'2026.8'!AO8 -> 34800 | AP8: 0 | AQ8: 0 | AR8: =AP8+'2026.8'!AR8 -> 0 | AS8: =AQ8+'2026.8'!AS8 -> 0 | AT8: 0 | AU8: 0 | AV8: 0 | AW8: 0 | AX8: =AT8+'2026.8'!AX8 -> 1 | AY8: =AU8+'2026.8'!AY8 -> 120 | AZ8: =AV8+'2026.8'!AZ8 -> 37 | BA8: =AW8+'2026.8'!BA8 -> 2
C9: 日立桜 | D9: 0 | E9: 0 | F9: 36 | G9: 27 | H9: 0 | I9: 0 | J9: 1 | K9: 0 | L9: 0 | M9: 0 | N9: 9 | O9: 0 | P9: 0 | Q9: 8 | R9: 0 | S9: 35 | T9: 0 | U9: 0 | V9: 1 | W9: 0 | X9: 0 | Y9: 0 | Z9: 36 | AA9: 1 | AB9: 0 | AC9: 0 | AD9: =AB9+'2026.8'!AD9 -> 0 | AE9: =AC9+'2026.8'!AE9 -> 0 | AF9: 1 | AG9: 0 | AH9: =AG9*$AH$5 -> 0 | AI9: 50 | AJ9: =AI9*$AJ$5 -> 20000 | AK9: =AF9+'2026.8'!AK9 -> 3 | AL9: =AG9+'2026.8'!AL9 -> 1 | AM9: =AH9+'2026.8'!AM9 -> 200 | AN9: =AI9+'2026.8'!AN9 -> 150 | AO9: =AJ9+'2026.8'!AO9 -> 60000 | AP9: 0 | AQ9: 0 | AR9: =AP9+'2026.8'!AR9 -> 0 | AS9: =AQ9+'2026.8'!AS9 -> 0 | AT9: 0 | AU9: 0 | AV9: 0 | AW9: 0 | AX9: =AT9+'2026.8'!AX9 -> 0 | AY9: =AU9+'2026.8'!AY9 -> 0 | AZ9: =AV9+'2026.8'!AZ9 -> 0 | BA9: =AW9+'2026.8'!BA9 -> 0
C10: 日立きらら | D10: 0 | E10: 0 | F10: 33 | G10: 21 | H10: 0 | I10: 0 | J10: 0 | K10: 0 | L10: 0 | M10: 0 | N10: 12 | O10: 0 | P10: 5 | Q10: 10 | R10: 0 | S10: 33 | T10: 0 | U10: 0 | V10: 0 | W10: 0 | X10: 0 | Y10: 0 | Z10: 33 | AA10: 0 | AB10: 0 | AC10: 0 | AD10: =AB10+'2026.8'!AD10 -> 0 | AE10: =AC10+'2026.8'!AE10 -> 0 | AF10: 0 | AG10: 0 | AH10: =AG10*$AH$5 -> 0 | AI10: 0 | AJ10: =AI10*$AJ$5 -> 0 | AK10: =AF10+'2026.8'!AK10 -> 3 | AL10: =AG10+'2026.8'!AL10 -> 0 | AM10: =AH10+'2026.8'!AM10 -> 0 | AN10: =AI10+'2026.8'!AN10 -> 120 | AO10: =AJ10+'2026.8'!AO10 -> 48000 | AP10: 0 | AQ10: 0 | AR10: =AP10+'2026.8'!AR10 -> 0 | AS10: =AQ10+'2026.8'!AS10 -> 0 | AT10: 1 | AU10: 80 | AV10: 32 | AW10: 5 | AX10: =AT10+'2026.8'!AX10 -> 1 | AY10: =AU10+'2026.8'!AY10 -> 80 | AZ10: =AV10+'2026.8'!AZ10 -> 32 | BA10: =AW10+'2026.8'!BA10 -> 5
C11: 北茨城桜 | D11: 0 | E11: 0 | F11: 19 | G11: 17 | H11: 0 | I11: 0 | J11: 0 | K11: 0 | L11: 0 | M11: 0 | N11: 2 | O11: 0 | P11: 3 | Q11: 2 | R11: 0 | S11: 19 | T11: 0 | U11: 0 | V11: 0 | W11: 0 | X11: 0 | Y11: 0 | Z11: 19 | AA11: 0 | AB11: 54247 | AC11: 340.06644 | AD11: =AB11+'2026.8'!AD11 -> 54247 | AE11: =AC11+'2026.8'!AE11 -> 340.06644 | AF11: 0 | AG11: 0 | AH11: =AG11*$AH$5 -> 0 | AI11: 0 | AJ11: =AI11*$AJ$5 -> 0 | AK11: =AF11+'2026.8'!AK11 -> 1 | AL11: =AG11+'2026.8'!AL11 -> 1 | AM11: =AH11+'2026.8'!AM11 -> 200 | AN11: =AI11+'2026.8'!AN11 -> 46 | AO11: =AJ11+'2026.8'!AO11 -> 18400 | AP11: 0 | AQ11: 0 | AR11: =AP11+'2026.8'!AR11 -> 0 | AS11: =AQ11+'2026.8'!AS11 -> 0 | AT11: 0 | AU11: 0 | AV11: 0 | AW11: 0 | AX11: =AT11+'2026.8'!AX11 -> 0 | AY11: =AU11+'2026.8'!AY11 -> 0 | AZ11: =AV11+'2026.8'!AZ11 -> 0 | BA11: =AW11+'2026.8'!BA11 -> 0
B12: 2 | C12: 勝田 | D12: 0 | E12: 0 | F12: 57 | G12: 53 | H12: 0 | I12: 0 | J12: 2 | K12: 0 | L12: 1 | M12: 0 | N12: 4 | O12: 0 | P12: 6 | Q12: 3 | R12: 0 | S12: 56 | T12: 0 | U12: 0 | V12: 1 | W12: 0 | X12: 0 | Y12: 0 | Z12: 57 | AA12: 1 | AB12: 1605195 | AC12: 10062.731 | AD12: =AB12+'2026.8'!AD12 -> 1605195 | AE12: =AC12+'2026.8'!AE12 -> 10062.731 | AF12: 0 | AG12: 0 | AH12: =AG12*$AH$5 -> 0 | AI12: 0 | AJ12: =AI12*$AJ$5 -> 0 | AK12: =AF12+'2026.8'!AK12 -> 1 | AL12: =AG12+'2026.8'!AL12 -> 2 | AM12: =AH12+'2026.8'!AM12 -> 400 | AN12: =AI12+'2026.8'!AN12 -> 56 | AO12: =AJ12+'2026.8'!AO12 -> 22400 | AP12: 0 | AQ12: 0 | AR12: =AP12+'2026.8'!AR12 -> 0 | AS12: =AQ12+'2026.8'!AS12 -> 0 | AT12: 0 | AU12: 0 | AV12: 0 | AW12: 0 | AX12: =AT12+'2026.8'!AX12 -> 0 | AY12: =AU12+'2026.8'!AY12 -> 0 | AZ12: =AV12+'2026.8'!AZ12 -> 0 | BA12: =AW12+'2026.8'!BA12 -> 0
C13: 那珂湊 | D13: 0 | E13: 0 | F13: 17 | G13: 13 | H13: 0 | I13: 0 | J13: 0 | K13: 0 | L13: 0 | M13: 0 | N13: 4 | O13: 0 | P13: 0 | Q13: 4 | R13: 0 | S13: 17 | T13: 0 | U13: 0 | V13: 0 | W13: 0 | X13: 0 | Y13: 0 | Z13: 17 | AA13: 0 | AB13: 0 | AC13: 0 | AD13: =AB13+'2026.8'!AD13 -> 0 | AE13: =AC13+'2026.8'!AE13 -> 0 | AF13: 0 | AG13: 0 | AH13: =AG13*$AH$5 -> 0 | AI13: 0 | AJ13: =AI13*$AJ$5 -> 0 | AK13: =AF13+'2026.8'!AK13 -> 1 | AL13: =AG13+'2026.8'!AL13 -> 1 | AM13: =AH13+'2026.8'!AM13 -> 200 | AN13: =AI13+'2026.8'!AN13 -> 32 | AO13: =AJ13+'2026.8'!AO13 -> 12800 | AP13: 0 | AQ13: 0 | AR13: =AP13+'2026.8'!AR13 -> 0 | AS13: =AQ13+'2026.8'!AS13 -> 0 | AT13: 0 | AU13: 0 | AV13: 0 | AW13: 0 | AX13: =AT13+'2026.8'!AX13 -> 0 | AY13: =AU13+'2026.8'!AY13 -> 0 | AZ13: =AV13+'2026.8'!AZ13 -> 0 | BA13: =AW13+'2026.8'!BA13 -> 0
C14: 東海 | D14: 0 | E14: 0 | F14: 60 | G14: 60 | H14: 0 | I14: 0 | J14: 2 | K14: 0 | L14: 1 | M14: 0 | N14: 0 | O14: 0 | P14: 10 | Q14: 0 | R14: 0 | S14: 57 | T14: 0 | U14: 0 | V14: 4 | W14: 0 | X14: 0 | Y14: 1 | Z14: 60 | AA14: 3 | AB14: 0 | AC14: 0 | AD14: =AB14+'2026.8'!AD14 -> 0 | AE14: =AC14+'2026.8'!AE14 -> 0 | AF14: 0 | AG14: 0 | AH14: =AG14*$AH$5 -> 0 | AI14: 0 | AJ14: =AI14*$AJ$5 -> 0 | AK14: =AF14+'2026.8'!AK14 -> 1 | AL14: =AG14+'2026.8'!AL14 -> 2 | AM14: =AH14+'2026.8'!AM14 -> 400 | AN14: =AI14+'2026.8'!AN14 -> 37 | AO14: =AJ14+'2026.8'!AO14 -> 14800 | AP14: 0 | AQ14: 0 | AR14: =AP14+'2026.8'!AR14 -> 0 | AS14: =AQ14+'2026.8'!AS14 -> 0 | AT14: 0 | AU14: 0 | AV14: 0 | AW14: 0 | AX14: =AT14+'2026.8'!AX14 -> 0 | AY14: =AU14+'2026.8'!AY14 -> 0 | AZ14: =AV14+'2026.8'!AZ14 -> 0 | BA14: =AW14+'2026.8'!BA14 -> 0
C15: 勝田グリーン | D15: 1 | E15: 0 | F15: 19 | G15: 18 | H15: 0 | I15: 0 | J15: 0 | K15: 1 | L15: 0 | M15: 0 | N15: 1 | O15: 0 | P15: 1 | Q15: 1 | R15: 0 | S15: 18 | T15: 0 | U15: 0 | V15: 1 | W15: 0 | X15: 0 | Y15: 0 | Z15: 19 | AA15: 1 | AB15: 0 | AC15: 0 | AD15: =AB15+'2026.8'!AD15 -> 0 | AE15: =AC15+'2026.8'!AE15 -> 0 | AF15: 1 | AG15: 0 | AH15: =AG15*$AH$5 -> 0 | AI15: 34 | AJ15: =AI15*$AJ$5 -> 13600 | AK15: =AF15+'2026.8'!AK15 -> 3 | AL15: =AG15+'2026.8'!AL15 -> 0 | AM15: =AH15+'2026.8'!AM15 -> 0 | AN15: =AI15+'2026.8'!AN15 -> 105 | AO15: =AJ15+'2026.8'!AO15 -> 42000 | AP15: 0 | AQ15: 0 | AR15: =AP15+'2026.8'!AR15 -> 0 | AS15: =AQ15+'2026.8'!AS15 -> 0 | AT15: 0 | AU15: 0 | AV15: 0 | AW15: 0 | AX15: =AT15+'2026.8'!AX15 -> 0 | AY15: =AU15+'2026.8'!AY15 -> 0 | AZ15: =AV15+'2026.8'!AZ15 -> 0 | BA15: =AW15+'2026.8'!BA15 -> 0
C16: ひたちなかベスト | D16: 0 | E16: 2 | F16: 41 | G16: 41 | H16: 0 | I16: 0 | J16: 0 | K16: 0 | L16: 0 | M16: 0 | N16: 0 | O16: 0 | P16: 7 | Q16: 0 | R16: 0 | S16: 42 | T16: 0 | U16: 0 | V16: 1 | W16: 0 | X16: 0 | Y16: 2 | Z16: 41 | AA16: -1 | AB16: 0 | AC16: 0 | AD16: =AB16+'2026.8'!AD16 -> 0 | AE16: =AC16+'2026.8'!AE16 -> 0 | AF16: 0 | AG16: 0 | AH16: =AG16*$AH$5 -> 0 | AI16: 0 | AJ16: =AI16*$AJ$5 -> 0 | AK16: =AF16+'2026.8'!AK16 -> 0 | AL16: =AG16+'2026.8'!AL16 -> 0 | AM16: =AH16+'2026.8'!AM16 -> 0 | AN16: =AI16+'2026.8'!AN16 -> 0 | AO16: =AJ16+'2026.8'!AO16 -> 0 | AP16: 0 | AQ16: 0 | AR16: =AP16+'2026.8'!AR16 -> 0 | AS16: =AQ16+'2026.8'!AS16 -> 0 | AT16: 0 | AU16: 0 | AV16: 0 | AW16: 0 | AX16: =AT16+'2026.8'!AX16 -> 0 | AY16: =AU16+'2026.8'!AY16 -> 0 | AZ16: =AV16+'2026.8'!AZ16 -> 0 | BA16: =AW16+'2026.8'!BA16 -> 0
B17: 3 | C17: 常陸太田 | D17: 0 | E17: 1 | F17: 45 | G17: 38 | H17: 0 | I17: 0 | J17: 0 | K17: 1 | L17: 5 | M17: 0 | N17: 7 | O17: 0 | P17: 3 | Q17: 4 | R17: 0 | S17: 45 | T17: 0 | U17: 0 | V17: 1 | W17: 0 | X17: 0 | Y17: 1 | Z17: 45 | AA17: 0 | AB17: 0 | AC17: 0 | AD17: =AB17+'2026.8'!AD17 -> 0 | AE17: =AC17+'2026.8'!AE17 -> 0 | AF17: 1 | AG17: 2 | AH17: =AG17*$AH$5 -> 400 | AI17: 35 | AJ17: =AI17*$AJ$5 -> 14000 | AK17: =AF17+'2026.8'!AK17 -> 1 | AL17: =AG17+'2026.8'!AL17 -> 2 | AM17: =AH17+'2026.8'!AM17 -> 400 | AN17: =AI17+'2026.8'!AN17 -> 35 | AO17: =AJ17+'2026.8'!AO17 -> 14000 | AP17: 0 | AQ17: 0 | AR17: =AP17+'2026.8'!AR17 -> 0 | AS17: =AQ17+'2026.8'!AS17 -> 0 | AT17: 0 | AU17: 0 | AV17: 0 | AW17: 0 | AX17: =AT17+'2026.8'!AX17 -> 0 | AY17: =AU17+'2026.8'!AY17 -> 0 | AZ17: =AV17+'2026.8'!AZ17 -> 0 | BA17: =AW17+'2026.8'!BA17 -> 0
C18: 常陸大宮 | D18: 1 | E18: 0 | F18: 27 | G18: 26 | H18: 0 | I18: 0 | J18: 0 | K18: 0 | L18: 0 | M18: 0 | N18: 1 | O18: 0 | P18: 2 | Q18: 0 | R18: 0 | S18: 27 | T18: 0 | U18: 0 | V18: 1 | W18: 0 | X18: 0 | Y18: 1 | Z18: 27 | AA18: 0 | AB18: 0 | AC18: 0 | AD18: =AB18+'2026.8'!AD18 -> 0 | AE18: =AC18+'2026.8'!AE18 -> 0 | AF18: 3 | AG18: 5 | AH18: =AG18*$AH$5 -> 1000 | AI18: 161 | AJ18: =AI18*$AJ$5 -> 64400 | AK18: =AF18+'2026.8'!AK18 -> 6 | AL18: =AG18+'2026.8'!AL18 -> 6 | AM18: =AH18+'2026.8'!AM18 -> 1200 | AN18: =AI18+'2026.8'!AN18 -> 282 | AO18: =AJ18+'2026.8'!AO18 -> 112800 | AP18: 0 | AQ18: 0 | AR18: =AP18+'2026.8'!AR18 -> 0 | AS18: =AQ18+'2026.8'!AS18 -> 0 | AT18: 0 | AU18: 0 | AV18: 0 | AW18: 0 | AX18: =AT18+'2026.8'!AX18 -> 0 | AY18: =AU18+'2026.8'!AY18 -> 0 | AZ18: =AV18+'2026.8'!AZ18 -> 0 | BA18: =AW18+'2026.8'!BA18 -> 0
C19: 那珂 | D19: 0 | E19: 0 | F19: 27 | G19: 23 | H19: 0 | I19: 0 | J19: 0 | K19: 0 | L19: 1 | M19: 5 | N19: 4 | O19: 0 | P19: 4 | Q19: 3 | R19: 0 | S19: 27 | T19: 0 | U19: 0 | V19: 0 | W19: 0 | X19: 0 | Y19: 0 | Z19: 27 | AA19: 0 | AB19: 0 | AC19: 0 | AD19: =AB19+'2026.8'!AD19 -> 48530 | AE19: =AC19+'2026.8'!AE19 -> 300.00181 | AF19: 1 | AG19: 3 | AH19: =AG19*$AH$5 -> 600 | AI19: 26 | AJ19: =AI19*$AJ$5 -> 10400 | AK19: =AF19+'2026.8'!AK19 -> 6 | AL19: =AG19+'2026.8'!AL19 -> 6 | AM19: =AH19+'2026.8'!AM19 -> 1200 | AN19: =AI19+'2026.8'!AN19 -> 168 | AO19: =AJ19+'2026.8'!AO19 -> 67200 | AP19: 0 | AQ19: 0 | AR19: =AP19+'2026.8'!AR19 -> 0 | AS19: =AQ19+'2026.8'!AS19 -> 0 | AT19: 0 | AU19: 0 | AV19: 0 | AW19: 0 | AX19: =AT19+'2026.8'!AX19 -> 0 | AY19: =AU19+'2026.8'!AY19 -> 0 | AZ19: =AV19+'2026.8'!AZ19 -> 0 | BA19: =AW19+'2026.8'!BA19 -> 0
C20: 常陸大子 | D20: 0 | E20: 0 | F20: 33 | G20: 31 | H20: 0 | I20: 0 | J20: 0 | K20: 2 | L20: 0 | M20: 0 | N20: 2 | O20: 0 | P20: 0 | Q20: 1 | R20: 0 | S20: 34 | T20: 0 | U20: 0 | V20: 0 | W20: 0 | X20: 0 | Y20: 1 | Z20: 33 | AA20: -1 | AB20: 0 | AC20: 0 | AD20: =AB20+'2026.8'!AD20 -> 0 | AE20: =AC20+'2026.8'!AE20 -> 0 | AF20: 0 | AG20: 0 | AH20: =AG20*$AH$5 -> 0 | AI20: 0 | AJ20: =AI20*$AJ$5 -> 0 | AK20: =AF20+'2026.8'!AK20 -> 0 | AL20: =AG20+'2026.8'!AL20 -> 0 | AM20: =AH20+'2026.8'!AM20 -> 0 | AN20: =AI20+'2026.8'!AN20 -> 0 | AO20: =AJ20+'2026.8'!AO20 -> 0 | AP20: 0 | AQ20: 0 | AR20: =AP20+'2026.8'!AR20 -> 0 | AS20: =AQ20+'2026.8'!AS20 -> 0 | AT20: 0 | AU20: 0 | AV20: 0 | AW20: 0 | AX20: =AT20+'2026.8'!AX20 -> 0 | AY20: =AU20+'2026.8'!AY20 -> 0 | AZ20: =AV20+'2026.8'!AZ20 -> 0 | BA20: =AW20+'2026.8'!BA20 -> 0
A21: R合計 | D21: =SUM(D6:D20) -> 2 | E21: =SUM(E6:E20) -> 4 | F21: =SUM(F6:F20) -> 494 | G21: =SUM(G6:G20) -> 430 | H21: =SUM(H6:H20) -> 0 | I21: =SUM(I6:I20) -> 0 | J21: =SUM(J6:J20) -> 6 | K21: =SUM(K6:K20) -> 4 | ... BA21: =SUM(BA6:BA20) -> 7
A22: 2 | B22: 1 | C22: 水戸 | D22: 1 | E22: 0 | F22: 60 | G22: 57 | H22: 4 | I22: 0 | J22: 3 | K22: 0 | L22: 0 | M22: 0 | N22: 3 | O22: 0 | P22: 1 | Q22: 2 | R22: 0 | S22: 59 | T22: 0 | U22: 0 | V22: 1 | W22: 0 | X22: 0 | Y22: 0 | Z22: 60 | AA22: 1 | AB22: 10000 | AC22: 62.688525 | AD22: =AB22+'2026.8'!AD22 -> 657064 | AE22: =AC22+'2026.8'!AE22 -> 4062.6961 | AF22: 1 | AG22: 36 | AH22: =AG22*$AH$5 -> 7200 | AI22: 13 | AJ22: =AI22*$AJ$5 -> 5200 | AK22: =AF22+'2026.8'!AK22 -> 2 | AL22: =AG22+'2026.8'!AL22 -> 39 | AM22: =AH22+'2026.8'!AM22 -> 7800 | AN22: =AI22+'2026.8'!AN22 -> 48 | AO22: =AJ22+'2026.8'!AO22 -> 19200 | AP22: 0 | AQ22: 0 | AR22: =AP22+'2026.8'!AR22 -> 0 | AS22: =AQ22+'2026.8'!AS22 -> 0 | AT22: 0 | AU22: 0 | AV22: 0 | AW22: 0 | AX22: =AT22+'2026.8'!AX22 -> 2 | AY22: =AU22+'2026.8'!AY22 -> 470 | AZ22: =AV22+'2026.8'!AZ22 -> 174 | BA22: =AW22+'2026.8'!BA22 -> 10
